BEGIN:VCALENDAR
VERSION:2.0
PRODID:-//NBB | Nachbarschaftszentrum Brüser Berg - ECPv6.15.20//NONSGML v1.0//EN
CALSCALE:GREGORIAN
METHOD:PUBLISH
X-WR-CALNAME:NBB | Nachbarschaftszentrum Brüser Berg
X-ORIGINAL-URL:https://www.nachbarschaftszentrum.info
X-WR-CALDESC:Veranstaltungen für NBB | Nachbarschaftszentrum Brüser Berg
REFRESH-INTERVAL;VALUE=DURATION:PT1H
X-Robots-Tag:noindex
X-PUBLISHED-TTL:PT1H
BEGIN:VTIMEZONE
TZID:Europe/Berlin
BEGIN:DAYLIGHT
TZOFFSETFROM:+0100
TZOFFSETTO:+0200
TZNAME:CEST
DTSTART:20240331T010000
END:DAYLIGHT
BEGIN:STANDARD
TZOFFSETFROM:+0200
TZOFFSETTO:+0100
TZNAME:CET
DTSTART:20241027T010000
END:STANDARD
BEGIN:DAYLIGHT
TZOFFSETFROM:+0100
TZOFFSETTO:+0200
TZNAME:CEST
DTSTART:20250330T010000
END:DAYLIGHT
BEGIN:STANDARD
TZOFFSETFROM:+0200
TZOFFSETTO:+0100
TZNAME:CET
DTSTART:20251026T010000
END:STANDARD
BEGIN:DAYLIGHT
TZOFFSETFROM:+0100
TZOFFSETTO:+0200
TZNAME:CEST
DTSTART:20260329T010000
END:DAYLIGHT
BEGIN:STANDARD
TZOFFSETFROM:+0200
TZOFFSETTO:+0100
TZNAME:CET
DTSTART:20261025T010000
END:STANDARD
END:VTIMEZONE
BEGIN:VEVENT
DTSTART;TZID=Europe/Berlin:20250901T113000
DTEND;TZID=Europe/Berlin:20250901T130000
DTSTAMP:20260423T120123
CREATED:20250604T090837Z
LAST-MODIFIED:20250604T090922Z
UID:10028304-1756726200-1756731600@www.nachbarschaftszentrum.info
SUMMARY:Konversations- und Sprachtraining für Deutschlernende – Niveau A2-B1
DESCRIPTION:„Übung macht den Meister“ – frei nach diesem Motto wollen wir gemeinsam Deutsch sprechen\, lesen und kurze Grammatikübungen machen\, um bereits vorhandene Deutschkenntnisse zu festigen\, zu vertiefen und auszubauen. Die Teilnehmenden bringen bitte Stift und Schreibblock mit. \nAnmeldung: NBB
URL:https://www.nachbarschaftszentrum.info/event/konversations-und-sprachtraining-fuer-deutschlernende-niveau-a2-b1-4/2025-09-01/
CATEGORIES:Bildung und Wissen
END:VEVENT
BEGIN:VEVENT
DTSTART;TZID=Europe/Berlin:20250901T140000
DTEND;TZID=Europe/Berlin:20250901T153000
DTSTAMP:20260423T120123
CREATED:20250604T134314Z
LAST-MODIFIED:20250604T134314Z
UID:10028411-1756735200-1756740600@www.nachbarschaftszentrum.info
SUMMARY:Sprachgruppe Persisch und Dari
DESCRIPTION:Sie möchten Persisch und Dari lernen oder Ihre Kenntnisse verbessern? Dann kommen Sie zu unserer neuen Sprachgruppe im NBB. Ob Anfänger:in oder Fortgeschrittene: Alle sind willkommen. Unsere Referentin wird Sie mit Ihrer Begeisterung anstecken.
URL:https://www.nachbarschaftszentrum.info/event/sprachgruppe-persisch-und-dari/2025-09-01/
CATEGORIES:Bildung und Wissen
END:VEVENT
BEGIN:VEVENT
DTSTART;TZID=Europe/Berlin:20250901T143000
DTEND;TZID=Europe/Berlin:20250901T173000
DTSTAMP:20260423T120123
CREATED:20241211T073509Z
LAST-MODIFIED:20241211T073509Z
UID:10001212-1756737000-1756747800@www.nachbarschaftszentrum.info
SUMMARY:Bridge
DESCRIPTION:Anfänger:innen und Fortgeschrittene willkommen. \nTermine:       Klaus Heuschötter \ndonnerstags\,      14:30 – 18:00 Uhr \nRuth Mohr \nmontags\,            14:30 – 17:30 Uhr \nKosten:         2€
URL:https://www.nachbarschaftszentrum.info/event/bridge-3/2025-09-01/
CATEGORIES:Miteinander und Mitwirken
END:VEVENT
BEGIN:VEVENT
DTSTART;TZID=Europe/Berlin:20250901T150000
DTEND;TZID=Europe/Berlin:20250901T164500
DTSTAMP:20260423T120123
CREATED:20250709T160429Z
LAST-MODIFIED:20250709T160905Z
UID:10029154-1756738800-1756745100@www.nachbarschaftszentrum.info
SUMMARY:Stricken und Häkeln für Jung und Alt
DESCRIPTION:Möchten Sie in unserem Treff stricken und häkeln lernen? Für sich\, Ihre Familie oder Freunde und Bekannte? Dann sind Sie willkommen! Bitte bringen Sie Wolle (Reste) und Nadeln mit! \nTermine Rosmarie Strahl \nmontags\, 15:00 – 16:45 Uhr \nAnmeldung: Nachbarschaftszentrum (NBB)
URL:https://www.nachbarschaftszentrum.info/event/stricken-und-haekeln-fuer-jung-und-alt/2025-09-01/
CATEGORIES:Miteinander und Mitwirken
END:VEVENT
BEGIN:VEVENT
DTSTART;TZID=Europe/Berlin:20250901T180000
DTEND;TZID=Europe/Berlin:20250901T210000
DTSTAMP:20260423T120123
CREATED:20240312T113740Z
LAST-MODIFIED:20240702T130627Z
UID:10000809-1756749600-1756760400@www.nachbarschaftszentrum.info
SUMMARY:Skat – endlich mal wieder miteinander Skat spielen
DESCRIPTION:Anfänger:innen mit und ohne Vorkenntnisse und Fortgeschrittene sind herzlich willkommen! Die Regeln werden gerne erklärt! \nJanos Mayer und Klaus Wege \nmontags\,        18:00 – 21:00 Uhr \nTermine:       jeden 1. und 3. Montag im Monat \nKosten:         keine \nAnmeldung: Nachbarschaftszentrum (NBB)
URL:https://www.nachbarschaftszentrum.info/event/skat-endlich-mal-wieder-miteinander-skat-spielen-5/2025-09-01/
CATEGORIES:Miteinander und Mitwirken
END:VEVENT
BEGIN:VEVENT
DTSTART;TZID=Europe/Berlin:20250902T100000
DTEND;TZID=Europe/Berlin:20250902T110000
DTSTAMP:20260423T120123
CREATED:20250604T132920Z
LAST-MODIFIED:20250730T140007Z
UID:10029934-1756807200-1756810800@www.nachbarschaftszentrum.info
SUMMARY:Rückenschule (ab dem 50 Lj.)
DESCRIPTION:Der Kurs bietet die Möglichkeit\, durch altersgerechte Übungen gesund und beweglich zu bleiben. Ein spezielles Bewegungsangebot zur Kräftigung\, Dehnung der Muskulatur sowie zur Erhaltung der geistigen Flexibilität.\nStefania Battellini; Sportwissenschaftlerin M.A. und Bewegungstherapeutin \nKosten:	150\,00 €		10 Termine\nAnmeldung:	stefaniabat@netcologne.de/0160 98207200
URL:https://www.nachbarschaftszentrum.info/event/rueckenschule-ab-dem-50-lj-3/2025-09-02/
CATEGORIES:Bewegung und Entspannung
END:VEVENT
BEGIN:VEVENT
DTSTART;TZID=Europe/Berlin:20250902T111500
DTEND;TZID=Europe/Berlin:20250902T121500
DTSTAMP:20260423T120123
CREATED:20250604T133038Z
LAST-MODIFIED:20250730T135957Z
UID:10029944-1756811700-1756815300@www.nachbarschaftszentrum.info
SUMMARY:Rückenschule (ab dem 50 Lj.)
DESCRIPTION:Der Kurs bietet die Möglichkeit\, durch altersgerechte Übungen gesund und beweglich zu bleiben. Ein spezielles Bewegungsangebot zur Kräftigung\, Dehnung der Muskulatur sowie zur Erhaltung der geistigen Flexibilität.\nStefania Battellini; Sportwissenschaftlerin M.A. und Bewegungstherapeutin \nKosten:	150\,00 €		10 Termine\nAnmeldung:	stefaniabat@netcologne.de/0160 98207200
URL:https://www.nachbarschaftszentrum.info/event/rueckenschule-ab-dem-50-lj-4/2025-09-02/
CATEGORIES:Bewegung und Entspannung
END:VEVENT
BEGIN:VEVENT
DTSTART;TZID=Europe/Berlin:20250902T133000
DTEND;TZID=Europe/Berlin:20250902T150000
DTSTAMP:20260423T120123
CREATED:20250604T092653Z
LAST-MODIFIED:20250604T132554Z
UID:10028336-1756819800-1756825200@www.nachbarschaftszentrum.info
SUMMARY:Smartphone & Tablet verstehen und anwenden
DESCRIPTION:Sie haben Fragen zum Umgang mit Ihrem Handy oder Tablet? Oder Sie möchten mehr wissen über Nutzungsmöglichkeiten der Digitalisierung? Egal ob Anfänger:in oder mit Vorkenntnissen\, hier sind Sie richtig.  \nDer Kurs ist in folgende drei Blöcke aufgeteilt:\n1.	Grundlagen: Bedienung\, Telefonieren & Kontakte\n2.	Nutzung\n3.	Spezielle Funktionen & Sonderthemen\nUm Ihr eigenes Gerät besser verstehen und an den Kursübungen teilnehmen zu können\, ist das Mitbringen eines fertig eingerichteten Gerätes erforderlich. \nAnmeldung: NBB
URL:https://www.nachbarschaftszentrum.info/event/smartphonetablet-verstehen-und-anwenden/2025-09-02/
CATEGORIES:Bildung und Wissen
END:VEVENT
BEGIN:VEVENT
DTSTART;TZID=Europe/Berlin:20250902T151500
DTEND;TZID=Europe/Berlin:20250902T164500
DTSTAMP:20260423T120123
CREATED:20250709T160746Z
LAST-MODIFIED:20250709T160746Z
UID:10029415-1756826100-1756831500@www.nachbarschaftszentrum.info
SUMMARY:Stricken und Häkeln für Jung und Alt
DESCRIPTION:Möchten Sie in unserem Treff stricken und häkeln lernen? Für sich\, Ihre Familie oder Freunde und Bekannte? Dann sind Sie willkommen! Bitte bringen Sie Wolle (Reste) und Nadeln mit! \nChristiane Frede \ndienstags\,          15:15 – 16:45 Uhr \nKosten:         keine \nAnmeldung: Nachbarschaftszentrum (NBB)
URL:https://www.nachbarschaftszentrum.info/event/stricken-und-haekeln-fuer-jung-und-alt-2/2025-09-02/
CATEGORIES:Miteinander und Mitwirken
END:VEVENT
BEGIN:VEVENT
DTSTART;TZID=Europe/Berlin:20250902T170000
DTEND;TZID=Europe/Berlin:20250902T181500
DTSTAMP:20260423T120123
CREATED:20250604T091857Z
LAST-MODIFIED:20250604T092025Z
UID:10028309-1756832400-1756836900@www.nachbarschaftszentrum.info
SUMMARY:Malen mit Aquarellfarben - für Anfänger:innen
DESCRIPTION:Lust auf Farbe? Lust darauf\, zu entdecken wie vielfältig und farbenfroh Aquarellfarbe sein kann? In diesem Kurs lernen Sie in kompakten und gut strukturierten Einheiten die grundlegenden Techniken wie Nass in Nass\, Lavieren und Lasieren kennen. Dazu gibt es hilfreiche Tipps zum Farben mischen und eine ausführliche Materialkunde zu Farbe\, Pinsel und Papier. \nAnmeldung: Anja Renner 0178 / 611 69 93\, anjarennerdesign@web.de\nKosten: 98 € inklusive Materialen
URL:https://www.nachbarschaftszentrum.info/event/malen-mit-aquarellfarben-fuer-anfaengerinnen/2025-09-02/
CATEGORIES:Kunst und Kultur
END:VEVENT
BEGIN:VEVENT
DTSTART;TZID=Europe/Berlin:20250902T183000
DTEND;TZID=Europe/Berlin:20250902T203000
DTSTAMP:20260423T120123
CREATED:20250604T092424Z
LAST-MODIFIED:20250604T092424Z
UID:10028318-1756837800-1756845000@www.nachbarschaftszentrum.info
SUMMARY:Malen mit Aquarellfarben
DESCRIPTION:Wir werden in diesem Kurs vorhandene Grundkenntnisse auffrischen und vertiefen. Dabei werden wir auch Aquarellstifte und verschiedene Hilfsmaterialien wie z.B. Rubbelkrepp nutzen\, um zu einer möglichst eigenständigen Bildgestaltung zu gelangen.  \nAnmeldung: Anja Renner 0178 / 611 69 93\, anjarennerdesign@web.de\nKosten: 136 € inklusive Materialen
URL:https://www.nachbarschaftszentrum.info/event/malen-mit-aquarellfarben-5/2025-09-02/
CATEGORIES:Kunst und Kultur
END:VEVENT
BEGIN:VEVENT
DTSTART;TZID=Europe/Berlin:20250903T124500
DTEND;TZID=Europe/Berlin:20250903T133000
DTSTAMP:20260423T120123
CREATED:20240621T141803Z
LAST-MODIFIED:20240621T141950Z
UID:10000340-1756903500-1756906200@www.nachbarschaftszentrum.info
SUMMARY:Mittagstisch - Unser ehrenamtliches Team kocht für Sie
DESCRIPTION:In netter Nachbarschaft leckeres Essen genießen – freuen Sie sich einmal wöchentlich auf wechselnde kulinarische High-lights. Unser ehrenamtliches Kochteam kocht mit Freude für Sie. Kommen Sie vorbei und lassen Sie sich kulinarisch ver-wöhnen! Die Menüpläne hängen im NBB aus.\nKosten: siehe Menüplan\nAnmeldung: bis jeweils montags vorher im NBB erforderlich!
URL:https://www.nachbarschaftszentrum.info/event/mittagstisch-unser-ehrenamtliches-team-kocht-fuer-sie-4/2025-09-03/
CATEGORIES:Gemeinsam genießen
END:VEVENT
BEGIN:VEVENT
DTSTART;TZID=Europe/Berlin:20250903T150000
DTEND;TZID=Europe/Berlin:20250903T180000
DTSTAMP:20260423T120123
CREATED:20240312T114532Z
LAST-MODIFIED:20240918T110631Z
UID:10001295-1756911600-1756922400@www.nachbarschaftszentrum.info
SUMMARY:Offener Spielenachmittag
DESCRIPTION:Wir laden alle ein\, die gerne spielen\, einfach mal vorbeizuschauen und mitzuspielen. Wir entscheiden bei jedem Treffen neu\, welche Spiele wir an dem Abend spielen möchten. \nMarie–Luise Ratje und Ruth Mohr \nmittwochs\,     15:00 – 18:00 Uhr \nTermine:       jeden 1. und 3. Mittwoch im Monat \nAnmeldung: bis jeweils dienstags vorher im NBB erforderlich!
URL:https://www.nachbarschaftszentrum.info/event/offener-spielenachmittag-2/2025-09-03/
CATEGORIES:Miteinander und Mitwirken
END:VEVENT
BEGIN:VEVENT
DTSTART;TZID=Europe/Berlin:20250903T190000
DTEND;TZID=Europe/Berlin:20250903T210000
DTSTAMP:20260423T120123
CREATED:20240312T115457Z
LAST-MODIFIED:20240625T102358Z
UID:10000019-1756926000-1756933200@www.nachbarschaftszentrum.info
SUMMARY:Treffen des Schiffsmodellbau Clubs Bonn
DESCRIPTION:Der Schiffmodellclub Bonn e.V. (kurz SMC-Bonn) trifft sich einmal im Monat im Nachbarschaftszentrum Brüser Berg zum Clubabend. Dort werden die Aktivitäten des Vereins geplant und es wird auch viel über den Schiffmodellbau gefachsimpelt. Neue Mitglieder und auch Gäste sind dem Verein jederzeit herzlich willkommen. \nPeter Ziegler
URL:https://www.nachbarschaftszentrum.info/event/treffen-des-schiffsmodellbau-clubs-bonn-2/2025-09-03/
CATEGORIES:Miteinander und Mitwirken
END:VEVENT
BEGIN:VEVENT
DTSTART;TZID=Europe/Berlin:20250903T190000
DTEND;TZID=Europe/Berlin:20250903T210000
DTSTAMP:20260423T120123
CREATED:20250311T105741Z
LAST-MODIFIED:20250311T105741Z
UID:10002907-1756926000-1756933200@www.nachbarschaftszentrum.info
SUMMARY:Treffen des Schiffsmodellbau Clubs Bonn
DESCRIPTION:Der Schiffmodellclub Bonn e.V. (kurz SMC-Bonn) trifft sich einmal im Monat im Nachbarschaftszentrum Brüser Berg zum Clubabend. Dort werden die Aktivitäten des Vereins geplant und es wird auch viel über den Schiffmodellbau gefachsimpelt. Neue Mitglieder und auch Gäste sind dem Verein jederzeit herzlich willkommen. \nPeter Ziegler \nAnmeldung: Nachbarschaftszentrum (NBB)
URL:https://www.nachbarschaftszentrum.info/event/treffen-des-schiffsmodellbau-clubs-bonn-3/2025-09-03/
CATEGORIES:Miteinander und Mitwirken
END:VEVENT
BEGIN:VEVENT
DTSTART;TZID=Europe/Berlin:20250904T100000
DTEND;TZID=Europe/Berlin:20250904T113000
DTSTAMP:20260423T120123
CREATED:20240312T105949Z
LAST-MODIFIED:20250610T100841Z
UID:10000652-1756980000-1756985400@www.nachbarschaftszentrum.info
SUMMARY:Sprechstunde - Digitalisierung
DESCRIPTION:In der Digitalsprechstunde am Donnerstag bekommen Interessierte organisatorische und technische Hilfestellung rund um die digitalen Medien und den zugehörigen Geräten wie Smartphone\, Tablet\, Laptop und PC. Smartphone\, Eigene Geräte können gerne mitgebracht werden. Drei Laptops stehen zur freien zur Verfügung bereit.\nErfahrene Anleiter werden Ihre Fragen beantworten und bei der Problemlösung helfen.\nEgon Troles und Detlef Leipelt \nAnmeldung: Nachbarschaftszentrum (NBB)
URL:https://www.nachbarschaftszentrum.info/event/pc-hilfestellung-fuer-interessierte-4/2025-09-04/
CATEGORIES:Bildung und Wissen
END:VEVENT
BEGIN:VEVENT
DTSTART;TZID=Europe/Berlin:20250904T110000
DTEND;TZID=Europe/Berlin:20250904T120000
DTSTAMP:20260423T120123
CREATED:20250604T133210Z
LAST-MODIFIED:20250730T135948Z
UID:10029954-1756983600-1756987200@www.nachbarschaftszentrum.info
SUMMARY:Ganzheitliches Gedächtnistraining
DESCRIPTION:Mit dem 7-Gänge-Menü des GGT möchte die Kursleiterin ihre Gedächtnis und Koordinationsfähigkeit trainieren. Eine Collage aus kognitiven und bewegungszentrierten Inhalten macht dieses Training zu einer ganzheitlichen Entdeckungsreise.\nStefania Battellini; Sportwissenschaftlerin M.A. und Bewegungstherapeutin \nKosten: 150\,00 € 10 Termine\nAnmeldung: stefaniabat@netcologne.de/ 0160 98207200
URL:https://www.nachbarschaftszentrum.info/event/ganzheitliches-gedaechtnistraining-2/2025-09-04/
CATEGORIES:Bewegung und Entspannung
END:VEVENT
BEGIN:VEVENT
DTSTART;TZID=Europe/Berlin:20250904T130000
DTEND;TZID=Europe/Berlin:20250904T150000
DTSTAMP:20260423T120123
CREATED:20250604T133359Z
LAST-MODIFIED:20250604T133604Z
UID:10028392-1756990800-1756998000@www.nachbarschaftszentrum.info
SUMMARY:Computer & Laptop verstehen und anwenden
DESCRIPTION:Sie lernen Computer und Laptop kennen und erlangen grundlegende Kenntnisse zu selbigen und ihren Möglichkeiten. Einzelne Bereiche werden genauer betrachtet\, z.B. die Apps\, das Internet\, Benutzeroberflächen\, Dienste im Internet\, der Internet-Anschluss und die Zusammenarbeit Computer und Smartphone. Es gibt jeweils einen Theorie- und einen Praxisteil. Der Kurs wendet sich an alle Interessierten\, die über ein PC Laptop verfügen\, aber nicht sicher sind\, welche Dinge man damit erledigen kann. Wenn Sie keinen Laptop besitzen\, können Sie einen der vorhandenen Laptops  benutzen.\nEgon Troles \nAnmeldung: NBB
URL:https://www.nachbarschaftszentrum.info/event/computer-laptop-verstehen-und-anwenden/2025-09-04/
CATEGORIES:Bildung und Wissen
END:VEVENT
BEGIN:VEVENT
DTSTART;TZID=Europe/Berlin:20250904T143000
DTEND;TZID=Europe/Berlin:20250904T180000
DTSTAMP:20260423T120123
CREATED:20240312T114251Z
LAST-MODIFIED:20241021T115633Z
UID:10001072-1756996200-1757008800@www.nachbarschaftszentrum.info
SUMMARY:Bridge
DESCRIPTION:Anfänger:innen und Fortgeschrittene willkommen. \nTermine:       Klaus Heuschötter \ndonnerstags\,      14:30 – 18:00 Uhr \nRuth Mohr \nmontags\,            14:30 – 17:30 Uhr \nKosten:         2€
URL:https://www.nachbarschaftszentrum.info/event/bridge-3/2025-09-04/
CATEGORIES:Miteinander und Mitwirken
END:VEVENT
BEGIN:VEVENT
DTSTART;TZID=Europe/Berlin:20250904T190000
DTEND;TZID=Europe/Berlin:20250904T200000
DTSTAMP:20260423T120123
CREATED:20240312T114058Z
LAST-MODIFIED:20240312T114058Z
UID:10000931-1757012400-1757016000@www.nachbarschaftszentrum.info
SUMMARY:Doppelkopf
DESCRIPTION:Doppelkopf nach den Regeln des Deutschen Doppelkopfverbandes. Nur für Spieler:innen mit Spielerfahrung. KEINE Anfänger:innenschulung! \nKonrad Koch \ndonnerstags\,  19:00 – 22:00 Uhr \nTermine:       jeden Donnerstag \nKosten:         keine \nAnmeldung: E-Mail: konradkoch@gmx.de
URL:https://www.nachbarschaftszentrum.info/event/doppelkopf-4/2025-09-04/
CATEGORIES:Miteinander und Mitwirken
END:VEVENT
BEGIN:VEVENT
DTSTART;TZID=Europe/Berlin:20250905T110000
DTEND;TZID=Europe/Berlin:20250905T121500
DTSTAMP:20260423T120123
CREATED:20250312T132553Z
LAST-MODIFIED:20251215T091617Z
UID:10003033-1757070000-1757074500@www.nachbarschaftszentrum.info
SUMMARY:Qigong Yangsheng: Die 15 Ausdrucksformen
DESCRIPTION:Qigong Yangsheng basiert auf jahrhundertealten Methoden aus China. Mit sanften\, fließenden Bewegungen im Stehen oder Sitzen kann Qigong Yangheng zur Entspannung und Stressbewältigung\, generell zur Gesunderhaltung beitragen. Dieser Kurs ist für Erwachsene mit und ohne Vorkenntnisse – unabhängig vom Alter – geeignet. Eine Schnupperstunde ist möglich für 10 €. \nAgnes Bayard\, Übungsleiterin für Qigong Yangsheng \nKosten:        100 €                                                  10 Termine \nAnmeldung: 0228/ 62 57 37\, agnesbayard1@gmail.com
URL:https://www.nachbarschaftszentrum.info/event/qigong-yangsheng-die-15-ausdrucksformen-7/2025-09-05/
CATEGORIES:Bewegung und Entspannung
END:VEVENT
BEGIN:VEVENT
DTSTART;TZID=Europe/Berlin:20250905T110000
DTEND;TZID=Europe/Berlin:20250905T121500
DTSTAMP:20260423T120123
CREATED:20250604T133937Z
LAST-MODIFIED:20250604T133937Z
UID:10028401-1757070000-1757074500@www.nachbarschaftszentrum.info
SUMMARY:Qigong Yangsheng: Die 15 Ausdrucksformen
DESCRIPTION:Qigong Yangsheng basiert auf jahrhundertealten Methoden aus China. Mit sanften\, fließenden Bewegungen im Stehen oder Sitzen kann Qigong Yangheng zur Entspannung und Stressbewältigung\, generell zur Gesunderhaltung beitragen. Dieser Kurs ist für Erwachsene mit und ohne Vorkenntnisse – unabhängig vom Alter – geeignet. Eine Schnupperstunde ist möglich für 10 €. \nAgnes Bayard\, Übungsleiterin für Qigong Yangsheng \nKosten:        100 €                                             10 Termine \nAnmeldung: 0228/ 62 57 37\, agnesbayard1@gmail.com
URL:https://www.nachbarschaftszentrum.info/event/qigong-yangsheng-die-15-ausdrucksformen-8/2025-09-05/
CATEGORIES:Bewegung und Entspannung
END:VEVENT
BEGIN:VEVENT
DTSTART;TZID=Europe/Berlin:20250905T150000
DTEND;TZID=Europe/Berlin:20250905T163000
DTSTAMP:20260423T120123
CREATED:20240715T123054Z
LAST-MODIFIED:20241025T084039Z
UID:10001880-1757084400-1757089800@www.nachbarschaftszentrum.info
SUMMARY:Offener Treff
DESCRIPTION:Wir treffen uns freitagsnachmittags\, um einfach mal vor die Tür zu kommen. In gemütlicher Runde tauschen wir uns aus und setzen uns mit verschiedensten Themen auseinader. Die Gruppe ist offen für neue Gesichter sowie interessante Inhalte! \nChristiane Frede \nKosten:         keine \nAnmeldung: Nachbarschaftszentrum (NBB)
URL:https://www.nachbarschaftszentrum.info/event/offener-treff-4/2025-09-05/
CATEGORIES:Miteinander und Mitwirken
END:VEVENT
BEGIN:VEVENT
DTSTART;TZID=Europe/Berlin:20250906T100000
DTEND;TZID=Europe/Berlin:20250906T150000
DTSTAMP:20260423T120123
CREATED:20240312T133507Z
LAST-MODIFIED:20240626T110916Z
UID:10000187-1757152800-1757170800@www.nachbarschaftszentrum.info
SUMMARY:Offener Kreativtreff
DESCRIPTION:Kreatives Arbeiten macht oft gemeinsam mehr Freude als alleine zu Hause. Im Atelier der Stadtteilkultur kann man sich austauschen\, in den Anleitungsbüchern stöbern\, Anregungen und Hilfestellungen bekommen. Jede(r) bringt mit\, womit und woran er/sie arbeiten möchte oder holt sich vor Ort Anregungen (Material gegen Kostenerstattung). \nInitiative Stadtteilkultur\, Anne Hensgen \nsamstags\,      10:00 – 15:00 Uhr\nKosten:         5€\nOrt:               Atelier in der Borsigallee 12\, Brüser Berg \n 
URL:https://www.nachbarschaftszentrum.info/event/offener-kreativtreff-6/2025-09-06/
CATEGORIES:Kunst und Kultur
END:VEVENT
BEGIN:VEVENT
DTSTART;TZID=Europe/Berlin:20250908T113000
DTEND;TZID=Europe/Berlin:20250908T130000
DTSTAMP:20260423T120123
CREATED:20250604T090837Z
LAST-MODIFIED:20250604T090922Z
UID:10028305-1757331000-1757336400@www.nachbarschaftszentrum.info
SUMMARY:Konversations- und Sprachtraining für Deutschlernende – Niveau A2-B1
DESCRIPTION:„Übung macht den Meister“ – frei nach diesem Motto wollen wir gemeinsam Deutsch sprechen\, lesen und kurze Grammatikübungen machen\, um bereits vorhandene Deutschkenntnisse zu festigen\, zu vertiefen und auszubauen. Die Teilnehmenden bringen bitte Stift und Schreibblock mit. \nAnmeldung: NBB
URL:https://www.nachbarschaftszentrum.info/event/konversations-und-sprachtraining-fuer-deutschlernende-niveau-a2-b1-4/2025-09-08/
CATEGORIES:Bildung und Wissen
END:VEVENT
BEGIN:VEVENT
DTSTART;TZID=Europe/Berlin:20250908T130000
DTEND;TZID=Europe/Berlin:20250908T150000
DTSTAMP:20260423T120123
CREATED:20240312T112807Z
LAST-MODIFIED:20250604T135447Z
UID:10000739-1757336400-1757343600@www.nachbarschaftszentrum.info
SUMMARY:Beratung zur Schwerbehinderung – Blindheit und  Sehbehinderung“
DESCRIPTION:Mitarbeitende des Blinden- und Sehbehindertenvereins Bonn/Rhein-Sieg e.V. beraten und unterstützen Menschen\, die von Blindheit oder Sehbehinderung betroffen oder bedroht sind\, sowie deren Angehörige. Wir informieren über Unterstützungsmöglichkeiten und Hilfsmittel und helfen bei Antragstellung für den Schwerbehindertenausweis\, Pflegegrad\, Blindengeld u.a. . Ein Dolmetscher/Integrationshelfer für Kurdisch\, Türkisch und Arabisch ist Teil des Beraterteams. Einzelberatung\, bzw. mit Begleitperson. \nMitarbeitende des Blinden- und Sehbehindertenverei Bonn/Rhein-Sieg e.V.
URL:https://www.nachbarschaftszentrum.info/event/beratung-zur-schwerbehinderung-blindheit-und-sehbehinderung-4/2025-09-08/
CATEGORIES:Beratung und Information
END:VEVENT
BEGIN:VEVENT
DTSTART;TZID=Europe/Berlin:20250908T140000
DTEND;TZID=Europe/Berlin:20250908T153000
DTSTAMP:20260423T120123
CREATED:20250604T134314Z
LAST-MODIFIED:20250604T134314Z
UID:10028412-1757340000-1757345400@www.nachbarschaftszentrum.info
SUMMARY:Sprachgruppe Persisch und Dari
DESCRIPTION:Sie möchten Persisch und Dari lernen oder Ihre Kenntnisse verbessern? Dann kommen Sie zu unserer neuen Sprachgruppe im NBB. Ob Anfänger:in oder Fortgeschrittene: Alle sind willkommen. Unsere Referentin wird Sie mit Ihrer Begeisterung anstecken.
URL:https://www.nachbarschaftszentrum.info/event/sprachgruppe-persisch-und-dari/2025-09-08/
CATEGORIES:Bildung und Wissen
END:VEVENT
BEGIN:VEVENT
DTSTART;TZID=Europe/Berlin:20250908T143000
DTEND;TZID=Europe/Berlin:20250908T173000
DTSTAMP:20260423T120123
CREATED:20241211T073509Z
LAST-MODIFIED:20241211T073509Z
UID:10001213-1757341800-1757352600@www.nachbarschaftszentrum.info
SUMMARY:Bridge
DESCRIPTION:Anfänger:innen und Fortgeschrittene willkommen. \nTermine:       Klaus Heuschötter \ndonnerstags\,      14:30 – 18:00 Uhr \nRuth Mohr \nmontags\,            14:30 – 17:30 Uhr \nKosten:         2€
URL:https://www.nachbarschaftszentrum.info/event/bridge-3/2025-09-08/
CATEGORIES:Miteinander und Mitwirken
END:VEVENT
BEGIN:VEVENT
DTSTART;TZID=Europe/Berlin:20250908T150000
DTEND;TZID=Europe/Berlin:20250908T164500
DTSTAMP:20260423T120123
CREATED:20250709T160429Z
LAST-MODIFIED:20250709T160905Z
UID:10029155-1757343600-1757349900@www.nachbarschaftszentrum.info
SUMMARY:Stricken und Häkeln für Jung und Alt
DESCRIPTION:Möchten Sie in unserem Treff stricken und häkeln lernen? Für sich\, Ihre Familie oder Freunde und Bekannte? Dann sind Sie willkommen! Bitte bringen Sie Wolle (Reste) und Nadeln mit! \nTermine Rosmarie Strahl \nmontags\, 15:00 – 16:45 Uhr \nAnmeldung: Nachbarschaftszentrum (NBB)
URL:https://www.nachbarschaftszentrum.info/event/stricken-und-haekeln-fuer-jung-und-alt/2025-09-08/
CATEGORIES:Miteinander und Mitwirken
END:VEVENT
BEGIN:VEVENT
DTSTART;TZID=Europe/Berlin:20250909T100000
DTEND;TZID=Europe/Berlin:20250909T110000
DTSTAMP:20260423T120123
CREATED:20250604T132920Z
LAST-MODIFIED:20250730T140007Z
UID:10029935-1757412000-1757415600@www.nachbarschaftszentrum.info
SUMMARY:Rückenschule (ab dem 50 Lj.)
DESCRIPTION:Der Kurs bietet die Möglichkeit\, durch altersgerechte Übungen gesund und beweglich zu bleiben. Ein spezielles Bewegungsangebot zur Kräftigung\, Dehnung der Muskulatur sowie zur Erhaltung der geistigen Flexibilität.\nStefania Battellini; Sportwissenschaftlerin M.A. und Bewegungstherapeutin \nKosten:	150\,00 €		10 Termine\nAnmeldung:	stefaniabat@netcologne.de/0160 98207200
URL:https://www.nachbarschaftszentrum.info/event/rueckenschule-ab-dem-50-lj-3/2025-09-09/
CATEGORIES:Bewegung und Entspannung
END:VEVENT
END:VCALENDAR