BEGIN:VCALENDAR
VERSION:2.0
PRODID:-//NBB | Nachbarschaftszentrum Brüser Berg - ECPv6.15.20//NONSGML v1.0//EN
CALSCALE:GREGORIAN
METHOD:PUBLISH
X-ORIGINAL-URL:https://www.nachbarschaftszentrum.info
X-WR-CALDESC:Veranstaltungen für NBB | Nachbarschaftszentrum Brüser Berg
REFRESH-INTERVAL;VALUE=DURATION:PT1H
X-Robots-Tag:noindex
X-PUBLISHED-TTL:PT1H
BEGIN:VTIMEZONE
TZID:Europe/Berlin
BEGIN:DAYLIGHT
TZOFFSETFROM:+0100
TZOFFSETTO:+0200
TZNAME:CEST
DTSTART:20230326T010000
END:DAYLIGHT
BEGIN:STANDARD
TZOFFSETFROM:+0200
TZOFFSETTO:+0100
TZNAME:CET
DTSTART:20231029T010000
END:STANDARD
BEGIN:DAYLIGHT
TZOFFSETFROM:+0100
TZOFFSETTO:+0200
TZNAME:CEST
DTSTART:20240331T010000
END:DAYLIGHT
BEGIN:STANDARD
TZOFFSETFROM:+0200
TZOFFSETTO:+0100
TZNAME:CET
DTSTART:20241027T010000
END:STANDARD
BEGIN:DAYLIGHT
TZOFFSETFROM:+0100
TZOFFSETTO:+0200
TZNAME:CEST
DTSTART:20250330T010000
END:DAYLIGHT
BEGIN:STANDARD
TZOFFSETFROM:+0200
TZOFFSETTO:+0100
TZNAME:CET
DTSTART:20251026T010000
END:STANDARD
END:VTIMEZONE
BEGIN:VEVENT
DTSTART;TZID=Europe/Berlin:20240801T100000
DTEND;TZID=Europe/Berlin:20240801T113000
DTSTAMP:20260421T150013
CREATED:20240312T105949Z
LAST-MODIFIED:20250610T100841Z
UID:10000595-1722506400-1722511800@www.nachbarschaftszentrum.info
SUMMARY:Sprechstunde - Digitalisierung
DESCRIPTION:In der Digitalsprechstunde am Donnerstag bekommen Interessierte organisatorische und technische Hilfestellung rund um die digitalen Medien und den zugehörigen Geräten wie Smartphone\, Tablet\, Laptop und PC. Smartphone\, Eigene Geräte können gerne mitgebracht werden. Drei Laptops stehen zur freien zur Verfügung bereit.\nErfahrene Anleiter werden Ihre Fragen beantworten und bei der Problemlösung helfen.\nEgon Troles und Detlef Leipelt \nAnmeldung: Nachbarschaftszentrum (NBB)
URL:https://www.nachbarschaftszentrum.info/event/pc-hilfestellung-fuer-interessierte-4/2024-08-01/
CATEGORIES:Bildung und Wissen
END:VEVENT
BEGIN:VEVENT
DTSTART;TZID=Europe/Berlin:20240801T120000
DTEND;TZID=Europe/Berlin:20240801T150000
DTSTAMP:20260421T150013
CREATED:20240702T132556Z
LAST-MODIFIED:20240702T132556Z
UID:10001915-1722513600-1722524400@www.nachbarschaftszentrum.info
SUMMARY:Persönliche Fotobücher gestalten
DESCRIPTION:In diesem Workshop lernen Sie an einem Beispiel die Handhabung und Möglichkeiten der Software  von PosterXXL kennen. Danach können Sie mit der Hilfestellung der Anleiterin mit eigenen Bildern persönliche Fotobücher erstellen. Für die Texte können die Möglichkeiten der KI (Künstliche Intelligenz) genutzt werden. Laptops können bei Bedarf bereit gestellt werden.\nInitiative Stadtteilkultur\, Anne Hensgen  \nKosten:	8€\nAnmeldung:	Nachbarschaftszentrum (NBB)
URL:https://www.nachbarschaftszentrum.info/event/persoenliche-fotobuecher-gestalten/
CATEGORIES:Kunst und Kultur
END:VEVENT
BEGIN:VEVENT
DTSTART;TZID=Europe/Berlin:20240801T143000
DTEND;TZID=Europe/Berlin:20240801T180000
DTSTAMP:20260421T150013
CREATED:20240312T114251Z
LAST-MODIFIED:20241021T115633Z
UID:10001015-1722522600-1722535200@www.nachbarschaftszentrum.info
SUMMARY:Bridge
DESCRIPTION:Anfänger:innen und Fortgeschrittene willkommen. \nTermine:       Klaus Heuschötter \ndonnerstags\,      14:30 – 18:00 Uhr \nRuth Mohr \nmontags\,            14:30 – 17:30 Uhr \nKosten:         2€
URL:https://www.nachbarschaftszentrum.info/event/bridge-3/2024-08-01/
CATEGORIES:Miteinander und Mitwirken
END:VEVENT
BEGIN:VEVENT
DTSTART;TZID=Europe/Berlin:20240801T190000
DTEND;TZID=Europe/Berlin:20240801T200000
DTSTAMP:20260421T150013
CREATED:20240312T114058Z
LAST-MODIFIED:20240312T114058Z
UID:10000874-1722538800-1722542400@www.nachbarschaftszentrum.info
SUMMARY:Doppelkopf
DESCRIPTION:Doppelkopf nach den Regeln des Deutschen Doppelkopfverbandes. Nur für Spieler:innen mit Spielerfahrung. KEINE Anfänger:innenschulung! \nKonrad Koch \ndonnerstags\,  19:00 – 22:00 Uhr \nTermine:       jeden Donnerstag \nKosten:         keine \nAnmeldung: E-Mail: konradkoch@gmx.de
URL:https://www.nachbarschaftszentrum.info/event/doppelkopf-4/2024-08-01/
CATEGORIES:Miteinander und Mitwirken
END:VEVENT
BEGIN:VEVENT
DTSTART;TZID=Europe/Berlin:20240803T100000
DTEND;TZID=Europe/Berlin:20240803T150000
DTSTAMP:20260421T150013
CREATED:20240312T133507Z
LAST-MODIFIED:20240626T110916Z
UID:10000130-1722679200-1722697200@www.nachbarschaftszentrum.info
SUMMARY:Offener Kreativtreff
DESCRIPTION:Kreatives Arbeiten macht oft gemeinsam mehr Freude als alleine zu Hause. Im Atelier der Stadtteilkultur kann man sich austauschen\, in den Anleitungsbüchern stöbern\, Anregungen und Hilfestellungen bekommen. Jede(r) bringt mit\, womit und woran er/sie arbeiten möchte oder holt sich vor Ort Anregungen (Material gegen Kostenerstattung). \nInitiative Stadtteilkultur\, Anne Hensgen \nsamstags\,      10:00 – 15:00 Uhr\nKosten:         5€\nOrt:               Atelier in der Borsigallee 12\, Brüser Berg \n 
URL:https://www.nachbarschaftszentrum.info/event/offener-kreativtreff-6/2024-08-03/
CATEGORIES:Kunst und Kultur
END:VEVENT
BEGIN:VEVENT
DTSTART;TZID=Europe/Berlin:20240805T143000
DTEND;TZID=Europe/Berlin:20240805T173000
DTSTAMP:20260421T150013
CREATED:20241211T073509Z
LAST-MODIFIED:20241211T073509Z
UID:10001156-1722868200-1722879000@www.nachbarschaftszentrum.info
SUMMARY:Bridge
DESCRIPTION:Anfänger:innen und Fortgeschrittene willkommen. \nTermine:       Klaus Heuschötter \ndonnerstags\,      14:30 – 18:00 Uhr \nRuth Mohr \nmontags\,            14:30 – 17:30 Uhr \nKosten:         2€
URL:https://www.nachbarschaftszentrum.info/event/bridge-3/2024-08-05/
CATEGORIES:Miteinander und Mitwirken
END:VEVENT
BEGIN:VEVENT
DTSTART;TZID=Europe/Berlin:20240805T180000
DTEND;TZID=Europe/Berlin:20240805T210000
DTSTAMP:20260421T150013
CREATED:20240312T113740Z
LAST-MODIFIED:20240702T130627Z
UID:10000796-1722880800-1722891600@www.nachbarschaftszentrum.info
SUMMARY:Skat – endlich mal wieder miteinander Skat spielen
DESCRIPTION:Anfänger:innen mit und ohne Vorkenntnisse und Fortgeschrittene sind herzlich willkommen! Die Regeln werden gerne erklärt! \nJanos Mayer und Klaus Wege \nmontags\,        18:00 – 21:00 Uhr \nTermine:       jeden 1. und 3. Montag im Monat \nKosten:         keine \nAnmeldung: Nachbarschaftszentrum (NBB)
URL:https://www.nachbarschaftszentrum.info/event/skat-endlich-mal-wieder-miteinander-skat-spielen-5/2024-08-05/
CATEGORIES:Miteinander und Mitwirken
END:VEVENT
BEGIN:VEVENT
DTSTART;TZID=Europe/Berlin:20240807T124500
DTEND;TZID=Europe/Berlin:20240807T133000
DTSTAMP:20260421T150013
CREATED:20240312T132019Z
LAST-MODIFIED:20240312T132019Z
UID:10000085-1723034700-1723037400@www.nachbarschaftszentrum.info
SUMMARY:Mittagstisch - Unser ehrenamtliches Team kocht für Sie
DESCRIPTION:In netter Nachbarschaft leckeres Essen genießen – freuen Sie sich einmal wöchentlich auf wechselnde kulinarische Highlights. Unser ehrenamtliches Kochteam kocht mit Freude für Sie. Kommen Sie vorbei und lassen Sie sich kulinarisch verwöhnen! Die Menüpläne hängen im NBB aus. \nmittwochs\,     12:45 -13:30 Uhr \nKosten:         siehe Menüplan \nAnmeldung: bis jeweils montags vorher im NBB erforderlich!
URL:https://www.nachbarschaftszentrum.info/event/mittagstisch-unser-ehrenamtliches-team-kocht-fuer-sie-3/2024-08-07/
CATEGORIES:Gemeinsam genießen
END:VEVENT
BEGIN:VEVENT
DTSTART;TZID=Europe/Berlin:20240807T124500
DTEND;TZID=Europe/Berlin:20240807T133000
DTSTAMP:20260421T150013
CREATED:20240621T141803Z
LAST-MODIFIED:20240621T141950Z
UID:10000284-1723034700-1723037400@www.nachbarschaftszentrum.info
SUMMARY:Mittagstisch - Unser ehrenamtliches Team kocht für Sie
DESCRIPTION:In netter Nachbarschaft leckeres Essen genießen – freuen Sie sich einmal wöchentlich auf wechselnde kulinarische High-lights. Unser ehrenamtliches Kochteam kocht mit Freude für Sie. Kommen Sie vorbei und lassen Sie sich kulinarisch ver-wöhnen! Die Menüpläne hängen im NBB aus.\nKosten: siehe Menüplan\nAnmeldung: bis jeweils montags vorher im NBB erforderlich!
URL:https://www.nachbarschaftszentrum.info/event/mittagstisch-unser-ehrenamtliches-team-kocht-fuer-sie-4/2024-08-07/
CATEGORIES:Gemeinsam genießen
END:VEVENT
BEGIN:VEVENT
DTSTART;TZID=Europe/Berlin:20240807T150000
DTEND;TZID=Europe/Berlin:20240807T180000
DTSTAMP:20260421T150013
CREATED:20240312T114532Z
LAST-MODIFIED:20240918T110631Z
UID:10001283-1723042800-1723053600@www.nachbarschaftszentrum.info
SUMMARY:Offener Spielenachmittag
DESCRIPTION:Wir laden alle ein\, die gerne spielen\, einfach mal vorbeizuschauen und mitzuspielen. Wir entscheiden bei jedem Treffen neu\, welche Spiele wir an dem Abend spielen möchten. \nMarie–Luise Ratje und Ruth Mohr \nmittwochs\,     15:00 – 18:00 Uhr \nTermine:       jeden 1. und 3. Mittwoch im Monat \nAnmeldung: bis jeweils dienstags vorher im NBB erforderlich!
URL:https://www.nachbarschaftszentrum.info/event/offener-spielenachmittag-2/2024-08-07/
CATEGORIES:Miteinander und Mitwirken
END:VEVENT
BEGIN:VEVENT
DTSTART;TZID=Europe/Berlin:20240807T190000
DTEND;TZID=Europe/Berlin:20240807T210000
DTSTAMP:20260421T150013
CREATED:20240312T115457Z
LAST-MODIFIED:20240625T102358Z
UID:10000006-1723057200-1723064400@www.nachbarschaftszentrum.info
SUMMARY:Treffen des Schiffsmodellbau Clubs Bonn
DESCRIPTION:Der Schiffmodellclub Bonn e.V. (kurz SMC-Bonn) trifft sich einmal im Monat im Nachbarschaftszentrum Brüser Berg zum Clubabend. Dort werden die Aktivitäten des Vereins geplant und es wird auch viel über den Schiffmodellbau gefachsimpelt. Neue Mitglieder und auch Gäste sind dem Verein jederzeit herzlich willkommen. \nPeter Ziegler
URL:https://www.nachbarschaftszentrum.info/event/treffen-des-schiffsmodellbau-clubs-bonn-2/2024-08-07/
CATEGORIES:Miteinander und Mitwirken
END:VEVENT
BEGIN:VEVENT
DTSTART;TZID=Europe/Berlin:20240808T100000
DTEND;TZID=Europe/Berlin:20240808T113000
DTSTAMP:20260421T150013
CREATED:20240312T105949Z
LAST-MODIFIED:20250610T100841Z
UID:10000596-1723111200-1723116600@www.nachbarschaftszentrum.info
SUMMARY:Sprechstunde - Digitalisierung
DESCRIPTION:In der Digitalsprechstunde am Donnerstag bekommen Interessierte organisatorische und technische Hilfestellung rund um die digitalen Medien und den zugehörigen Geräten wie Smartphone\, Tablet\, Laptop und PC. Smartphone\, Eigene Geräte können gerne mitgebracht werden. Drei Laptops stehen zur freien zur Verfügung bereit.\nErfahrene Anleiter werden Ihre Fragen beantworten und bei der Problemlösung helfen.\nEgon Troles und Detlef Leipelt \nAnmeldung: Nachbarschaftszentrum (NBB)
URL:https://www.nachbarschaftszentrum.info/event/pc-hilfestellung-fuer-interessierte-4/2024-08-08/
CATEGORIES:Bildung und Wissen
END:VEVENT
BEGIN:VEVENT
DTSTART;TZID=Europe/Berlin:20240808T143000
DTEND;TZID=Europe/Berlin:20240808T180000
DTSTAMP:20260421T150013
CREATED:20240312T114251Z
LAST-MODIFIED:20241021T115633Z
UID:10001016-1723127400-1723140000@www.nachbarschaftszentrum.info
SUMMARY:Bridge
DESCRIPTION:Anfänger:innen und Fortgeschrittene willkommen. \nTermine:       Klaus Heuschötter \ndonnerstags\,      14:30 – 18:00 Uhr \nRuth Mohr \nmontags\,            14:30 – 17:30 Uhr \nKosten:         2€
URL:https://www.nachbarschaftszentrum.info/event/bridge-3/2024-08-08/
CATEGORIES:Miteinander und Mitwirken
END:VEVENT
BEGIN:VEVENT
DTSTART;TZID=Europe/Berlin:20240808T150000
DTEND;TZID=Europe/Berlin:20240808T170000
DTSTAMP:20260421T150013
CREATED:20240701T140712Z
LAST-MODIFIED:20240701T141051Z
UID:10001847-1723129200-1723136400@www.nachbarschaftszentrum.info
SUMMARY:Vortrag: „Das Emergenz – Experiment“ – Wie NEUES aus dem nichts entsteht
DESCRIPTION:Was ist Emergenz? Wie entsteht sie? Anhand einer Bilderfindung von Leonardo da Vinci zeigt der Referent wie neues aus Vorhandenem entsteht. Dabei werden die Ergebnisse des Experiments erkenntnistheoretisch betrachtet. Gemeinsam wird der Frage nachgegangen was Emergenz in der Evolution und in der Realität bedeutet.\nJohann W. Jakob \nAnmeldung: Nachbarschaftszentrum (NBB)
URL:https://www.nachbarschaftszentrum.info/event/vortrag-das-emergenz-experiment-wie-neues-aus-dem-nichts-entsteht/
CATEGORIES:Bildung und Wissen
END:VEVENT
BEGIN:VEVENT
DTSTART;TZID=Europe/Berlin:20240808T190000
DTEND;TZID=Europe/Berlin:20240808T200000
DTSTAMP:20260421T150013
CREATED:20240312T114058Z
LAST-MODIFIED:20240312T114058Z
UID:10000875-1723143600-1723147200@www.nachbarschaftszentrum.info
SUMMARY:Doppelkopf
DESCRIPTION:Doppelkopf nach den Regeln des Deutschen Doppelkopfverbandes. Nur für Spieler:innen mit Spielerfahrung. KEINE Anfänger:innenschulung! \nKonrad Koch \ndonnerstags\,  19:00 – 22:00 Uhr \nTermine:       jeden Donnerstag \nKosten:         keine \nAnmeldung: E-Mail: konradkoch@gmx.de
URL:https://www.nachbarschaftszentrum.info/event/doppelkopf-4/2024-08-08/
CATEGORIES:Miteinander und Mitwirken
END:VEVENT
BEGIN:VEVENT
DTSTART;TZID=Europe/Berlin:20240809T150000
DTEND;TZID=Europe/Berlin:20240809T163000
DTSTAMP:20260421T150013
CREATED:20240715T123054Z
LAST-MODIFIED:20241025T084039Z
UID:10001853-1723215600-1723221000@www.nachbarschaftszentrum.info
SUMMARY:Offener Treff
DESCRIPTION:Wir treffen uns freitagsnachmittags\, um einfach mal vor die Tür zu kommen. In gemütlicher Runde tauschen wir uns aus und setzen uns mit verschiedensten Themen auseinader. Die Gruppe ist offen für neue Gesichter sowie interessante Inhalte! \nChristiane Frede \nKosten:         keine \nAnmeldung: Nachbarschaftszentrum (NBB)
URL:https://www.nachbarschaftszentrum.info/event/offener-treff-4/2024-08-09/
CATEGORIES:Miteinander und Mitwirken
END:VEVENT
BEGIN:VEVENT
DTSTART;TZID=Europe/Berlin:20240810T100000
DTEND;TZID=Europe/Berlin:20240810T140000
DTSTAMP:20260421T150013
CREATED:20240702T132712Z
LAST-MODIFIED:20240702T132712Z
UID:10001916-1723284000-1723298400@www.nachbarschaftszentrum.info
SUMMARY:Skulpturen gestalten mit Pappmachee
DESCRIPTION:Mit selbstgemachtem Pappmachee können Sie auf einem Unterbau schöne Skulpturen gestalten. Bei Interesse können Sie an einem Folgetermin die Figuren bemalen oder „bekleiden“.\nInitiative Stadtteilkultur\, Anne Hensgen  \nKosten:	10€ + Material
URL:https://www.nachbarschaftszentrum.info/event/skulpturen-gestalten-mit-pappmachee/
CATEGORIES:Kunst und Kultur
END:VEVENT
BEGIN:VEVENT
DTSTART;TZID=Europe/Berlin:20240810T100000
DTEND;TZID=Europe/Berlin:20240810T150000
DTSTAMP:20260421T150013
CREATED:20240312T133507Z
LAST-MODIFIED:20240626T110916Z
UID:10000131-1723284000-1723302000@www.nachbarschaftszentrum.info
SUMMARY:Offener Kreativtreff
DESCRIPTION:Kreatives Arbeiten macht oft gemeinsam mehr Freude als alleine zu Hause. Im Atelier der Stadtteilkultur kann man sich austauschen\, in den Anleitungsbüchern stöbern\, Anregungen und Hilfestellungen bekommen. Jede(r) bringt mit\, womit und woran er/sie arbeiten möchte oder holt sich vor Ort Anregungen (Material gegen Kostenerstattung). \nInitiative Stadtteilkultur\, Anne Hensgen \nsamstags\,      10:00 – 15:00 Uhr\nKosten:         5€\nOrt:               Atelier in der Borsigallee 12\, Brüser Berg \n 
URL:https://www.nachbarschaftszentrum.info/event/offener-kreativtreff-6/2024-08-10/
CATEGORIES:Kunst und Kultur
END:VEVENT
BEGIN:VEVENT
DTSTART;TZID=Europe/Berlin:20240812T143000
DTEND;TZID=Europe/Berlin:20240812T173000
DTSTAMP:20260421T150013
CREATED:20241211T073509Z
LAST-MODIFIED:20241211T073509Z
UID:10001157-1723473000-1723483800@www.nachbarschaftszentrum.info
SUMMARY:Bridge
DESCRIPTION:Anfänger:innen und Fortgeschrittene willkommen. \nTermine:       Klaus Heuschötter \ndonnerstags\,      14:30 – 18:00 Uhr \nRuth Mohr \nmontags\,            14:30 – 17:30 Uhr \nKosten:         2€
URL:https://www.nachbarschaftszentrum.info/event/bridge-3/2024-08-12/
CATEGORIES:Miteinander und Mitwirken
END:VEVENT
BEGIN:VEVENT
DTSTART;TZID=Europe/Berlin:20240813T133000
DTEND;TZID=Europe/Berlin:20240813T153000
DTSTAMP:20260421T150013
CREATED:20240612T135105Z
LAST-MODIFIED:20250604T135001Z
UID:10000268-1723555800-1723563000@www.nachbarschaftszentrum.info
SUMMARY:Digitale Sprechstunde – Umgang mit Handy\, Tablet und Co.
DESCRIPTION:Sie haben Fragen zum Umgang mit Ihrem Handy oder Tablet? Oder Sie möchten mehr wissen über Nutzungsmöglichkeiten der Digitalisierung? Wie zum Beispiel Medikamente online bestellen\, Fahrpläne abrufen\, Vertragsangebote vergleichen oder wie man Streamingdienste nutzt? Egal ob Anfänger:in oder mit Vorkenntnissen\, hier sind Sie richtig.\nDie Sprechstunde behandelt ein festes Thema\, alle zwei Monate gibt es eine allgemeine Sprechstunde nur für Ihre Fragen. Die Themenübersicht finden Sie auf unserem Flyer.\nSaskia Klee und Thomas Heimsath \nAnmeldung: Nachbarschaftszentrum (NBB)
URL:https://www.nachbarschaftszentrum.info/event/digitale-sprechstunde-umgang-mit-handy-tablet-und-co/2024-08-13/
CATEGORIES:Bildung und Wissen
ATTACH;FMTTYPE=image/png:https://www.nachbarschaftszentrum.info/wp-content/uploads/digSprechstunde_themen.png
END:VEVENT
BEGIN:VEVENT
DTSTART;TZID=Europe/Berlin:20240814T124500
DTEND;TZID=Europe/Berlin:20240814T133000
DTSTAMP:20260421T150013
CREATED:20240312T132019Z
LAST-MODIFIED:20240312T132019Z
UID:10000086-1723639500-1723642200@www.nachbarschaftszentrum.info
SUMMARY:Mittagstisch - Unser ehrenamtliches Team kocht für Sie
DESCRIPTION:In netter Nachbarschaft leckeres Essen genießen – freuen Sie sich einmal wöchentlich auf wechselnde kulinarische Highlights. Unser ehrenamtliches Kochteam kocht mit Freude für Sie. Kommen Sie vorbei und lassen Sie sich kulinarisch verwöhnen! Die Menüpläne hängen im NBB aus. \nmittwochs\,     12:45 -13:30 Uhr \nKosten:         siehe Menüplan \nAnmeldung: bis jeweils montags vorher im NBB erforderlich!
URL:https://www.nachbarschaftszentrum.info/event/mittagstisch-unser-ehrenamtliches-team-kocht-fuer-sie-3/2024-08-14/
CATEGORIES:Gemeinsam genießen
END:VEVENT
BEGIN:VEVENT
DTSTART;TZID=Europe/Berlin:20240814T124500
DTEND;TZID=Europe/Berlin:20240814T133000
DTSTAMP:20260421T150013
CREATED:20240621T141803Z
LAST-MODIFIED:20240621T141950Z
UID:10000285-1723639500-1723642200@www.nachbarschaftszentrum.info
SUMMARY:Mittagstisch - Unser ehrenamtliches Team kocht für Sie
DESCRIPTION:In netter Nachbarschaft leckeres Essen genießen – freuen Sie sich einmal wöchentlich auf wechselnde kulinarische High-lights. Unser ehrenamtliches Kochteam kocht mit Freude für Sie. Kommen Sie vorbei und lassen Sie sich kulinarisch ver-wöhnen! Die Menüpläne hängen im NBB aus.\nKosten: siehe Menüplan\nAnmeldung: bis jeweils montags vorher im NBB erforderlich!
URL:https://www.nachbarschaftszentrum.info/event/mittagstisch-unser-ehrenamtliches-team-kocht-fuer-sie-4/2024-08-14/
CATEGORIES:Gemeinsam genießen
END:VEVENT
BEGIN:VEVENT
DTSTART;TZID=Europe/Berlin:20240814T143000
DTEND;TZID=Europe/Berlin:20240814T163000
DTSTAMP:20260421T150013
CREATED:20240625T113643Z
LAST-MODIFIED:20240625T113643Z
UID:10001838-1723645800-1723653000@www.nachbarschaftszentrum.info
SUMMARY:Erzählcafé mit Lisa Rädler
DESCRIPTION:„Mein Leben auf dem Brüser Berg“ – Bürger:innen erzählen ihre Geschichte. \nAnmeldung: bis jeweils montags 17:00 Uhr vorher im NBB
URL:https://www.nachbarschaftszentrum.info/event/erzaehlcafe-mit-lisa-raedler-2/
CATEGORIES:Kunst und Kultur
END:VEVENT
BEGIN:VEVENT
DTSTART;TZID=Europe/Berlin:20240815T100000
DTEND;TZID=Europe/Berlin:20240815T113000
DTSTAMP:20260421T150013
CREATED:20240312T105949Z
LAST-MODIFIED:20250610T100841Z
UID:10000597-1723716000-1723721400@www.nachbarschaftszentrum.info
SUMMARY:Sprechstunde - Digitalisierung
DESCRIPTION:In der Digitalsprechstunde am Donnerstag bekommen Interessierte organisatorische und technische Hilfestellung rund um die digitalen Medien und den zugehörigen Geräten wie Smartphone\, Tablet\, Laptop und PC. Smartphone\, Eigene Geräte können gerne mitgebracht werden. Drei Laptops stehen zur freien zur Verfügung bereit.\nErfahrene Anleiter werden Ihre Fragen beantworten und bei der Problemlösung helfen.\nEgon Troles und Detlef Leipelt \nAnmeldung: Nachbarschaftszentrum (NBB)
URL:https://www.nachbarschaftszentrum.info/event/pc-hilfestellung-fuer-interessierte-4/2024-08-15/
CATEGORIES:Bildung und Wissen
END:VEVENT
BEGIN:VEVENT
DTSTART;TZID=Europe/Berlin:20240815T143000
DTEND;TZID=Europe/Berlin:20240815T180000
DTSTAMP:20260421T150013
CREATED:20240312T114251Z
LAST-MODIFIED:20241021T115633Z
UID:10001017-1723732200-1723744800@www.nachbarschaftszentrum.info
SUMMARY:Bridge
DESCRIPTION:Anfänger:innen und Fortgeschrittene willkommen. \nTermine:       Klaus Heuschötter \ndonnerstags\,      14:30 – 18:00 Uhr \nRuth Mohr \nmontags\,            14:30 – 17:30 Uhr \nKosten:         2€
URL:https://www.nachbarschaftszentrum.info/event/bridge-3/2024-08-15/
CATEGORIES:Miteinander und Mitwirken
END:VEVENT
BEGIN:VEVENT
DTSTART;TZID=Europe/Berlin:20240815T190000
DTEND;TZID=Europe/Berlin:20240815T200000
DTSTAMP:20260421T150013
CREATED:20240312T114058Z
LAST-MODIFIED:20240312T114058Z
UID:10000876-1723748400-1723752000@www.nachbarschaftszentrum.info
SUMMARY:Doppelkopf
DESCRIPTION:Doppelkopf nach den Regeln des Deutschen Doppelkopfverbandes. Nur für Spieler:innen mit Spielerfahrung. KEINE Anfänger:innenschulung! \nKonrad Koch \ndonnerstags\,  19:00 – 22:00 Uhr \nTermine:       jeden Donnerstag \nKosten:         keine \nAnmeldung: E-Mail: konradkoch@gmx.de
URL:https://www.nachbarschaftszentrum.info/event/doppelkopf-4/2024-08-15/
CATEGORIES:Miteinander und Mitwirken
END:VEVENT
BEGIN:VEVENT
DTSTART;TZID=Europe/Berlin:20240817T100000
DTEND;TZID=Europe/Berlin:20240817T150000
DTSTAMP:20260421T150013
CREATED:20240312T133507Z
LAST-MODIFIED:20240626T110916Z
UID:10000132-1723888800-1723906800@www.nachbarschaftszentrum.info
SUMMARY:Offener Kreativtreff
DESCRIPTION:Kreatives Arbeiten macht oft gemeinsam mehr Freude als alleine zu Hause. Im Atelier der Stadtteilkultur kann man sich austauschen\, in den Anleitungsbüchern stöbern\, Anregungen und Hilfestellungen bekommen. Jede(r) bringt mit\, womit und woran er/sie arbeiten möchte oder holt sich vor Ort Anregungen (Material gegen Kostenerstattung). \nInitiative Stadtteilkultur\, Anne Hensgen \nsamstags\,      10:00 – 15:00 Uhr\nKosten:         5€\nOrt:               Atelier in der Borsigallee 12\, Brüser Berg \n 
URL:https://www.nachbarschaftszentrum.info/event/offener-kreativtreff-6/2024-08-17/
CATEGORIES:Kunst und Kultur
END:VEVENT
BEGIN:VEVENT
DTSTART;TZID=Europe/Berlin:20240819T130000
DTEND;TZID=Europe/Berlin:20240819T150000
DTSTAMP:20260421T150013
CREATED:20240312T112807Z
LAST-MODIFIED:20250604T135447Z
UID:10000726-1724072400-1724079600@www.nachbarschaftszentrum.info
SUMMARY:Beratung zur Schwerbehinderung – Blindheit und  Sehbehinderung“
DESCRIPTION:Mitarbeitende des Blinden- und Sehbehindertenvereins Bonn/Rhein-Sieg e.V. beraten und unterstützen Menschen\, die von Blindheit oder Sehbehinderung betroffen oder bedroht sind\, sowie deren Angehörige. Wir informieren über Unterstützungsmöglichkeiten und Hilfsmittel und helfen bei Antragstellung für den Schwerbehindertenausweis\, Pflegegrad\, Blindengeld u.a. . Ein Dolmetscher/Integrationshelfer für Kurdisch\, Türkisch und Arabisch ist Teil des Beraterteams. Einzelberatung\, bzw. mit Begleitperson. \nMitarbeitende des Blinden- und Sehbehindertenverei Bonn/Rhein-Sieg e.V.
URL:https://www.nachbarschaftszentrum.info/event/beratung-zur-schwerbehinderung-blindheit-und-sehbehinderung-4/2024-08-19/
CATEGORIES:Beratung und Information
END:VEVENT
BEGIN:VEVENT
DTSTART;TZID=Europe/Berlin:20240819T143000
DTEND;TZID=Europe/Berlin:20240819T173000
DTSTAMP:20260421T150013
CREATED:20241211T073509Z
LAST-MODIFIED:20241211T073509Z
UID:10001158-1724077800-1724088600@www.nachbarschaftszentrum.info
SUMMARY:Bridge
DESCRIPTION:Anfänger:innen und Fortgeschrittene willkommen. \nTermine:       Klaus Heuschötter \ndonnerstags\,      14:30 – 18:00 Uhr \nRuth Mohr \nmontags\,            14:30 – 17:30 Uhr \nKosten:         2€
URL:https://www.nachbarschaftszentrum.info/event/bridge-3/2024-08-19/
CATEGORIES:Miteinander und Mitwirken
END:VEVENT
BEGIN:VEVENT
DTSTART;TZID=Europe/Berlin:20240819T180000
DTEND;TZID=Europe/Berlin:20240819T210000
DTSTAMP:20260421T150013
CREATED:20241211T073508Z
LAST-MODIFIED:20241211T073508Z
UID:10000829-1724090400-1724101200@www.nachbarschaftszentrum.info
SUMMARY:Skat – endlich mal wieder miteinander Skat spielen
DESCRIPTION:Anfänger:innen mit und ohne Vorkenntnisse und Fortgeschrittene sind herzlich willkommen! Die Regeln werden gerne erklärt! \nJanos Mayer und Klaus Wege \nmontags\,        18:00 – 21:00 Uhr \nTermine:       jeden 1. und 3. Montag im Monat \nKosten:         keine \nAnmeldung: Nachbarschaftszentrum (NBB)
URL:https://www.nachbarschaftszentrum.info/event/skat-endlich-mal-wieder-miteinander-skat-spielen-5/2024-08-19/
CATEGORIES:Miteinander und Mitwirken
END:VEVENT
END:VCALENDAR