BEGIN:VCALENDAR
VERSION:2.0
PRODID:-//NBB | Nachbarschaftszentrum Brüser Berg - ECPv6.15.20//NONSGML v1.0//EN
CALSCALE:GREGORIAN
METHOD:PUBLISH
X-ORIGINAL-URL:https://www.nachbarschaftszentrum.info
X-WR-CALDESC:Veranstaltungen für NBB | Nachbarschaftszentrum Brüser Berg
REFRESH-INTERVAL;VALUE=DURATION:PT1H
X-Robots-Tag:noindex
X-PUBLISHED-TTL:PT1H
BEGIN:VTIMEZONE
TZID:Europe/Berlin
BEGIN:DAYLIGHT
TZOFFSETFROM:+0100
TZOFFSETTO:+0200
TZNAME:CEST
DTSTART:20230326T010000
END:DAYLIGHT
BEGIN:STANDARD
TZOFFSETFROM:+0200
TZOFFSETTO:+0100
TZNAME:CET
DTSTART:20231029T010000
END:STANDARD
BEGIN:DAYLIGHT
TZOFFSETFROM:+0100
TZOFFSETTO:+0200
TZNAME:CEST
DTSTART:20240331T010000
END:DAYLIGHT
BEGIN:STANDARD
TZOFFSETFROM:+0200
TZOFFSETTO:+0100
TZNAME:CET
DTSTART:20241027T010000
END:STANDARD
BEGIN:DAYLIGHT
TZOFFSETFROM:+0100
TZOFFSETTO:+0200
TZNAME:CEST
DTSTART:20250330T010000
END:DAYLIGHT
BEGIN:STANDARD
TZOFFSETFROM:+0200
TZOFFSETTO:+0100
TZNAME:CET
DTSTART:20251026T010000
END:STANDARD
END:VTIMEZONE
BEGIN:VEVENT
DTSTART;TZID=Europe/Berlin:20240601T100000
DTEND;TZID=Europe/Berlin:20240601T150000
DTSTAMP:20260421T204016
CREATED:20240312T133507Z
LAST-MODIFIED:20240626T110916Z
UID:10000121-1717236000-1717254000@www.nachbarschaftszentrum.info
SUMMARY:Offener Kreativtreff
DESCRIPTION:Kreatives Arbeiten macht oft gemeinsam mehr Freude als alleine zu Hause. Im Atelier der Stadtteilkultur kann man sich austauschen\, in den Anleitungsbüchern stöbern\, Anregungen und Hilfestellungen bekommen. Jede(r) bringt mit\, womit und woran er/sie arbeiten möchte oder holt sich vor Ort Anregungen (Material gegen Kostenerstattung). \nInitiative Stadtteilkultur\, Anne Hensgen \nsamstags\,      10:00 – 15:00 Uhr\nKosten:         5€\nOrt:               Atelier in der Borsigallee 12\, Brüser Berg \n 
URL:https://www.nachbarschaftszentrum.info/event/offener-kreativtreff-6/2024-06-01/
CATEGORIES:Kunst und Kultur
END:VEVENT
BEGIN:VEVENT
DTSTART;TZID=Europe/Berlin:20240603T143000
DTEND;TZID=Europe/Berlin:20240603T173000
DTSTAMP:20260421T204016
CREATED:20241211T073509Z
LAST-MODIFIED:20241211T073509Z
UID:10001147-1717425000-1717435800@www.nachbarschaftszentrum.info
SUMMARY:Bridge
DESCRIPTION:Anfänger:innen und Fortgeschrittene willkommen. \nTermine:       Klaus Heuschötter \ndonnerstags\,      14:30 – 18:00 Uhr \nRuth Mohr \nmontags\,            14:30 – 17:30 Uhr \nKosten:         2€
URL:https://www.nachbarschaftszentrum.info/event/bridge-3/2024-06-03/
CATEGORIES:Miteinander und Mitwirken
END:VEVENT
BEGIN:VEVENT
DTSTART;TZID=Europe/Berlin:20240603T180000
DTEND;TZID=Europe/Berlin:20240603T210000
DTSTAMP:20260421T204016
CREATED:20240312T113740Z
LAST-MODIFIED:20240702T130627Z
UID:10000794-1717437600-1717448400@www.nachbarschaftszentrum.info
SUMMARY:Skat – endlich mal wieder miteinander Skat spielen
DESCRIPTION:Anfänger:innen mit und ohne Vorkenntnisse und Fortgeschrittene sind herzlich willkommen! Die Regeln werden gerne erklärt! \nJanos Mayer und Klaus Wege \nmontags\,        18:00 – 21:00 Uhr \nTermine:       jeden 1. und 3. Montag im Monat \nKosten:         keine \nAnmeldung: Nachbarschaftszentrum (NBB)
URL:https://www.nachbarschaftszentrum.info/event/skat-endlich-mal-wieder-miteinander-skat-spielen-5/2024-06-03/
CATEGORIES:Miteinander und Mitwirken
END:VEVENT
BEGIN:VEVENT
DTSTART;TZID=Europe/Berlin:20240605T124500
DTEND;TZID=Europe/Berlin:20240605T133000
DTSTAMP:20260421T204016
CREATED:20240312T132019Z
LAST-MODIFIED:20240312T132019Z
UID:10000076-1717591500-1717594200@www.nachbarschaftszentrum.info
SUMMARY:Mittagstisch - Unser ehrenamtliches Team kocht für Sie
DESCRIPTION:In netter Nachbarschaft leckeres Essen genießen – freuen Sie sich einmal wöchentlich auf wechselnde kulinarische Highlights. Unser ehrenamtliches Kochteam kocht mit Freude für Sie. Kommen Sie vorbei und lassen Sie sich kulinarisch verwöhnen! Die Menüpläne hängen im NBB aus. \nmittwochs\,     12:45 -13:30 Uhr \nKosten:         siehe Menüplan \nAnmeldung: bis jeweils montags vorher im NBB erforderlich!
URL:https://www.nachbarschaftszentrum.info/event/mittagstisch-unser-ehrenamtliches-team-kocht-fuer-sie-3/2024-06-05/
CATEGORIES:Gemeinsam genießen
END:VEVENT
BEGIN:VEVENT
DTSTART;TZID=Europe/Berlin:20240605T150000
DTEND;TZID=Europe/Berlin:20240605T180000
DTSTAMP:20260421T204016
CREATED:20240312T114532Z
LAST-MODIFIED:20240918T110631Z
UID:10001281-1717599600-1717610400@www.nachbarschaftszentrum.info
SUMMARY:Offener Spielenachmittag
DESCRIPTION:Wir laden alle ein\, die gerne spielen\, einfach mal vorbeizuschauen und mitzuspielen. Wir entscheiden bei jedem Treffen neu\, welche Spiele wir an dem Abend spielen möchten. \nMarie–Luise Ratje und Ruth Mohr \nmittwochs\,     15:00 – 18:00 Uhr \nTermine:       jeden 1. und 3. Mittwoch im Monat \nAnmeldung: bis jeweils dienstags vorher im NBB erforderlich!
URL:https://www.nachbarschaftszentrum.info/event/offener-spielenachmittag-2/2024-06-05/
CATEGORIES:Miteinander und Mitwirken
END:VEVENT
BEGIN:VEVENT
DTSTART;TZID=Europe/Berlin:20240605T190000
DTEND;TZID=Europe/Berlin:20240605T210000
DTSTAMP:20260421T204016
CREATED:20240312T115457Z
LAST-MODIFIED:20240625T102358Z
UID:10000004-1717614000-1717621200@www.nachbarschaftszentrum.info
SUMMARY:Treffen des Schiffsmodellbau Clubs Bonn
DESCRIPTION:Der Schiffmodellclub Bonn e.V. (kurz SMC-Bonn) trifft sich einmal im Monat im Nachbarschaftszentrum Brüser Berg zum Clubabend. Dort werden die Aktivitäten des Vereins geplant und es wird auch viel über den Schiffmodellbau gefachsimpelt. Neue Mitglieder und auch Gäste sind dem Verein jederzeit herzlich willkommen. \nPeter Ziegler
URL:https://www.nachbarschaftszentrum.info/event/treffen-des-schiffsmodellbau-clubs-bonn-2/2024-06-05/
CATEGORIES:Miteinander und Mitwirken
END:VEVENT
BEGIN:VEVENT
DTSTART;TZID=Europe/Berlin:20240606T100000
DTEND;TZID=Europe/Berlin:20240606T113000
DTSTAMP:20260421T204016
CREATED:20240312T105949Z
LAST-MODIFIED:20250610T100841Z
UID:10000588-1717668000-1717673400@www.nachbarschaftszentrum.info
SUMMARY:Sprechstunde - Digitalisierung
DESCRIPTION:In der Digitalsprechstunde am Donnerstag bekommen Interessierte organisatorische und technische Hilfestellung rund um die digitalen Medien und den zugehörigen Geräten wie Smartphone\, Tablet\, Laptop und PC. Smartphone\, Eigene Geräte können gerne mitgebracht werden. Drei Laptops stehen zur freien zur Verfügung bereit.\nErfahrene Anleiter werden Ihre Fragen beantworten und bei der Problemlösung helfen.\nEgon Troles und Detlef Leipelt \nAnmeldung: Nachbarschaftszentrum (NBB)
URL:https://www.nachbarschaftszentrum.info/event/pc-hilfestellung-fuer-interessierte-4/2024-06-06/
CATEGORIES:Bildung und Wissen
END:VEVENT
BEGIN:VEVENT
DTSTART;TZID=Europe/Berlin:20240606T143000
DTEND;TZID=Europe/Berlin:20240606T180000
DTSTAMP:20260421T204016
CREATED:20240312T114251Z
LAST-MODIFIED:20241021T115633Z
UID:10001007-1717684200-1717696800@www.nachbarschaftszentrum.info
SUMMARY:Bridge
DESCRIPTION:Anfänger:innen und Fortgeschrittene willkommen. \nTermine:       Klaus Heuschötter \ndonnerstags\,      14:30 – 18:00 Uhr \nRuth Mohr \nmontags\,            14:30 – 17:30 Uhr \nKosten:         2€
URL:https://www.nachbarschaftszentrum.info/event/bridge-3/2024-06-06/
CATEGORIES:Miteinander und Mitwirken
END:VEVENT
BEGIN:VEVENT
DTSTART;TZID=Europe/Berlin:20240606T190000
DTEND;TZID=Europe/Berlin:20240606T200000
DTSTAMP:20260421T204016
CREATED:20240312T114058Z
LAST-MODIFIED:20240312T114058Z
UID:10000866-1717700400-1717704000@www.nachbarschaftszentrum.info
SUMMARY:Doppelkopf
DESCRIPTION:Doppelkopf nach den Regeln des Deutschen Doppelkopfverbandes. Nur für Spieler:innen mit Spielerfahrung. KEINE Anfänger:innenschulung! \nKonrad Koch \ndonnerstags\,  19:00 – 22:00 Uhr \nTermine:       jeden Donnerstag \nKosten:         keine \nAnmeldung: E-Mail: konradkoch@gmx.de
URL:https://www.nachbarschaftszentrum.info/event/doppelkopf-4/2024-06-06/
CATEGORIES:Miteinander und Mitwirken
END:VEVENT
BEGIN:VEVENT
DTSTART;TZID=Europe/Berlin:20240608T100000
DTEND;TZID=Europe/Berlin:20240608T150000
DTSTAMP:20260421T204016
CREATED:20240312T133507Z
LAST-MODIFIED:20240626T110916Z
UID:10000122-1717840800-1717858800@www.nachbarschaftszentrum.info
SUMMARY:Offener Kreativtreff
DESCRIPTION:Kreatives Arbeiten macht oft gemeinsam mehr Freude als alleine zu Hause. Im Atelier der Stadtteilkultur kann man sich austauschen\, in den Anleitungsbüchern stöbern\, Anregungen und Hilfestellungen bekommen. Jede(r) bringt mit\, womit und woran er/sie arbeiten möchte oder holt sich vor Ort Anregungen (Material gegen Kostenerstattung). \nInitiative Stadtteilkultur\, Anne Hensgen \nsamstags\,      10:00 – 15:00 Uhr\nKosten:         5€\nOrt:               Atelier in der Borsigallee 12\, Brüser Berg \n 
URL:https://www.nachbarschaftszentrum.info/event/offener-kreativtreff-6/2024-06-08/
CATEGORIES:Kunst und Kultur
END:VEVENT
BEGIN:VEVENT
DTSTART;TZID=Europe/Berlin:20240610T130000
DTEND;TZID=Europe/Berlin:20240610T150000
DTSTAMP:20260421T204016
CREATED:20240312T112807Z
LAST-MODIFIED:20250604T135447Z
UID:10000724-1718024400-1718031600@www.nachbarschaftszentrum.info
SUMMARY:Beratung zur Schwerbehinderung – Blindheit und  Sehbehinderung“
DESCRIPTION:Mitarbeitende des Blinden- und Sehbehindertenvereins Bonn/Rhein-Sieg e.V. beraten und unterstützen Menschen\, die von Blindheit oder Sehbehinderung betroffen oder bedroht sind\, sowie deren Angehörige. Wir informieren über Unterstützungsmöglichkeiten und Hilfsmittel und helfen bei Antragstellung für den Schwerbehindertenausweis\, Pflegegrad\, Blindengeld u.a. . Ein Dolmetscher/Integrationshelfer für Kurdisch\, Türkisch und Arabisch ist Teil des Beraterteams. Einzelberatung\, bzw. mit Begleitperson. \nMitarbeitende des Blinden- und Sehbehindertenverei Bonn/Rhein-Sieg e.V.
URL:https://www.nachbarschaftszentrum.info/event/beratung-zur-schwerbehinderung-blindheit-und-sehbehinderung-4/2024-06-10/
CATEGORIES:Beratung und Information
END:VEVENT
BEGIN:VEVENT
DTSTART;TZID=Europe/Berlin:20240610T143000
DTEND;TZID=Europe/Berlin:20240610T173000
DTSTAMP:20260421T204017
CREATED:20241211T073509Z
LAST-MODIFIED:20241211T073509Z
UID:10001148-1718029800-1718040600@www.nachbarschaftszentrum.info
SUMMARY:Bridge
DESCRIPTION:Anfänger:innen und Fortgeschrittene willkommen. \nTermine:       Klaus Heuschötter \ndonnerstags\,      14:30 – 18:00 Uhr \nRuth Mohr \nmontags\,            14:30 – 17:30 Uhr \nKosten:         2€
URL:https://www.nachbarschaftszentrum.info/event/bridge-3/2024-06-10/
CATEGORIES:Miteinander und Mitwirken
END:VEVENT
BEGIN:VEVENT
DTSTART;TZID=Europe/Berlin:20240612T124500
DTEND;TZID=Europe/Berlin:20240612T133000
DTSTAMP:20260421T204017
CREATED:20240312T132019Z
LAST-MODIFIED:20240312T132019Z
UID:10000077-1718196300-1718199000@www.nachbarschaftszentrum.info
SUMMARY:Mittagstisch - Unser ehrenamtliches Team kocht für Sie
DESCRIPTION:In netter Nachbarschaft leckeres Essen genießen – freuen Sie sich einmal wöchentlich auf wechselnde kulinarische Highlights. Unser ehrenamtliches Kochteam kocht mit Freude für Sie. Kommen Sie vorbei und lassen Sie sich kulinarisch verwöhnen! Die Menüpläne hängen im NBB aus. \nmittwochs\,     12:45 -13:30 Uhr \nKosten:         siehe Menüplan \nAnmeldung: bis jeweils montags vorher im NBB erforderlich!
URL:https://www.nachbarschaftszentrum.info/event/mittagstisch-unser-ehrenamtliches-team-kocht-fuer-sie-3/2024-06-12/
CATEGORIES:Gemeinsam genießen
END:VEVENT
BEGIN:VEVENT
DTSTART;TZID=Europe/Berlin:20240613T100000
DTEND;TZID=Europe/Berlin:20240613T113000
DTSTAMP:20260421T204017
CREATED:20240312T105949Z
LAST-MODIFIED:20250610T100841Z
UID:10000589-1718272800-1718278200@www.nachbarschaftszentrum.info
SUMMARY:Sprechstunde - Digitalisierung
DESCRIPTION:In der Digitalsprechstunde am Donnerstag bekommen Interessierte organisatorische und technische Hilfestellung rund um die digitalen Medien und den zugehörigen Geräten wie Smartphone\, Tablet\, Laptop und PC. Smartphone\, Eigene Geräte können gerne mitgebracht werden. Drei Laptops stehen zur freien zur Verfügung bereit.\nErfahrene Anleiter werden Ihre Fragen beantworten und bei der Problemlösung helfen.\nEgon Troles und Detlef Leipelt \nAnmeldung: Nachbarschaftszentrum (NBB)
URL:https://www.nachbarschaftszentrum.info/event/pc-hilfestellung-fuer-interessierte-4/2024-06-13/
CATEGORIES:Bildung und Wissen
END:VEVENT
BEGIN:VEVENT
DTSTART;TZID=Europe/Berlin:20240613T143000
DTEND;TZID=Europe/Berlin:20240613T180000
DTSTAMP:20260421T204017
CREATED:20240312T114251Z
LAST-MODIFIED:20241021T115633Z
UID:10001008-1718289000-1718301600@www.nachbarschaftszentrum.info
SUMMARY:Bridge
DESCRIPTION:Anfänger:innen und Fortgeschrittene willkommen. \nTermine:       Klaus Heuschötter \ndonnerstags\,      14:30 – 18:00 Uhr \nRuth Mohr \nmontags\,            14:30 – 17:30 Uhr \nKosten:         2€
URL:https://www.nachbarschaftszentrum.info/event/bridge-3/2024-06-13/
CATEGORIES:Miteinander und Mitwirken
END:VEVENT
BEGIN:VEVENT
DTSTART;TZID=Europe/Berlin:20240613T190000
DTEND;TZID=Europe/Berlin:20240613T200000
DTSTAMP:20260421T204017
CREATED:20240312T114058Z
LAST-MODIFIED:20240312T114058Z
UID:10000867-1718305200-1718308800@www.nachbarschaftszentrum.info
SUMMARY:Doppelkopf
DESCRIPTION:Doppelkopf nach den Regeln des Deutschen Doppelkopfverbandes. Nur für Spieler:innen mit Spielerfahrung. KEINE Anfänger:innenschulung! \nKonrad Koch \ndonnerstags\,  19:00 – 22:00 Uhr \nTermine:       jeden Donnerstag \nKosten:         keine \nAnmeldung: E-Mail: konradkoch@gmx.de
URL:https://www.nachbarschaftszentrum.info/event/doppelkopf-4/2024-06-13/
CATEGORIES:Miteinander und Mitwirken
END:VEVENT
BEGIN:VEVENT
DTSTART;TZID=Europe/Berlin:20240615T100000
DTEND;TZID=Europe/Berlin:20240615T150000
DTSTAMP:20260421T204017
CREATED:20240312T133507Z
LAST-MODIFIED:20240626T110916Z
UID:10000123-1718445600-1718463600@www.nachbarschaftszentrum.info
SUMMARY:Offener Kreativtreff
DESCRIPTION:Kreatives Arbeiten macht oft gemeinsam mehr Freude als alleine zu Hause. Im Atelier der Stadtteilkultur kann man sich austauschen\, in den Anleitungsbüchern stöbern\, Anregungen und Hilfestellungen bekommen. Jede(r) bringt mit\, womit und woran er/sie arbeiten möchte oder holt sich vor Ort Anregungen (Material gegen Kostenerstattung). \nInitiative Stadtteilkultur\, Anne Hensgen \nsamstags\,      10:00 – 15:00 Uhr\nKosten:         5€\nOrt:               Atelier in der Borsigallee 12\, Brüser Berg \n 
URL:https://www.nachbarschaftszentrum.info/event/offener-kreativtreff-6/2024-06-15/
CATEGORIES:Kunst und Kultur
END:VEVENT
BEGIN:VEVENT
DTSTART;TZID=Europe/Berlin:20240617T143000
DTEND;TZID=Europe/Berlin:20240617T173000
DTSTAMP:20260421T204017
CREATED:20241211T073509Z
LAST-MODIFIED:20241211T073509Z
UID:10001149-1718634600-1718645400@www.nachbarschaftszentrum.info
SUMMARY:Bridge
DESCRIPTION:Anfänger:innen und Fortgeschrittene willkommen. \nTermine:       Klaus Heuschötter \ndonnerstags\,      14:30 – 18:00 Uhr \nRuth Mohr \nmontags\,            14:30 – 17:30 Uhr \nKosten:         2€
URL:https://www.nachbarschaftszentrum.info/event/bridge-3/2024-06-17/
CATEGORIES:Miteinander und Mitwirken
END:VEVENT
BEGIN:VEVENT
DTSTART;TZID=Europe/Berlin:20240617T180000
DTEND;TZID=Europe/Berlin:20240617T210000
DTSTAMP:20260421T204017
CREATED:20241211T073508Z
LAST-MODIFIED:20241211T073508Z
UID:10000827-1718647200-1718658000@www.nachbarschaftszentrum.info
SUMMARY:Skat – endlich mal wieder miteinander Skat spielen
DESCRIPTION:Anfänger:innen mit und ohne Vorkenntnisse und Fortgeschrittene sind herzlich willkommen! Die Regeln werden gerne erklärt! \nJanos Mayer und Klaus Wege \nmontags\,        18:00 – 21:00 Uhr \nTermine:       jeden 1. und 3. Montag im Monat \nKosten:         keine \nAnmeldung: Nachbarschaftszentrum (NBB)
URL:https://www.nachbarschaftszentrum.info/event/skat-endlich-mal-wieder-miteinander-skat-spielen-5/2024-06-17/
CATEGORIES:Miteinander und Mitwirken
END:VEVENT
BEGIN:VEVENT
DTSTART;TZID=Europe/Berlin:20240619T124500
DTEND;TZID=Europe/Berlin:20240619T133000
DTSTAMP:20260421T204017
CREATED:20240312T132019Z
LAST-MODIFIED:20240312T132019Z
UID:10000078-1718801100-1718803800@www.nachbarschaftszentrum.info
SUMMARY:Mittagstisch - Unser ehrenamtliches Team kocht für Sie
DESCRIPTION:In netter Nachbarschaft leckeres Essen genießen – freuen Sie sich einmal wöchentlich auf wechselnde kulinarische Highlights. Unser ehrenamtliches Kochteam kocht mit Freude für Sie. Kommen Sie vorbei und lassen Sie sich kulinarisch verwöhnen! Die Menüpläne hängen im NBB aus. \nmittwochs\,     12:45 -13:30 Uhr \nKosten:         siehe Menüplan \nAnmeldung: bis jeweils montags vorher im NBB erforderlich!
URL:https://www.nachbarschaftszentrum.info/event/mittagstisch-unser-ehrenamtliches-team-kocht-fuer-sie-3/2024-06-19/
CATEGORIES:Gemeinsam genießen
END:VEVENT
BEGIN:VEVENT
DTSTART;TZID=Europe/Berlin:20240619T150000
DTEND;TZID=Europe/Berlin:20240619T180000
DTSTAMP:20260421T204017
CREATED:20241211T073510Z
LAST-MODIFIED:20241211T130914Z
UID:10001313-1718809200-1718820000@www.nachbarschaftszentrum.info
SUMMARY:Offener Spielenachmittag
DESCRIPTION:Wir laden alle ein\, die gerne spielen\, einfach mal vorbeizuschauen und mitzuspielen. Wir entscheiden bei jedem Treffen neu\, welche Spiele wir an dem Abend spielen möchten. \nMarie–Luise Ratje und Ruth Mohr \nmittwochs\,     15:00 – 18:00 Uhr \nTermine:       jeden 1. und 3. Mittwoch im Monat \nAnmeldung: bis jeweils dienstags vorher im NBB erforderlich!
URL:https://www.nachbarschaftszentrum.info/event/offener-spielenachmittag-2-2/2024-06-19/
CATEGORIES:Miteinander und Mitwirken
END:VEVENT
BEGIN:VEVENT
DTSTART;TZID=Europe/Berlin:20240620T100000
DTEND;TZID=Europe/Berlin:20240620T113000
DTSTAMP:20260421T204017
CREATED:20240312T105949Z
LAST-MODIFIED:20250610T100841Z
UID:10000590-1718877600-1718883000@www.nachbarschaftszentrum.info
SUMMARY:Sprechstunde - Digitalisierung
DESCRIPTION:In der Digitalsprechstunde am Donnerstag bekommen Interessierte organisatorische und technische Hilfestellung rund um die digitalen Medien und den zugehörigen Geräten wie Smartphone\, Tablet\, Laptop und PC. Smartphone\, Eigene Geräte können gerne mitgebracht werden. Drei Laptops stehen zur freien zur Verfügung bereit.\nErfahrene Anleiter werden Ihre Fragen beantworten und bei der Problemlösung helfen.\nEgon Troles und Detlef Leipelt \nAnmeldung: Nachbarschaftszentrum (NBB)
URL:https://www.nachbarschaftszentrum.info/event/pc-hilfestellung-fuer-interessierte-4/2024-06-20/
CATEGORIES:Bildung und Wissen
END:VEVENT
BEGIN:VEVENT
DTSTART;TZID=Europe/Berlin:20240620T143000
DTEND;TZID=Europe/Berlin:20240620T180000
DTSTAMP:20260421T204017
CREATED:20240312T114251Z
LAST-MODIFIED:20241021T115633Z
UID:10001009-1718893800-1718906400@www.nachbarschaftszentrum.info
SUMMARY:Bridge
DESCRIPTION:Anfänger:innen und Fortgeschrittene willkommen. \nTermine:       Klaus Heuschötter \ndonnerstags\,      14:30 – 18:00 Uhr \nRuth Mohr \nmontags\,            14:30 – 17:30 Uhr \nKosten:         2€
URL:https://www.nachbarschaftszentrum.info/event/bridge-3/2024-06-20/
CATEGORIES:Miteinander und Mitwirken
END:VEVENT
BEGIN:VEVENT
DTSTART;TZID=Europe/Berlin:20240620T190000
DTEND;TZID=Europe/Berlin:20240620T200000
DTSTAMP:20260421T204017
CREATED:20240312T114058Z
LAST-MODIFIED:20240312T114058Z
UID:10000868-1718910000-1718913600@www.nachbarschaftszentrum.info
SUMMARY:Doppelkopf
DESCRIPTION:Doppelkopf nach den Regeln des Deutschen Doppelkopfverbandes. Nur für Spieler:innen mit Spielerfahrung. KEINE Anfänger:innenschulung! \nKonrad Koch \ndonnerstags\,  19:00 – 22:00 Uhr \nTermine:       jeden Donnerstag \nKosten:         keine \nAnmeldung: E-Mail: konradkoch@gmx.de
URL:https://www.nachbarschaftszentrum.info/event/doppelkopf-4/2024-06-20/
CATEGORIES:Miteinander und Mitwirken
END:VEVENT
BEGIN:VEVENT
DTSTART;TZID=Europe/Berlin:20240622T100000
DTEND;TZID=Europe/Berlin:20240622T150000
DTSTAMP:20260421T204017
CREATED:20240312T133507Z
LAST-MODIFIED:20240626T110916Z
UID:10000124-1719050400-1719068400@www.nachbarschaftszentrum.info
SUMMARY:Offener Kreativtreff
DESCRIPTION:Kreatives Arbeiten macht oft gemeinsam mehr Freude als alleine zu Hause. Im Atelier der Stadtteilkultur kann man sich austauschen\, in den Anleitungsbüchern stöbern\, Anregungen und Hilfestellungen bekommen. Jede(r) bringt mit\, womit und woran er/sie arbeiten möchte oder holt sich vor Ort Anregungen (Material gegen Kostenerstattung). \nInitiative Stadtteilkultur\, Anne Hensgen \nsamstags\,      10:00 – 15:00 Uhr\nKosten:         5€\nOrt:               Atelier in der Borsigallee 12\, Brüser Berg \n 
URL:https://www.nachbarschaftszentrum.info/event/offener-kreativtreff-6/2024-06-22/
CATEGORIES:Kunst und Kultur
END:VEVENT
BEGIN:VEVENT
DTSTART;TZID=Europe/Berlin:20240624T143000
DTEND;TZID=Europe/Berlin:20240624T173000
DTSTAMP:20260421T204017
CREATED:20241211T073509Z
LAST-MODIFIED:20241211T073509Z
UID:10001150-1719239400-1719250200@www.nachbarschaftszentrum.info
SUMMARY:Bridge
DESCRIPTION:Anfänger:innen und Fortgeschrittene willkommen. \nTermine:       Klaus Heuschötter \ndonnerstags\,      14:30 – 18:00 Uhr \nRuth Mohr \nmontags\,            14:30 – 17:30 Uhr \nKosten:         2€
URL:https://www.nachbarschaftszentrum.info/event/bridge-3/2024-06-24/
CATEGORIES:Miteinander und Mitwirken
END:VEVENT
BEGIN:VEVENT
DTSTART;TZID=Europe/Berlin:20240626T124500
DTEND;TZID=Europe/Berlin:20240626T133000
DTSTAMP:20260421T204017
CREATED:20240312T132019Z
LAST-MODIFIED:20240312T132019Z
UID:10000079-1719405900-1719408600@www.nachbarschaftszentrum.info
SUMMARY:Mittagstisch - Unser ehrenamtliches Team kocht für Sie
DESCRIPTION:In netter Nachbarschaft leckeres Essen genießen – freuen Sie sich einmal wöchentlich auf wechselnde kulinarische Highlights. Unser ehrenamtliches Kochteam kocht mit Freude für Sie. Kommen Sie vorbei und lassen Sie sich kulinarisch verwöhnen! Die Menüpläne hängen im NBB aus. \nmittwochs\,     12:45 -13:30 Uhr \nKosten:         siehe Menüplan \nAnmeldung: bis jeweils montags vorher im NBB erforderlich!
URL:https://www.nachbarschaftszentrum.info/event/mittagstisch-unser-ehrenamtliches-team-kocht-fuer-sie-3/2024-06-26/
CATEGORIES:Gemeinsam genießen
END:VEVENT
BEGIN:VEVENT
DTSTART;TZID=Europe/Berlin:20240626T124500
DTEND;TZID=Europe/Berlin:20240626T133000
DTSTAMP:20260421T204017
CREATED:20240621T141803Z
LAST-MODIFIED:20240621T141950Z
UID:10000278-1719405900-1719408600@www.nachbarschaftszentrum.info
SUMMARY:Mittagstisch - Unser ehrenamtliches Team kocht für Sie
DESCRIPTION:In netter Nachbarschaft leckeres Essen genießen – freuen Sie sich einmal wöchentlich auf wechselnde kulinarische High-lights. Unser ehrenamtliches Kochteam kocht mit Freude für Sie. Kommen Sie vorbei und lassen Sie sich kulinarisch ver-wöhnen! Die Menüpläne hängen im NBB aus.\nKosten: siehe Menüplan\nAnmeldung: bis jeweils montags vorher im NBB erforderlich!
URL:https://www.nachbarschaftszentrum.info/event/mittagstisch-unser-ehrenamtliches-team-kocht-fuer-sie-4/2024-06-26/
CATEGORIES:Gemeinsam genießen
END:VEVENT
BEGIN:VEVENT
DTSTART;TZID=Europe/Berlin:20240627T143000
DTEND;TZID=Europe/Berlin:20240627T180000
DTSTAMP:20260421T204017
CREATED:20240312T114251Z
LAST-MODIFIED:20241021T115633Z
UID:10001010-1719498600-1719511200@www.nachbarschaftszentrum.info
SUMMARY:Bridge
DESCRIPTION:Anfänger:innen und Fortgeschrittene willkommen. \nTermine:       Klaus Heuschötter \ndonnerstags\,      14:30 – 18:00 Uhr \nRuth Mohr \nmontags\,            14:30 – 17:30 Uhr \nKosten:         2€
URL:https://www.nachbarschaftszentrum.info/event/bridge-3/2024-06-27/
CATEGORIES:Miteinander und Mitwirken
END:VEVENT
BEGIN:VEVENT
DTSTART;TZID=Europe/Berlin:20240627T190000
DTEND;TZID=Europe/Berlin:20240627T200000
DTSTAMP:20260421T204017
CREATED:20240312T114058Z
LAST-MODIFIED:20240312T114058Z
UID:10000869-1719514800-1719518400@www.nachbarschaftszentrum.info
SUMMARY:Doppelkopf
DESCRIPTION:Doppelkopf nach den Regeln des Deutschen Doppelkopfverbandes. Nur für Spieler:innen mit Spielerfahrung. KEINE Anfänger:innenschulung! \nKonrad Koch \ndonnerstags\,  19:00 – 22:00 Uhr \nTermine:       jeden Donnerstag \nKosten:         keine \nAnmeldung: E-Mail: konradkoch@gmx.de
URL:https://www.nachbarschaftszentrum.info/event/doppelkopf-4/2024-06-27/
CATEGORIES:Miteinander und Mitwirken
END:VEVENT
END:VCALENDAR