BEGIN:VCALENDAR
VERSION:2.0
PRODID:-//NBB | Nachbarschaftszentrum Brüser Berg - ECPv6.15.20//NONSGML v1.0//EN
CALSCALE:GREGORIAN
METHOD:PUBLISH
X-ORIGINAL-URL:https://www.nachbarschaftszentrum.info
X-WR-CALDESC:Veranstaltungen für NBB | Nachbarschaftszentrum Brüser Berg
REFRESH-INTERVAL;VALUE=DURATION:PT1H
X-Robots-Tag:noindex
X-PUBLISHED-TTL:PT1H
BEGIN:VTIMEZONE
TZID:Europe/Berlin
BEGIN:DAYLIGHT
TZOFFSETFROM:+0100
TZOFFSETTO:+0200
TZNAME:CEST
DTSTART:20230326T010000
END:DAYLIGHT
BEGIN:STANDARD
TZOFFSETFROM:+0200
TZOFFSETTO:+0100
TZNAME:CET
DTSTART:20231029T010000
END:STANDARD
BEGIN:DAYLIGHT
TZOFFSETFROM:+0100
TZOFFSETTO:+0200
TZNAME:CEST
DTSTART:20240331T010000
END:DAYLIGHT
BEGIN:STANDARD
TZOFFSETFROM:+0200
TZOFFSETTO:+0100
TZNAME:CET
DTSTART:20241027T010000
END:STANDARD
BEGIN:DAYLIGHT
TZOFFSETFROM:+0100
TZOFFSETTO:+0200
TZNAME:CEST
DTSTART:20250330T010000
END:DAYLIGHT
BEGIN:STANDARD
TZOFFSETFROM:+0200
TZOFFSETTO:+0100
TZNAME:CET
DTSTART:20251026T010000
END:STANDARD
END:VTIMEZONE
BEGIN:VEVENT
DTSTART;TZID=Europe/Berlin:20240401T180000
DTEND;TZID=Europe/Berlin:20240401T210000
DTSTAMP:20260422T005430
CREATED:20240312T113740Z
LAST-MODIFIED:20240702T130627Z
UID:10000792-1711994400-1712005200@www.nachbarschaftszentrum.info
SUMMARY:Skat – endlich mal wieder miteinander Skat spielen
DESCRIPTION:Anfänger:innen mit und ohne Vorkenntnisse und Fortgeschrittene sind herzlich willkommen! Die Regeln werden gerne erklärt! \nJanos Mayer und Klaus Wege \nmontags\,        18:00 – 21:00 Uhr \nTermine:       jeden 1. und 3. Montag im Monat \nKosten:         keine \nAnmeldung: Nachbarschaftszentrum (NBB)
URL:https://www.nachbarschaftszentrum.info/event/skat-endlich-mal-wieder-miteinander-skat-spielen-5/2024-04-01/
CATEGORIES:Miteinander und Mitwirken
END:VEVENT
BEGIN:VEVENT
DTSTART;TZID=Europe/Berlin:20240403T124500
DTEND;TZID=Europe/Berlin:20240403T133000
DTSTAMP:20260422T005430
CREATED:20240312T132019Z
LAST-MODIFIED:20240312T132019Z
UID:10000067-1712148300-1712151000@www.nachbarschaftszentrum.info
SUMMARY:Mittagstisch - Unser ehrenamtliches Team kocht für Sie
DESCRIPTION:In netter Nachbarschaft leckeres Essen genießen – freuen Sie sich einmal wöchentlich auf wechselnde kulinarische Highlights. Unser ehrenamtliches Kochteam kocht mit Freude für Sie. Kommen Sie vorbei und lassen Sie sich kulinarisch verwöhnen! Die Menüpläne hängen im NBB aus. \nmittwochs\,     12:45 -13:30 Uhr \nKosten:         siehe Menüplan \nAnmeldung: bis jeweils montags vorher im NBB erforderlich!
URL:https://www.nachbarschaftszentrum.info/event/mittagstisch-unser-ehrenamtliches-team-kocht-fuer-sie-3/2024-04-03/
CATEGORIES:Gemeinsam genießen
END:VEVENT
BEGIN:VEVENT
DTSTART;TZID=Europe/Berlin:20240403T150000
DTEND;TZID=Europe/Berlin:20240403T180000
DTSTAMP:20260422T005430
CREATED:20240312T114532Z
LAST-MODIFIED:20240918T110631Z
UID:10001279-1712156400-1712167200@www.nachbarschaftszentrum.info
SUMMARY:Offener Spielenachmittag
DESCRIPTION:Wir laden alle ein\, die gerne spielen\, einfach mal vorbeizuschauen und mitzuspielen. Wir entscheiden bei jedem Treffen neu\, welche Spiele wir an dem Abend spielen möchten. \nMarie–Luise Ratje und Ruth Mohr \nmittwochs\,     15:00 – 18:00 Uhr \nTermine:       jeden 1. und 3. Mittwoch im Monat \nAnmeldung: bis jeweils dienstags vorher im NBB erforderlich!
URL:https://www.nachbarschaftszentrum.info/event/offener-spielenachmittag-2/2024-04-03/
CATEGORIES:Miteinander und Mitwirken
END:VEVENT
BEGIN:VEVENT
DTSTART;TZID=Europe/Berlin:20240403T190000
DTEND;TZID=Europe/Berlin:20240403T210000
DTSTAMP:20260422T005430
CREATED:20240312T115457Z
LAST-MODIFIED:20240625T102358Z
UID:10000001-1712170800-1712178000@www.nachbarschaftszentrum.info
SUMMARY:Treffen des Schiffsmodellbau Clubs Bonn
DESCRIPTION:Der Schiffmodellclub Bonn e.V. (kurz SMC-Bonn) trifft sich einmal im Monat im Nachbarschaftszentrum Brüser Berg zum Clubabend. Dort werden die Aktivitäten des Vereins geplant und es wird auch viel über den Schiffmodellbau gefachsimpelt. Neue Mitglieder und auch Gäste sind dem Verein jederzeit herzlich willkommen. \nPeter Ziegler
URL:https://www.nachbarschaftszentrum.info/event/treffen-des-schiffsmodellbau-clubs-bonn-2/2024-04-03/
CATEGORIES:Miteinander und Mitwirken
END:VEVENT
BEGIN:VEVENT
DTSTART;TZID=Europe/Berlin:20240404T143000
DTEND;TZID=Europe/Berlin:20240404T180000
DTSTAMP:20260422T005430
CREATED:20240312T114251Z
LAST-MODIFIED:20241021T115633Z
UID:10000998-1712241000-1712253600@www.nachbarschaftszentrum.info
SUMMARY:Bridge
DESCRIPTION:Anfänger:innen und Fortgeschrittene willkommen. \nTermine:       Klaus Heuschötter \ndonnerstags\,      14:30 – 18:00 Uhr \nRuth Mohr \nmontags\,            14:30 – 17:30 Uhr \nKosten:         2€
URL:https://www.nachbarschaftszentrum.info/event/bridge-3/2024-04-04/
CATEGORIES:Miteinander und Mitwirken
END:VEVENT
BEGIN:VEVENT
DTSTART;TZID=Europe/Berlin:20240404T190000
DTEND;TZID=Europe/Berlin:20240404T200000
DTSTAMP:20260422T005430
CREATED:20240312T114058Z
LAST-MODIFIED:20240312T114058Z
UID:10000857-1712257200-1712260800@www.nachbarschaftszentrum.info
SUMMARY:Doppelkopf
DESCRIPTION:Doppelkopf nach den Regeln des Deutschen Doppelkopfverbandes. Nur für Spieler:innen mit Spielerfahrung. KEINE Anfänger:innenschulung! \nKonrad Koch \ndonnerstags\,  19:00 – 22:00 Uhr \nTermine:       jeden Donnerstag \nKosten:         keine \nAnmeldung: E-Mail: konradkoch@gmx.de
URL:https://www.nachbarschaftszentrum.info/event/doppelkopf-4/2024-04-04/
CATEGORIES:Miteinander und Mitwirken
END:VEVENT
BEGIN:VEVENT
DTSTART;TZID=Europe/Berlin:20240406T100000
DTEND;TZID=Europe/Berlin:20240406T150000
DTSTAMP:20260422T005430
CREATED:20240312T133507Z
LAST-MODIFIED:20240626T110916Z
UID:10000113-1712397600-1712415600@www.nachbarschaftszentrum.info
SUMMARY:Offener Kreativtreff
DESCRIPTION:Kreatives Arbeiten macht oft gemeinsam mehr Freude als alleine zu Hause. Im Atelier der Stadtteilkultur kann man sich austauschen\, in den Anleitungsbüchern stöbern\, Anregungen und Hilfestellungen bekommen. Jede(r) bringt mit\, womit und woran er/sie arbeiten möchte oder holt sich vor Ort Anregungen (Material gegen Kostenerstattung). \nInitiative Stadtteilkultur\, Anne Hensgen \nsamstags\,      10:00 – 15:00 Uhr\nKosten:         5€\nOrt:               Atelier in der Borsigallee 12\, Brüser Berg \n 
URL:https://www.nachbarschaftszentrum.info/event/offener-kreativtreff-6/2024-04-06/
CATEGORIES:Kunst und Kultur
END:VEVENT
BEGIN:VEVENT
DTSTART;TZID=Europe/Berlin:20240408T130000
DTEND;TZID=Europe/Berlin:20240408T150000
DTSTAMP:20260422T005430
CREATED:20240312T112807Z
LAST-MODIFIED:20250604T135447Z
UID:10000722-1712581200-1712588400@www.nachbarschaftszentrum.info
SUMMARY:Beratung zur Schwerbehinderung – Blindheit und  Sehbehinderung“
DESCRIPTION:Mitarbeitende des Blinden- und Sehbehindertenvereins Bonn/Rhein-Sieg e.V. beraten und unterstützen Menschen\, die von Blindheit oder Sehbehinderung betroffen oder bedroht sind\, sowie deren Angehörige. Wir informieren über Unterstützungsmöglichkeiten und Hilfsmittel und helfen bei Antragstellung für den Schwerbehindertenausweis\, Pflegegrad\, Blindengeld u.a. . Ein Dolmetscher/Integrationshelfer für Kurdisch\, Türkisch und Arabisch ist Teil des Beraterteams. Einzelberatung\, bzw. mit Begleitperson. \nMitarbeitende des Blinden- und Sehbehindertenverei Bonn/Rhein-Sieg e.V.
URL:https://www.nachbarschaftszentrum.info/event/beratung-zur-schwerbehinderung-blindheit-und-sehbehinderung-4/2024-04-08/
CATEGORIES:Beratung und Information
END:VEVENT
BEGIN:VEVENT
DTSTART;TZID=Europe/Berlin:20240408T143000
DTEND;TZID=Europe/Berlin:20240408T173000
DTSTAMP:20260422T005430
CREATED:20241211T073509Z
LAST-MODIFIED:20241211T073509Z
UID:10001139-1712586600-1712597400@www.nachbarschaftszentrum.info
SUMMARY:Bridge
DESCRIPTION:Anfänger:innen und Fortgeschrittene willkommen. \nTermine:       Klaus Heuschötter \ndonnerstags\,      14:30 – 18:00 Uhr \nRuth Mohr \nmontags\,            14:30 – 17:30 Uhr \nKosten:         2€
URL:https://www.nachbarschaftszentrum.info/event/bridge-3/2024-04-08/
CATEGORIES:Miteinander und Mitwirken
END:VEVENT
BEGIN:VEVENT
DTSTART;TZID=Europe/Berlin:20240410T124500
DTEND;TZID=Europe/Berlin:20240410T133000
DTSTAMP:20260422T005430
CREATED:20240312T132019Z
LAST-MODIFIED:20240312T132019Z
UID:10000068-1712753100-1712755800@www.nachbarschaftszentrum.info
SUMMARY:Mittagstisch - Unser ehrenamtliches Team kocht für Sie
DESCRIPTION:In netter Nachbarschaft leckeres Essen genießen – freuen Sie sich einmal wöchentlich auf wechselnde kulinarische Highlights. Unser ehrenamtliches Kochteam kocht mit Freude für Sie. Kommen Sie vorbei und lassen Sie sich kulinarisch verwöhnen! Die Menüpläne hängen im NBB aus. \nmittwochs\,     12:45 -13:30 Uhr \nKosten:         siehe Menüplan \nAnmeldung: bis jeweils montags vorher im NBB erforderlich!
URL:https://www.nachbarschaftszentrum.info/event/mittagstisch-unser-ehrenamtliches-team-kocht-fuer-sie-3/2024-04-10/
CATEGORIES:Gemeinsam genießen
END:VEVENT
BEGIN:VEVENT
DTSTART;TZID=Europe/Berlin:20240411T143000
DTEND;TZID=Europe/Berlin:20240411T180000
DTSTAMP:20260422T005430
CREATED:20240312T114251Z
LAST-MODIFIED:20241021T115633Z
UID:10000999-1712845800-1712858400@www.nachbarschaftszentrum.info
SUMMARY:Bridge
DESCRIPTION:Anfänger:innen und Fortgeschrittene willkommen. \nTermine:       Klaus Heuschötter \ndonnerstags\,      14:30 – 18:00 Uhr \nRuth Mohr \nmontags\,            14:30 – 17:30 Uhr \nKosten:         2€
URL:https://www.nachbarschaftszentrum.info/event/bridge-3/2024-04-11/
CATEGORIES:Miteinander und Mitwirken
END:VEVENT
BEGIN:VEVENT
DTSTART;TZID=Europe/Berlin:20240411T190000
DTEND;TZID=Europe/Berlin:20240411T200000
DTSTAMP:20260422T005430
CREATED:20240312T114058Z
LAST-MODIFIED:20240312T114058Z
UID:10000858-1712862000-1712865600@www.nachbarschaftszentrum.info
SUMMARY:Doppelkopf
DESCRIPTION:Doppelkopf nach den Regeln des Deutschen Doppelkopfverbandes. Nur für Spieler:innen mit Spielerfahrung. KEINE Anfänger:innenschulung! \nKonrad Koch \ndonnerstags\,  19:00 – 22:00 Uhr \nTermine:       jeden Donnerstag \nKosten:         keine \nAnmeldung: E-Mail: konradkoch@gmx.de
URL:https://www.nachbarschaftszentrum.info/event/doppelkopf-4/2024-04-11/
CATEGORIES:Miteinander und Mitwirken
END:VEVENT
BEGIN:VEVENT
DTSTART;TZID=Europe/Berlin:20240413T100000
DTEND;TZID=Europe/Berlin:20240413T150000
DTSTAMP:20260422T005430
CREATED:20240312T133507Z
LAST-MODIFIED:20240626T110916Z
UID:10000114-1713002400-1713020400@www.nachbarschaftszentrum.info
SUMMARY:Offener Kreativtreff
DESCRIPTION:Kreatives Arbeiten macht oft gemeinsam mehr Freude als alleine zu Hause. Im Atelier der Stadtteilkultur kann man sich austauschen\, in den Anleitungsbüchern stöbern\, Anregungen und Hilfestellungen bekommen. Jede(r) bringt mit\, womit und woran er/sie arbeiten möchte oder holt sich vor Ort Anregungen (Material gegen Kostenerstattung). \nInitiative Stadtteilkultur\, Anne Hensgen \nsamstags\,      10:00 – 15:00 Uhr\nKosten:         5€\nOrt:               Atelier in der Borsigallee 12\, Brüser Berg \n 
URL:https://www.nachbarschaftszentrum.info/event/offener-kreativtreff-6/2024-04-13/
CATEGORIES:Kunst und Kultur
END:VEVENT
BEGIN:VEVENT
DTSTART;TZID=Europe/Berlin:20240415T143000
DTEND;TZID=Europe/Berlin:20240415T173000
DTSTAMP:20260422T005430
CREATED:20241211T073509Z
LAST-MODIFIED:20241211T073509Z
UID:10001140-1713191400-1713202200@www.nachbarschaftszentrum.info
SUMMARY:Bridge
DESCRIPTION:Anfänger:innen und Fortgeschrittene willkommen. \nTermine:       Klaus Heuschötter \ndonnerstags\,      14:30 – 18:00 Uhr \nRuth Mohr \nmontags\,            14:30 – 17:30 Uhr \nKosten:         2€
URL:https://www.nachbarschaftszentrum.info/event/bridge-3/2024-04-15/
CATEGORIES:Miteinander und Mitwirken
END:VEVENT
BEGIN:VEVENT
DTSTART;TZID=Europe/Berlin:20240415T180000
DTEND;TZID=Europe/Berlin:20240415T210000
DTSTAMP:20260422T005430
CREATED:20241211T073508Z
LAST-MODIFIED:20241211T073508Z
UID:10000825-1713204000-1713214800@www.nachbarschaftszentrum.info
SUMMARY:Skat – endlich mal wieder miteinander Skat spielen
DESCRIPTION:Anfänger:innen mit und ohne Vorkenntnisse und Fortgeschrittene sind herzlich willkommen! Die Regeln werden gerne erklärt! \nJanos Mayer und Klaus Wege \nmontags\,        18:00 – 21:00 Uhr \nTermine:       jeden 1. und 3. Montag im Monat \nKosten:         keine \nAnmeldung: Nachbarschaftszentrum (NBB)
URL:https://www.nachbarschaftszentrum.info/event/skat-endlich-mal-wieder-miteinander-skat-spielen-5/2024-04-15/
CATEGORIES:Miteinander und Mitwirken
END:VEVENT
BEGIN:VEVENT
DTSTART;TZID=Europe/Berlin:20240417T124500
DTEND;TZID=Europe/Berlin:20240417T133000
DTSTAMP:20260422T005430
CREATED:20240312T132019Z
LAST-MODIFIED:20240312T132019Z
UID:10000069-1713357900-1713360600@www.nachbarschaftszentrum.info
SUMMARY:Mittagstisch - Unser ehrenamtliches Team kocht für Sie
DESCRIPTION:In netter Nachbarschaft leckeres Essen genießen – freuen Sie sich einmal wöchentlich auf wechselnde kulinarische Highlights. Unser ehrenamtliches Kochteam kocht mit Freude für Sie. Kommen Sie vorbei und lassen Sie sich kulinarisch verwöhnen! Die Menüpläne hängen im NBB aus. \nmittwochs\,     12:45 -13:30 Uhr \nKosten:         siehe Menüplan \nAnmeldung: bis jeweils montags vorher im NBB erforderlich!
URL:https://www.nachbarschaftszentrum.info/event/mittagstisch-unser-ehrenamtliches-team-kocht-fuer-sie-3/2024-04-17/
CATEGORIES:Gemeinsam genießen
END:VEVENT
BEGIN:VEVENT
DTSTART;TZID=Europe/Berlin:20240417T150000
DTEND;TZID=Europe/Berlin:20240417T180000
DTSTAMP:20260422T005430
CREATED:20241211T073510Z
LAST-MODIFIED:20241211T130914Z
UID:10001311-1713366000-1713376800@www.nachbarschaftszentrum.info
SUMMARY:Offener Spielenachmittag
DESCRIPTION:Wir laden alle ein\, die gerne spielen\, einfach mal vorbeizuschauen und mitzuspielen. Wir entscheiden bei jedem Treffen neu\, welche Spiele wir an dem Abend spielen möchten. \nMarie–Luise Ratje und Ruth Mohr \nmittwochs\,     15:00 – 18:00 Uhr \nTermine:       jeden 1. und 3. Mittwoch im Monat \nAnmeldung: bis jeweils dienstags vorher im NBB erforderlich!
URL:https://www.nachbarschaftszentrum.info/event/offener-spielenachmittag-2-2/2024-04-17/
CATEGORIES:Miteinander und Mitwirken
END:VEVENT
BEGIN:VEVENT
DTSTART;TZID=Europe/Berlin:20240418T100000
DTEND;TZID=Europe/Berlin:20240418T113000
DTSTAMP:20260422T005430
CREATED:20240312T105949Z
LAST-MODIFIED:20250610T100841Z
UID:10000582-1713434400-1713439800@www.nachbarschaftszentrum.info
SUMMARY:Sprechstunde - Digitalisierung
DESCRIPTION:In der Digitalsprechstunde am Donnerstag bekommen Interessierte organisatorische und technische Hilfestellung rund um die digitalen Medien und den zugehörigen Geräten wie Smartphone\, Tablet\, Laptop und PC. Smartphone\, Eigene Geräte können gerne mitgebracht werden. Drei Laptops stehen zur freien zur Verfügung bereit.\nErfahrene Anleiter werden Ihre Fragen beantworten und bei der Problemlösung helfen.\nEgon Troles und Detlef Leipelt \nAnmeldung: Nachbarschaftszentrum (NBB)
URL:https://www.nachbarschaftszentrum.info/event/pc-hilfestellung-fuer-interessierte-4/2024-04-18/
CATEGORIES:Bildung und Wissen
END:VEVENT
BEGIN:VEVENT
DTSTART;TZID=Europe/Berlin:20240418T143000
DTEND;TZID=Europe/Berlin:20240418T180000
DTSTAMP:20260422T005430
CREATED:20240312T114251Z
LAST-MODIFIED:20241021T115633Z
UID:10001000-1713450600-1713463200@www.nachbarschaftszentrum.info
SUMMARY:Bridge
DESCRIPTION:Anfänger:innen und Fortgeschrittene willkommen. \nTermine:       Klaus Heuschötter \ndonnerstags\,      14:30 – 18:00 Uhr \nRuth Mohr \nmontags\,            14:30 – 17:30 Uhr \nKosten:         2€
URL:https://www.nachbarschaftszentrum.info/event/bridge-3/2024-04-18/
CATEGORIES:Miteinander und Mitwirken
END:VEVENT
BEGIN:VEVENT
DTSTART;TZID=Europe/Berlin:20240418T190000
DTEND;TZID=Europe/Berlin:20240418T200000
DTSTAMP:20260422T005430
CREATED:20240312T114058Z
LAST-MODIFIED:20240312T114058Z
UID:10000859-1713466800-1713470400@www.nachbarschaftszentrum.info
SUMMARY:Doppelkopf
DESCRIPTION:Doppelkopf nach den Regeln des Deutschen Doppelkopfverbandes. Nur für Spieler:innen mit Spielerfahrung. KEINE Anfänger:innenschulung! \nKonrad Koch \ndonnerstags\,  19:00 – 22:00 Uhr \nTermine:       jeden Donnerstag \nKosten:         keine \nAnmeldung: E-Mail: konradkoch@gmx.de
URL:https://www.nachbarschaftszentrum.info/event/doppelkopf-4/2024-04-18/
CATEGORIES:Miteinander und Mitwirken
END:VEVENT
BEGIN:VEVENT
DTSTART;TZID=Europe/Berlin:20240420T100000
DTEND;TZID=Europe/Berlin:20240420T150000
DTSTAMP:20260422T005430
CREATED:20240312T133507Z
LAST-MODIFIED:20240626T110916Z
UID:10000115-1713607200-1713625200@www.nachbarschaftszentrum.info
SUMMARY:Offener Kreativtreff
DESCRIPTION:Kreatives Arbeiten macht oft gemeinsam mehr Freude als alleine zu Hause. Im Atelier der Stadtteilkultur kann man sich austauschen\, in den Anleitungsbüchern stöbern\, Anregungen und Hilfestellungen bekommen. Jede(r) bringt mit\, womit und woran er/sie arbeiten möchte oder holt sich vor Ort Anregungen (Material gegen Kostenerstattung). \nInitiative Stadtteilkultur\, Anne Hensgen \nsamstags\,      10:00 – 15:00 Uhr\nKosten:         5€\nOrt:               Atelier in der Borsigallee 12\, Brüser Berg \n 
URL:https://www.nachbarschaftszentrum.info/event/offener-kreativtreff-6/2024-04-20/
CATEGORIES:Kunst und Kultur
END:VEVENT
BEGIN:VEVENT
DTSTART;TZID=Europe/Berlin:20240422T143000
DTEND;TZID=Europe/Berlin:20240422T173000
DTSTAMP:20260422T005430
CREATED:20241211T073509Z
LAST-MODIFIED:20241211T073509Z
UID:10001141-1713796200-1713807000@www.nachbarschaftszentrum.info
SUMMARY:Bridge
DESCRIPTION:Anfänger:innen und Fortgeschrittene willkommen. \nTermine:       Klaus Heuschötter \ndonnerstags\,      14:30 – 18:00 Uhr \nRuth Mohr \nmontags\,            14:30 – 17:30 Uhr \nKosten:         2€
URL:https://www.nachbarschaftszentrum.info/event/bridge-3/2024-04-22/
CATEGORIES:Miteinander und Mitwirken
END:VEVENT
BEGIN:VEVENT
DTSTART;TZID=Europe/Berlin:20240424T124500
DTEND;TZID=Europe/Berlin:20240424T133000
DTSTAMP:20260422T005430
CREATED:20240312T132019Z
LAST-MODIFIED:20240312T132019Z
UID:10000070-1713962700-1713965400@www.nachbarschaftszentrum.info
SUMMARY:Mittagstisch - Unser ehrenamtliches Team kocht für Sie
DESCRIPTION:In netter Nachbarschaft leckeres Essen genießen – freuen Sie sich einmal wöchentlich auf wechselnde kulinarische Highlights. Unser ehrenamtliches Kochteam kocht mit Freude für Sie. Kommen Sie vorbei und lassen Sie sich kulinarisch verwöhnen! Die Menüpläne hängen im NBB aus. \nmittwochs\,     12:45 -13:30 Uhr \nKosten:         siehe Menüplan \nAnmeldung: bis jeweils montags vorher im NBB erforderlich!
URL:https://www.nachbarschaftszentrum.info/event/mittagstisch-unser-ehrenamtliches-team-kocht-fuer-sie-3/2024-04-24/
CATEGORIES:Gemeinsam genießen
END:VEVENT
BEGIN:VEVENT
DTSTART;TZID=Europe/Berlin:20240425T100000
DTEND;TZID=Europe/Berlin:20240425T113000
DTSTAMP:20260422T005430
CREATED:20240312T105949Z
LAST-MODIFIED:20250610T100841Z
UID:10000583-1714039200-1714044600@www.nachbarschaftszentrum.info
SUMMARY:Sprechstunde - Digitalisierung
DESCRIPTION:In der Digitalsprechstunde am Donnerstag bekommen Interessierte organisatorische und technische Hilfestellung rund um die digitalen Medien und den zugehörigen Geräten wie Smartphone\, Tablet\, Laptop und PC. Smartphone\, Eigene Geräte können gerne mitgebracht werden. Drei Laptops stehen zur freien zur Verfügung bereit.\nErfahrene Anleiter werden Ihre Fragen beantworten und bei der Problemlösung helfen.\nEgon Troles und Detlef Leipelt \nAnmeldung: Nachbarschaftszentrum (NBB)
URL:https://www.nachbarschaftszentrum.info/event/pc-hilfestellung-fuer-interessierte-4/2024-04-25/
CATEGORIES:Bildung und Wissen
END:VEVENT
BEGIN:VEVENT
DTSTART;TZID=Europe/Berlin:20240425T143000
DTEND;TZID=Europe/Berlin:20240425T180000
DTSTAMP:20260422T005430
CREATED:20240312T114251Z
LAST-MODIFIED:20241021T115633Z
UID:10001001-1714055400-1714068000@www.nachbarschaftszentrum.info
SUMMARY:Bridge
DESCRIPTION:Anfänger:innen und Fortgeschrittene willkommen. \nTermine:       Klaus Heuschötter \ndonnerstags\,      14:30 – 18:00 Uhr \nRuth Mohr \nmontags\,            14:30 – 17:30 Uhr \nKosten:         2€
URL:https://www.nachbarschaftszentrum.info/event/bridge-3/2024-04-25/
CATEGORIES:Miteinander und Mitwirken
END:VEVENT
BEGIN:VEVENT
DTSTART;TZID=Europe/Berlin:20240425T190000
DTEND;TZID=Europe/Berlin:20240425T200000
DTSTAMP:20260422T005430
CREATED:20240312T114058Z
LAST-MODIFIED:20240312T114058Z
UID:10000860-1714071600-1714075200@www.nachbarschaftszentrum.info
SUMMARY:Doppelkopf
DESCRIPTION:Doppelkopf nach den Regeln des Deutschen Doppelkopfverbandes. Nur für Spieler:innen mit Spielerfahrung. KEINE Anfänger:innenschulung! \nKonrad Koch \ndonnerstags\,  19:00 – 22:00 Uhr \nTermine:       jeden Donnerstag \nKosten:         keine \nAnmeldung: E-Mail: konradkoch@gmx.de
URL:https://www.nachbarschaftszentrum.info/event/doppelkopf-4/2024-04-25/
CATEGORIES:Miteinander und Mitwirken
END:VEVENT
BEGIN:VEVENT
DTSTART;TZID=Europe/Berlin:20240427T100000
DTEND;TZID=Europe/Berlin:20240427T150000
DTSTAMP:20260422T005430
CREATED:20240312T133507Z
LAST-MODIFIED:20240626T110916Z
UID:10000116-1714212000-1714230000@www.nachbarschaftszentrum.info
SUMMARY:Offener Kreativtreff
DESCRIPTION:Kreatives Arbeiten macht oft gemeinsam mehr Freude als alleine zu Hause. Im Atelier der Stadtteilkultur kann man sich austauschen\, in den Anleitungsbüchern stöbern\, Anregungen und Hilfestellungen bekommen. Jede(r) bringt mit\, womit und woran er/sie arbeiten möchte oder holt sich vor Ort Anregungen (Material gegen Kostenerstattung). \nInitiative Stadtteilkultur\, Anne Hensgen \nsamstags\,      10:00 – 15:00 Uhr\nKosten:         5€\nOrt:               Atelier in der Borsigallee 12\, Brüser Berg \n 
URL:https://www.nachbarschaftszentrum.info/event/offener-kreativtreff-6/2024-04-27/
CATEGORIES:Kunst und Kultur
END:VEVENT
BEGIN:VEVENT
DTSTART;TZID=Europe/Berlin:20240429T143000
DTEND;TZID=Europe/Berlin:20240429T173000
DTSTAMP:20260422T005430
CREATED:20241211T073509Z
LAST-MODIFIED:20241211T073509Z
UID:10001142-1714401000-1714411800@www.nachbarschaftszentrum.info
SUMMARY:Bridge
DESCRIPTION:Anfänger:innen und Fortgeschrittene willkommen. \nTermine:       Klaus Heuschötter \ndonnerstags\,      14:30 – 18:00 Uhr \nRuth Mohr \nmontags\,            14:30 – 17:30 Uhr \nKosten:         2€
URL:https://www.nachbarschaftszentrum.info/event/bridge-3/2024-04-29/
CATEGORIES:Miteinander und Mitwirken
END:VEVENT
END:VCALENDAR