BEGIN:VCALENDAR
VERSION:2.0
PRODID:-//NBB | Nachbarschaftszentrum Brüser Berg - ECPv6.15.20//NONSGML v1.0//EN
CALSCALE:GREGORIAN
METHOD:PUBLISH
X-WR-CALNAME:NBB | Nachbarschaftszentrum Brüser Berg
X-ORIGINAL-URL:https://www.nachbarschaftszentrum.info
X-WR-CALDESC:Veranstaltungen für NBB | Nachbarschaftszentrum Brüser Berg
REFRESH-INTERVAL;VALUE=DURATION:PT1H
X-Robots-Tag:noindex
X-PUBLISHED-TTL:PT1H
BEGIN:VTIMEZONE
TZID:Europe/Berlin
BEGIN:DAYLIGHT
TZOFFSETFROM:+0100
TZOFFSETTO:+0200
TZNAME:CEST
DTSTART:20240331T010000
END:DAYLIGHT
BEGIN:STANDARD
TZOFFSETFROM:+0200
TZOFFSETTO:+0100
TZNAME:CET
DTSTART:20241027T010000
END:STANDARD
BEGIN:DAYLIGHT
TZOFFSETFROM:+0100
TZOFFSETTO:+0200
TZNAME:CEST
DTSTART:20250330T010000
END:DAYLIGHT
BEGIN:STANDARD
TZOFFSETFROM:+0200
TZOFFSETTO:+0100
TZNAME:CET
DTSTART:20251026T010000
END:STANDARD
BEGIN:DAYLIGHT
TZOFFSETFROM:+0100
TZOFFSETTO:+0200
TZNAME:CEST
DTSTART:20260329T010000
END:DAYLIGHT
BEGIN:STANDARD
TZOFFSETFROM:+0200
TZOFFSETTO:+0100
TZNAME:CET
DTSTART:20261025T010000
END:STANDARD
END:VTIMEZONE
BEGIN:VEVENT
DTSTART;TZID=Europe/Berlin:20251025T100000
DTEND;TZID=Europe/Berlin:20251025T150000
DTSTAMP:20260421T120914
CREATED:20240312T133507Z
LAST-MODIFIED:20240626T110916Z
UID:10000194-1761386400-1761404400@www.nachbarschaftszentrum.info
SUMMARY:Offener Kreativtreff
DESCRIPTION:Kreatives Arbeiten macht oft gemeinsam mehr Freude als alleine zu Hause. Im Atelier der Stadtteilkultur kann man sich austauschen\, in den Anleitungsbüchern stöbern\, Anregungen und Hilfestellungen bekommen. Jede(r) bringt mit\, womit und woran er/sie arbeiten möchte oder holt sich vor Ort Anregungen (Material gegen Kostenerstattung). \nInitiative Stadtteilkultur\, Anne Hensgen \nsamstags\,      10:00 – 15:00 Uhr\nKosten:         5€\nOrt:               Atelier in der Borsigallee 12\, Brüser Berg \n 
URL:https://www.nachbarschaftszentrum.info/event/offener-kreativtreff-6/2025-10-25/
CATEGORIES:Kunst und Kultur
END:VEVENT
BEGIN:VEVENT
DTSTART;TZID=Europe/Berlin:20251025T110000
DTEND;TZID=Europe/Berlin:20251025T180000
DTSTAMP:20260421T120914
CREATED:20250919T125216Z
LAST-MODIFIED:20251013T102319Z
UID:10030881-1761390000-1761415200@www.nachbarschaftszentrum.info
SUMMARY:Tag der Pflege und Vorsorge
DESCRIPTION:Jede Generation hat ihre Themen und Bedürfnisse. Gut\, wenn es dafür die passgenauen Hilfen und Angebote gibt. Home Instead kennt als privater Anbieter von Pflege- und Betreuungsleistungen das Hilfesystem für Menschen im Alter sehr gut. Zudem ist das Unternehmen in Bonn vernetzt mit den anderen Partnern in diesem Gebiet. Ende Oktober bringt Home Instead die Fachleute rund um das Thema Pflege im Nachbarschaftszentrum Brüser Berg der Diakonie zu einem Pflegetag zusammen.\nDie Anwohnerinnen und Anwohner auf dem Brüser Berg haben dann die Chance\, sich umfassend an Messeständen zu informieren oder Vorträge zu verschiedensten Themen anzuhören. So klärt die Polizei darüber auf\, wie Menschen sich vor dem Enkeltrick wehren können. Stationäre Unterkünfte sowie ambulante Dienste oder auch Spezialanbieter etwa für Palliativpflege stellen sich vor. Zur Information und Beratung ist ein Bestatter präsent\, der viele Hinweise geben kann\, wie Menschen zu Lebzeiten Regelungen treffen können. Weitere Themen sind das Vorgehen zur Einstufung eines Pflegegrads\, barrierefreies Wohnen oder auch das Erstellen einer Notfallmappe.\nDer Tag der Pflege auf dem Brüser Berg ist ein Tag der Information\, aber auch für geselliges Miteinander ist Raum. Die Türen des Nachbarschaftszentrums Brüser Berg sind geöffnet und laden zum Beisammensein ein. Der Erlös aus den Spenden der Aussteller kommt sozialen Projekten im Nachbarschaftszentrum Brüser Berg sowie den Betreuten im Betreuungsverein des Diakonischen Werkes zugute.
URL:https://www.nachbarschaftszentrum.info/event/tag-der-pflege-und-vorsorge/
CATEGORIES:Bildung und Wissen
END:VEVENT
END:VCALENDAR