BEGIN:VCALENDAR
VERSION:2.0
PRODID:-//NBB | Nachbarschaftszentrum Brüser Berg - ECPv6.15.20//NONSGML v1.0//EN
CALSCALE:GREGORIAN
METHOD:PUBLISH
X-ORIGINAL-URL:https://www.nachbarschaftszentrum.info
X-WR-CALDESC:Veranstaltungen für NBB | Nachbarschaftszentrum Brüser Berg
REFRESH-INTERVAL;VALUE=DURATION:PT1H
X-Robots-Tag:noindex
X-PUBLISHED-TTL:PT1H
BEGIN:VTIMEZONE
TZID:Europe/Berlin
BEGIN:DAYLIGHT
TZOFFSETFROM:+0100
TZOFFSETTO:+0200
TZNAME:CEST
DTSTART:20240331T010000
END:DAYLIGHT
BEGIN:STANDARD
TZOFFSETFROM:+0200
TZOFFSETTO:+0100
TZNAME:CET
DTSTART:20241027T010000
END:STANDARD
BEGIN:DAYLIGHT
TZOFFSETFROM:+0100
TZOFFSETTO:+0200
TZNAME:CEST
DTSTART:20250330T010000
END:DAYLIGHT
BEGIN:STANDARD
TZOFFSETFROM:+0200
TZOFFSETTO:+0100
TZNAME:CET
DTSTART:20251026T010000
END:STANDARD
BEGIN:DAYLIGHT
TZOFFSETFROM:+0100
TZOFFSETTO:+0200
TZNAME:CEST
DTSTART:20260329T010000
END:DAYLIGHT
BEGIN:STANDARD
TZOFFSETFROM:+0200
TZOFFSETTO:+0100
TZNAME:CET
DTSTART:20261025T010000
END:STANDARD
END:VTIMEZONE
BEGIN:VEVENT
DTSTART;TZID=Europe/Berlin:20251021T140000
DTEND;TZID=Europe/Berlin:20251021T150000
DTSTAMP:20260423T114748
CREATED:20250311T104241Z
LAST-MODIFIED:20250311T104241Z
UID:10002885-1761055200-1761058800@www.nachbarschaftszentrum.info
SUMMARY:Treff im NBB
DESCRIPTION:Der Treff im NBB gibt Gelegenheit für Gespräche\, für den Austausch von Gedanken\, Ideen und Informationen\, für ein Zusammensein bei Kaffee und Kuchen. \nAnmeldung: Nachbarschaftszentrum (NBB) \n 
URL:https://www.nachbarschaftszentrum.info/event/treff-im-nbb-2/2025-10-21/
CATEGORIES:Miteinander und Mitwirken
END:VEVENT
BEGIN:VEVENT
DTSTART;TZID=Europe/Berlin:20251021T151500
DTEND;TZID=Europe/Berlin:20251021T164500
DTSTAMP:20260423T114748
CREATED:20250709T160746Z
LAST-MODIFIED:20250709T160746Z
UID:10029422-1761059700-1761065100@www.nachbarschaftszentrum.info
SUMMARY:Stricken und Häkeln für Jung und Alt
DESCRIPTION:Möchten Sie in unserem Treff stricken und häkeln lernen? Für sich\, Ihre Familie oder Freunde und Bekannte? Dann sind Sie willkommen! Bitte bringen Sie Wolle (Reste) und Nadeln mit! \nChristiane Frede \ndienstags\,          15:15 – 16:45 Uhr \nKosten:         keine \nAnmeldung: Nachbarschaftszentrum (NBB)
URL:https://www.nachbarschaftszentrum.info/event/stricken-und-haekeln-fuer-jung-und-alt-2/2025-10-21/
CATEGORIES:Miteinander und Mitwirken
END:VEVENT
BEGIN:VEVENT
DTSTART;TZID=Europe/Berlin:20251021T170000
DTEND;TZID=Europe/Berlin:20251021T220000
DTSTAMP:20260423T114748
CREATED:20250417T143232Z
LAST-MODIFIED:20250910T115430Z
UID:10030353-1761066000-1761084000@www.nachbarschaftszentrum.info
SUMMARY:Rudelsingen mit Hits der 60er bis 90er Jahre
DESCRIPTION:Wir möchten Klassiker aus Rock – und Popmusik gemeinsam singen. Die Musik spielen wir ab und der Text läuft auf der Leinwand mit. Keine Chor oder Singerfahrung erforderlich!\nLiederwünsche gerne vorab an NBB@dw-bonn.de \nRuth Mohr und Eva Knips
URL:https://www.nachbarschaftszentrum.info/event/rudelsingen-mit-hits-der-60er-bis-90er-jahre-2/2025-10-21/
CATEGORIES:Kunst und Kultur
END:VEVENT
END:VCALENDAR