BEGIN:VCALENDAR
VERSION:2.0
PRODID:-//NBB | Nachbarschaftszentrum Brüser Berg - ECPv6.15.20//NONSGML v1.0//EN
CALSCALE:GREGORIAN
METHOD:PUBLISH
X-WR-CALNAME:NBB | Nachbarschaftszentrum Brüser Berg
X-ORIGINAL-URL:https://www.nachbarschaftszentrum.info
X-WR-CALDESC:Veranstaltungen für NBB | Nachbarschaftszentrum Brüser Berg
REFRESH-INTERVAL;VALUE=DURATION:PT1H
X-Robots-Tag:noindex
X-PUBLISHED-TTL:PT1H
BEGIN:VTIMEZONE
TZID:Europe/Berlin
BEGIN:DAYLIGHT
TZOFFSETFROM:+0100
TZOFFSETTO:+0200
TZNAME:CEST
DTSTART:20240331T010000
END:DAYLIGHT
BEGIN:STANDARD
TZOFFSETFROM:+0200
TZOFFSETTO:+0100
TZNAME:CET
DTSTART:20241027T010000
END:STANDARD
BEGIN:DAYLIGHT
TZOFFSETFROM:+0100
TZOFFSETTO:+0200
TZNAME:CEST
DTSTART:20250330T010000
END:DAYLIGHT
BEGIN:STANDARD
TZOFFSETFROM:+0200
TZOFFSETTO:+0100
TZNAME:CET
DTSTART:20251026T010000
END:STANDARD
BEGIN:DAYLIGHT
TZOFFSETFROM:+0100
TZOFFSETTO:+0200
TZNAME:CEST
DTSTART:20260329T010000
END:DAYLIGHT
BEGIN:STANDARD
TZOFFSETFROM:+0200
TZOFFSETTO:+0100
TZNAME:CET
DTSTART:20261025T010000
END:STANDARD
END:VTIMEZONE
BEGIN:VEVENT
DTSTART;TZID=Europe/Berlin:20251014T100000
DTEND;TZID=Europe/Berlin:20251014T110000
DTSTAMP:20260421T132815
CREATED:20250604T132920Z
LAST-MODIFIED:20250730T140007Z
UID:10029940-1760436000-1760439600@www.nachbarschaftszentrum.info
SUMMARY:Rückenschule (ab dem 50 Lj.)
DESCRIPTION:Der Kurs bietet die Möglichkeit\, durch altersgerechte Übungen gesund und beweglich zu bleiben. Ein spezielles Bewegungsangebot zur Kräftigung\, Dehnung der Muskulatur sowie zur Erhaltung der geistigen Flexibilität.\nStefania Battellini; Sportwissenschaftlerin M.A. und Bewegungstherapeutin \nKosten:	150\,00 €		10 Termine\nAnmeldung:	stefaniabat@netcologne.de/0160 98207200
URL:https://www.nachbarschaftszentrum.info/event/rueckenschule-ab-dem-50-lj-3/2025-10-14/
CATEGORIES:Bewegung und Entspannung
END:VEVENT
BEGIN:VEVENT
DTSTART;TZID=Europe/Berlin:20251014T110000
DTEND;TZID=Europe/Berlin:20251014T140000
DTSTAMP:20260421T132815
CREATED:20250910T112254Z
LAST-MODIFIED:20250910T112254Z
UID:10030349-1760439600-1760450400@www.nachbarschaftszentrum.info
SUMMARY:Neue berufliche Möglichkeiten: Hilfe bei der  beruflichen Orientierung - Weiter durch Bildung und Berufe im Grünen
DESCRIPTION:Die Berufsberatung ist nicht nur zu Beginn des Erwerbslebens wichtig. Die\nBerufsberaterinnen für Erwerbstätige der Agentur für Arbeit Bonn und die\nStadtteilbibliothek Brüser Berg bieten Impuls-Workshops und individuelle\nBeratung zur beruflichen Orientierung an. \n11:00 bis 12:00 Uhr (offene Sprechstunde)\n12:00 bis 14:00 Uhr (Impulsworkshops)  \n1. Weiter durch Bildung:\nEs gibt viele Gründe\, über eine Weiterbildung nachzudenken: Veränderungen des Arbeitsmarktes\, Fachkräftemangel\, Digitalisierung\, längere\nUnterbrechungen der Berufstätigkeit. Auch Wünsche und Vorstellungen\nzur beruflichen Tätigkeit können sich im Lebensverlauf ändern. Wir zeigen\nWege der beruflichen Weiterbildung und geben einen Überblick über Qualifizierungs- und Finanzierungsmöglichkeiten. \n2. Berufe im Grünen:\nDie Begrifflichkeit ist in aller Munde! Aber denken Sie dabei auch an\nLandwirtschaft\, Weinbau und Forstwirtschaft? In allen Grünen Berufen ist Interesse an ökonomischen Zusammenhängen und technischem\nVerständnis Grundvoraussetzung\, da die Digitalisierung auch hier stetig\nvoranschreitet. Neugierig geworden? Dann schauen Sie einfach rein
URL:https://www.nachbarschaftszentrum.info/event/neue-berufliche-moeglichkeiten-hilfe-bei-der-beruflichen-orientierung-weiter-durch-bildung-und-berufe-im-gruenen/
CATEGORIES:Bildung und Wissen
END:VEVENT
BEGIN:VEVENT
DTSTART;TZID=Europe/Berlin:20251014T111500
DTEND;TZID=Europe/Berlin:20251014T121500
DTSTAMP:20260421T132815
CREATED:20250604T133038Z
LAST-MODIFIED:20250730T135957Z
UID:10029950-1760440500-1760444100@www.nachbarschaftszentrum.info
SUMMARY:Rückenschule (ab dem 50 Lj.)
DESCRIPTION:Der Kurs bietet die Möglichkeit\, durch altersgerechte Übungen gesund und beweglich zu bleiben. Ein spezielles Bewegungsangebot zur Kräftigung\, Dehnung der Muskulatur sowie zur Erhaltung der geistigen Flexibilität.\nStefania Battellini; Sportwissenschaftlerin M.A. und Bewegungstherapeutin \nKosten:	150\,00 €		10 Termine\nAnmeldung:	stefaniabat@netcologne.de/0160 98207200
URL:https://www.nachbarschaftszentrum.info/event/rueckenschule-ab-dem-50-lj-4/2025-10-14/
CATEGORIES:Bewegung und Entspannung
END:VEVENT
BEGIN:VEVENT
DTSTART;TZID=Europe/Berlin:20251014T151500
DTEND;TZID=Europe/Berlin:20251014T164500
DTSTAMP:20260421T132815
CREATED:20250709T160746Z
LAST-MODIFIED:20250709T160746Z
UID:10029421-1760454900-1760460300@www.nachbarschaftszentrum.info
SUMMARY:Stricken und Häkeln für Jung und Alt
DESCRIPTION:Möchten Sie in unserem Treff stricken und häkeln lernen? Für sich\, Ihre Familie oder Freunde und Bekannte? Dann sind Sie willkommen! Bitte bringen Sie Wolle (Reste) und Nadeln mit! \nChristiane Frede \ndienstags\,          15:15 – 16:45 Uhr \nKosten:         keine \nAnmeldung: Nachbarschaftszentrum (NBB)
URL:https://www.nachbarschaftszentrum.info/event/stricken-und-haekeln-fuer-jung-und-alt-2/2025-10-14/
CATEGORIES:Miteinander und Mitwirken
END:VEVENT
END:VCALENDAR