BEGIN:VCALENDAR
VERSION:2.0
PRODID:-//NBB | Nachbarschaftszentrum Brüser Berg - ECPv6.15.20//NONSGML v1.0//EN
CALSCALE:GREGORIAN
METHOD:PUBLISH
X-WR-CALNAME:NBB | Nachbarschaftszentrum Brüser Berg
X-ORIGINAL-URL:https://www.nachbarschaftszentrum.info
X-WR-CALDESC:Veranstaltungen für NBB | Nachbarschaftszentrum Brüser Berg
REFRESH-INTERVAL;VALUE=DURATION:PT1H
X-Robots-Tag:noindex
X-PUBLISHED-TTL:PT1H
BEGIN:VTIMEZONE
TZID:Europe/Berlin
BEGIN:DAYLIGHT
TZOFFSETFROM:+0100
TZOFFSETTO:+0200
TZNAME:CEST
DTSTART:20240331T010000
END:DAYLIGHT
BEGIN:STANDARD
TZOFFSETFROM:+0200
TZOFFSETTO:+0100
TZNAME:CET
DTSTART:20241027T010000
END:STANDARD
BEGIN:DAYLIGHT
TZOFFSETFROM:+0100
TZOFFSETTO:+0200
TZNAME:CEST
DTSTART:20250330T010000
END:DAYLIGHT
BEGIN:STANDARD
TZOFFSETFROM:+0200
TZOFFSETTO:+0100
TZNAME:CET
DTSTART:20251026T010000
END:STANDARD
BEGIN:DAYLIGHT
TZOFFSETFROM:+0100
TZOFFSETTO:+0200
TZNAME:CEST
DTSTART:20260329T010000
END:DAYLIGHT
BEGIN:STANDARD
TZOFFSETFROM:+0200
TZOFFSETTO:+0100
TZNAME:CET
DTSTART:20261025T010000
END:STANDARD
END:VTIMEZONE
BEGIN:VEVENT
DTSTART;TZID=Europe/Berlin:20251011T090000
DTEND;TZID=Europe/Berlin:20251011T170000
DTSTAMP:20260421T151534
CREATED:20250910T112127Z
LAST-MODIFIED:20250910T112127Z
UID:10030348-1760173200-1760202000@www.nachbarschaftszentrum.info
SUMMARY:Rechtspopulistischen Sprüchen  wirkungsvoll begegnen - Kommunikationsworkshop nur für Frauen mit Zuwanderungsgeschichte
DESCRIPTION:Dieser Tag bietet Raum für einen achtsamen Umgang mit herausfordernden Kommunikationssituationen speziell für Frauen mit unterschiedlichen\nAusgrenzungserfahrungen aufgrund von Religion oder Zuwanderungsgeschichte. Wir schauen nach unseren Stärken und fragen uns dann:\nWas ist „nur“ fremdenfeindlich? Was ist rechtspopulistisch? Ist das alles\ndasselbe? Erkennen wir\, was gerade passiert?\nIm Workshop verschaffen wir uns Klarheit über „Rechtspopulismus“ und\nstärken uns gegenseitig\, um Situationen im Alltag besser einschätzen zu\nkönnen. \nSangita Popat\, Heilpraktikerin\, Psychotherapie \nAnmeldung: Hülya Dogan\, Vorsitzende FIBEr e.V.\nh.dogan@fiber-bonn.de · Mobil: 0176/10424153\nIn Kooperation mit FIBEr e.V.\, gefördert durch den Förderverein der Sparkasse KölnBonn
URL:https://www.nachbarschaftszentrum.info/event/rechtspopulistischen-spruechen-wirkungsvoll-begegnen-kommunikationsworkshop-nur-fuer-frauen-mit-zuwanderungsgeschichte/
CATEGORIES:Bildung und Wissen
END:VEVENT
BEGIN:VEVENT
DTSTART;TZID=Europe/Berlin:20251011T100000
DTEND;TZID=Europe/Berlin:20251011T150000
DTSTAMP:20260421T151534
CREATED:20240312T133507Z
LAST-MODIFIED:20240626T110916Z
UID:10000192-1760176800-1760194800@www.nachbarschaftszentrum.info
SUMMARY:Offener Kreativtreff
DESCRIPTION:Kreatives Arbeiten macht oft gemeinsam mehr Freude als alleine zu Hause. Im Atelier der Stadtteilkultur kann man sich austauschen\, in den Anleitungsbüchern stöbern\, Anregungen und Hilfestellungen bekommen. Jede(r) bringt mit\, womit und woran er/sie arbeiten möchte oder holt sich vor Ort Anregungen (Material gegen Kostenerstattung). \nInitiative Stadtteilkultur\, Anne Hensgen \nsamstags\,      10:00 – 15:00 Uhr\nKosten:         5€\nOrt:               Atelier in der Borsigallee 12\, Brüser Berg \n 
URL:https://www.nachbarschaftszentrum.info/event/offener-kreativtreff-6/2025-10-11/
CATEGORIES:Kunst und Kultur
END:VEVENT
BEGIN:VEVENT
DTSTART;TZID=Europe/Berlin:20251011T190000
DTEND;TZID=Europe/Berlin:20251011T220000
DTSTAMP:20260421T151534
CREATED:20250910T111925Z
LAST-MODIFIED:20250910T111925Z
UID:10030347-1760209200-1760220000@www.nachbarschaftszentrum.info
SUMMARY:Weinreise durch das Ahrtal
DESCRIPTION:Genießt einen exklusiven Abend mit ausgewählten Weinen aus dem\nrenommierten Weinbaugebiet im Ahrtal. Wir laden euch ein\, bei unserer\nWeinprobe verschiedene erlesene Weine zu verkosten und dabei mehr\nüber die traditionelle Weinproduktion zu erfahren. Neben Mineralwasser\nund leckeren Käse- und Brotvariationen\, welche perfekt mit dem Wein\nharmonieren\, könnt ihr euch auf spannende Informationen zum Weingebiet im Ahrtal freuen! Ein Film wird euch die Geschichte und Besonderheiten dieser Region näherbringen. Besonders freuen wir uns darauf\neinen Winzer bei uns begrüßen zu dürfen\, der seine Weine vorstellt. \nKulturteam des NBB
URL:https://www.nachbarschaftszentrum.info/event/weinreise-durch-das-ahrtal/
CATEGORIES:Kunst und Kultur
END:VEVENT
END:VCALENDAR