BEGIN:VCALENDAR
VERSION:2.0
PRODID:-//NBB | Nachbarschaftszentrum Brüser Berg - ECPv6.15.20//NONSGML v1.0//EN
CALSCALE:GREGORIAN
METHOD:PUBLISH
X-WR-CALNAME:NBB | Nachbarschaftszentrum Brüser Berg
X-ORIGINAL-URL:https://www.nachbarschaftszentrum.info
X-WR-CALDESC:Veranstaltungen für NBB | Nachbarschaftszentrum Brüser Berg
REFRESH-INTERVAL;VALUE=DURATION:PT1H
X-Robots-Tag:noindex
X-PUBLISHED-TTL:PT1H
BEGIN:VTIMEZONE
TZID:Europe/Berlin
BEGIN:DAYLIGHT
TZOFFSETFROM:+0100
TZOFFSETTO:+0200
TZNAME:CEST
DTSTART:20240331T010000
END:DAYLIGHT
BEGIN:STANDARD
TZOFFSETFROM:+0200
TZOFFSETTO:+0100
TZNAME:CET
DTSTART:20241027T010000
END:STANDARD
BEGIN:DAYLIGHT
TZOFFSETFROM:+0100
TZOFFSETTO:+0200
TZNAME:CEST
DTSTART:20250330T010000
END:DAYLIGHT
BEGIN:STANDARD
TZOFFSETFROM:+0200
TZOFFSETTO:+0100
TZNAME:CET
DTSTART:20251026T010000
END:STANDARD
BEGIN:DAYLIGHT
TZOFFSETFROM:+0100
TZOFFSETTO:+0200
TZNAME:CEST
DTSTART:20260329T010000
END:DAYLIGHT
BEGIN:STANDARD
TZOFFSETFROM:+0200
TZOFFSETTO:+0100
TZNAME:CET
DTSTART:20261025T010000
END:STANDARD
END:VTIMEZONE
BEGIN:VEVENT
DTSTART;TZID=Europe/Berlin:20251007T100000
DTEND;TZID=Europe/Berlin:20251007T110000
DTSTAMP:20260421T162338
CREATED:20250604T132920Z
LAST-MODIFIED:20250730T140007Z
UID:10029939-1759831200-1759834800@www.nachbarschaftszentrum.info
SUMMARY:Rückenschule (ab dem 50 Lj.)
DESCRIPTION:Der Kurs bietet die Möglichkeit\, durch altersgerechte Übungen gesund und beweglich zu bleiben. Ein spezielles Bewegungsangebot zur Kräftigung\, Dehnung der Muskulatur sowie zur Erhaltung der geistigen Flexibilität.\nStefania Battellini; Sportwissenschaftlerin M.A. und Bewegungstherapeutin \nKosten:	150\,00 €		10 Termine\nAnmeldung:	stefaniabat@netcologne.de/0160 98207200
URL:https://www.nachbarschaftszentrum.info/event/rueckenschule-ab-dem-50-lj-3/2025-10-07/
CATEGORIES:Bewegung und Entspannung
END:VEVENT
BEGIN:VEVENT
DTSTART;TZID=Europe/Berlin:20251007T111500
DTEND;TZID=Europe/Berlin:20251007T121500
DTSTAMP:20260421T162338
CREATED:20250604T133038Z
LAST-MODIFIED:20250730T135957Z
UID:10029949-1759835700-1759839300@www.nachbarschaftszentrum.info
SUMMARY:Rückenschule (ab dem 50 Lj.)
DESCRIPTION:Der Kurs bietet die Möglichkeit\, durch altersgerechte Übungen gesund und beweglich zu bleiben. Ein spezielles Bewegungsangebot zur Kräftigung\, Dehnung der Muskulatur sowie zur Erhaltung der geistigen Flexibilität.\nStefania Battellini; Sportwissenschaftlerin M.A. und Bewegungstherapeutin \nKosten:	150\,00 €		10 Termine\nAnmeldung:	stefaniabat@netcologne.de/0160 98207200
URL:https://www.nachbarschaftszentrum.info/event/rueckenschule-ab-dem-50-lj-4/2025-10-07/
CATEGORIES:Bewegung und Entspannung
END:VEVENT
BEGIN:VEVENT
DTSTART;TZID=Europe/Berlin:20251007T151500
DTEND;TZID=Europe/Berlin:20251007T164500
DTSTAMP:20260421T162338
CREATED:20250709T160746Z
LAST-MODIFIED:20250709T160746Z
UID:10029420-1759850100-1759855500@www.nachbarschaftszentrum.info
SUMMARY:Stricken und Häkeln für Jung und Alt
DESCRIPTION:Möchten Sie in unserem Treff stricken und häkeln lernen? Für sich\, Ihre Familie oder Freunde und Bekannte? Dann sind Sie willkommen! Bitte bringen Sie Wolle (Reste) und Nadeln mit! \nChristiane Frede \ndienstags\,          15:15 – 16:45 Uhr \nKosten:         keine \nAnmeldung: Nachbarschaftszentrum (NBB)
URL:https://www.nachbarschaftszentrum.info/event/stricken-und-haekeln-fuer-jung-und-alt-2/2025-10-07/
CATEGORIES:Miteinander und Mitwirken
END:VEVENT
BEGIN:VEVENT
DTSTART;TZID=Europe/Berlin:20251007T170000
DTEND;TZID=Europe/Berlin:20251007T190000
DTSTAMP:20260421T162338
CREATED:20250919T095634Z
LAST-MODIFIED:20251015T140942Z
UID:10030880-1759856400-1759863600@www.nachbarschaftszentrum.info
SUMMARY:Windows 11 – Update: Was Sie wissen sollten!
DESCRIPTION:Erfahren Sie alles Wichtige rund um das Update auf Windows 11!\nDie Veranstaltung soll Ihnen helfen\, die richtige Entscheidung für Ihren Rechner und die angeschlossen Geräte zu treffen.\nGerne beantworten wir Ihre Fragen zum Update. \nEgon Troles
URL:https://www.nachbarschaftszentrum.info/event/windows-11-update-was-sie-wissen-sollten/2025-10-07/
CATEGORIES:Bildung und Wissen
END:VEVENT
END:VCALENDAR