BEGIN:VCALENDAR
VERSION:2.0
PRODID:-//NBB | Nachbarschaftszentrum Brüser Berg - ECPv6.15.20//NONSGML v1.0//EN
CALSCALE:GREGORIAN
METHOD:PUBLISH
X-WR-CALNAME:NBB | Nachbarschaftszentrum Brüser Berg
X-ORIGINAL-URL:https://www.nachbarschaftszentrum.info
X-WR-CALDESC:Veranstaltungen für NBB | Nachbarschaftszentrum Brüser Berg
REFRESH-INTERVAL;VALUE=DURATION:PT1H
X-Robots-Tag:noindex
X-PUBLISHED-TTL:PT1H
BEGIN:VTIMEZONE
TZID:Europe/Berlin
BEGIN:DAYLIGHT
TZOFFSETFROM:+0100
TZOFFSETTO:+0200
TZNAME:CEST
DTSTART:20240331T010000
END:DAYLIGHT
BEGIN:STANDARD
TZOFFSETFROM:+0200
TZOFFSETTO:+0100
TZNAME:CET
DTSTART:20241027T010000
END:STANDARD
BEGIN:DAYLIGHT
TZOFFSETFROM:+0100
TZOFFSETTO:+0200
TZNAME:CEST
DTSTART:20250330T010000
END:DAYLIGHT
BEGIN:STANDARD
TZOFFSETFROM:+0200
TZOFFSETTO:+0100
TZNAME:CET
DTSTART:20251026T010000
END:STANDARD
BEGIN:DAYLIGHT
TZOFFSETFROM:+0100
TZOFFSETTO:+0200
TZNAME:CEST
DTSTART:20260329T010000
END:DAYLIGHT
BEGIN:STANDARD
TZOFFSETFROM:+0200
TZOFFSETTO:+0100
TZNAME:CET
DTSTART:20261025T010000
END:STANDARD
END:VTIMEZONE
BEGIN:VEVENT
DTSTART;TZID=Europe/Berlin:20251006T110000
DTEND;TZID=Europe/Berlin:20251006T130000
DTSTAMP:20260421T161607
CREATED:20250604T090342Z
LAST-MODIFIED:20250604T090546Z
UID:10028285-1759748400-1759755600@www.nachbarschaftszentrum.info
SUMMARY:Acrylmalerei
DESCRIPTION:Der Kurs kann sowohl für Anfänger als auch für Fortgeschrittene gebucht werden. Ich unterstütze Sie in Ihrem Tun und zeige Ihnen viele Möglichkeiten mit dem Umgang der Acrylfarben. Gerne können Sie mit Hilfe von Vorlagen Ihre eigenen Ideen auf die Leinwand bringen. Farben und Pinsel stehen zur Verfügung. \nAnmeldung: Dorothee Fenske 0176 / 349 655 85
URL:https://www.nachbarschaftszentrum.info/event/acrylmalerei-4/2025-10-06/
CATEGORIES:Kunst und Kultur
END:VEVENT
BEGIN:VEVENT
DTSTART;TZID=Europe/Berlin:20251006T143000
DTEND;TZID=Europe/Berlin:20251006T173000
DTSTAMP:20260421T161607
CREATED:20241211T073509Z
LAST-MODIFIED:20241211T073509Z
UID:10001217-1759761000-1759771800@www.nachbarschaftszentrum.info
SUMMARY:Bridge
DESCRIPTION:Anfänger:innen und Fortgeschrittene willkommen. \nTermine:       Klaus Heuschötter \ndonnerstags\,      14:30 – 18:00 Uhr \nRuth Mohr \nmontags\,            14:30 – 17:30 Uhr \nKosten:         2€
URL:https://www.nachbarschaftszentrum.info/event/bridge-3/2025-10-06/
CATEGORIES:Miteinander und Mitwirken
END:VEVENT
BEGIN:VEVENT
DTSTART;TZID=Europe/Berlin:20251006T150000
DTEND;TZID=Europe/Berlin:20251006T164500
DTSTAMP:20260421T161607
CREATED:20250709T160429Z
LAST-MODIFIED:20250709T160905Z
UID:10029159-1759762800-1759769100@www.nachbarschaftszentrum.info
SUMMARY:Stricken und Häkeln für Jung und Alt
DESCRIPTION:Möchten Sie in unserem Treff stricken und häkeln lernen? Für sich\, Ihre Familie oder Freunde und Bekannte? Dann sind Sie willkommen! Bitte bringen Sie Wolle (Reste) und Nadeln mit! \nTermine Rosmarie Strahl \nmontags\, 15:00 – 16:45 Uhr \nAnmeldung: Nachbarschaftszentrum (NBB)
URL:https://www.nachbarschaftszentrum.info/event/stricken-und-haekeln-fuer-jung-und-alt/2025-10-06/
CATEGORIES:Miteinander und Mitwirken
END:VEVENT
BEGIN:VEVENT
DTSTART;TZID=Europe/Berlin:20251006T180000
DTEND;TZID=Europe/Berlin:20251006T210000
DTSTAMP:20260421T161607
CREATED:20240312T113740Z
LAST-MODIFIED:20240702T130627Z
UID:10000810-1759773600-1759784400@www.nachbarschaftszentrum.info
SUMMARY:Skat – endlich mal wieder miteinander Skat spielen
DESCRIPTION:Anfänger:innen mit und ohne Vorkenntnisse und Fortgeschrittene sind herzlich willkommen! Die Regeln werden gerne erklärt! \nJanos Mayer und Klaus Wege \nmontags\,        18:00 – 21:00 Uhr \nTermine:       jeden 1. und 3. Montag im Monat \nKosten:         keine \nAnmeldung: Nachbarschaftszentrum (NBB)
URL:https://www.nachbarschaftszentrum.info/event/skat-endlich-mal-wieder-miteinander-skat-spielen-5/2025-10-06/
CATEGORIES:Miteinander und Mitwirken
END:VEVENT
END:VCALENDAR