BEGIN:VCALENDAR
VERSION:2.0
PRODID:-//NBB | Nachbarschaftszentrum Brüser Berg - ECPv6.15.20//NONSGML v1.0//EN
CALSCALE:GREGORIAN
METHOD:PUBLISH
X-WR-CALNAME:NBB | Nachbarschaftszentrum Brüser Berg
X-ORIGINAL-URL:https://www.nachbarschaftszentrum.info
X-WR-CALDESC:Veranstaltungen für NBB | Nachbarschaftszentrum Brüser Berg
REFRESH-INTERVAL;VALUE=DURATION:PT1H
X-Robots-Tag:noindex
X-PUBLISHED-TTL:PT1H
BEGIN:VTIMEZONE
TZID:Europe/Berlin
BEGIN:DAYLIGHT
TZOFFSETFROM:+0100
TZOFFSETTO:+0200
TZNAME:CEST
DTSTART:20240331T010000
END:DAYLIGHT
BEGIN:STANDARD
TZOFFSETFROM:+0200
TZOFFSETTO:+0100
TZNAME:CET
DTSTART:20241027T010000
END:STANDARD
BEGIN:DAYLIGHT
TZOFFSETFROM:+0100
TZOFFSETTO:+0200
TZNAME:CEST
DTSTART:20250330T010000
END:DAYLIGHT
BEGIN:STANDARD
TZOFFSETFROM:+0200
TZOFFSETTO:+0100
TZNAME:CET
DTSTART:20251026T010000
END:STANDARD
BEGIN:DAYLIGHT
TZOFFSETFROM:+0100
TZOFFSETTO:+0200
TZNAME:CEST
DTSTART:20260329T010000
END:DAYLIGHT
BEGIN:STANDARD
TZOFFSETFROM:+0200
TZOFFSETTO:+0100
TZNAME:CET
DTSTART:20261025T010000
END:STANDARD
END:VTIMEZONE
BEGIN:VEVENT
DTSTART;TZID=Europe/Berlin:20250930T100000
DTEND;TZID=Europe/Berlin:20250930T110000
DTSTAMP:20260421T133819
CREATED:20250604T132920Z
LAST-MODIFIED:20250730T140007Z
UID:10029938-1759226400-1759230000@www.nachbarschaftszentrum.info
SUMMARY:Rückenschule (ab dem 50 Lj.)
DESCRIPTION:Der Kurs bietet die Möglichkeit\, durch altersgerechte Übungen gesund und beweglich zu bleiben. Ein spezielles Bewegungsangebot zur Kräftigung\, Dehnung der Muskulatur sowie zur Erhaltung der geistigen Flexibilität.\nStefania Battellini; Sportwissenschaftlerin M.A. und Bewegungstherapeutin \nKosten:	150\,00 €		10 Termine\nAnmeldung:	stefaniabat@netcologne.de/0160 98207200
URL:https://www.nachbarschaftszentrum.info/event/rueckenschule-ab-dem-50-lj-3/2025-09-30/
CATEGORIES:Bewegung und Entspannung
END:VEVENT
BEGIN:VEVENT
DTSTART;TZID=Europe/Berlin:20250930T111500
DTEND;TZID=Europe/Berlin:20250930T121500
DTSTAMP:20260421T133819
CREATED:20250604T133038Z
LAST-MODIFIED:20250730T135957Z
UID:10029948-1759230900-1759234500@www.nachbarschaftszentrum.info
SUMMARY:Rückenschule (ab dem 50 Lj.)
DESCRIPTION:Der Kurs bietet die Möglichkeit\, durch altersgerechte Übungen gesund und beweglich zu bleiben. Ein spezielles Bewegungsangebot zur Kräftigung\, Dehnung der Muskulatur sowie zur Erhaltung der geistigen Flexibilität.\nStefania Battellini; Sportwissenschaftlerin M.A. und Bewegungstherapeutin \nKosten:	150\,00 €		10 Termine\nAnmeldung:	stefaniabat@netcologne.de/0160 98207200
URL:https://www.nachbarschaftszentrum.info/event/rueckenschule-ab-dem-50-lj-4/2025-09-30/
CATEGORIES:Bewegung und Entspannung
END:VEVENT
BEGIN:VEVENT
DTSTART;TZID=Europe/Berlin:20250930T133000
DTEND;TZID=Europe/Berlin:20250930T150000
DTSTAMP:20260421T133819
CREATED:20250604T092653Z
LAST-MODIFIED:20250604T132554Z
UID:10028340-1759239000-1759244400@www.nachbarschaftszentrum.info
SUMMARY:Smartphone & Tablet verstehen und anwenden
DESCRIPTION:Sie haben Fragen zum Umgang mit Ihrem Handy oder Tablet? Oder Sie möchten mehr wissen über Nutzungsmöglichkeiten der Digitalisierung? Egal ob Anfänger:in oder mit Vorkenntnissen\, hier sind Sie richtig.  \nDer Kurs ist in folgende drei Blöcke aufgeteilt:\n1.	Grundlagen: Bedienung\, Telefonieren & Kontakte\n2.	Nutzung\n3.	Spezielle Funktionen & Sonderthemen\nUm Ihr eigenes Gerät besser verstehen und an den Kursübungen teilnehmen zu können\, ist das Mitbringen eines fertig eingerichteten Gerätes erforderlich. \nAnmeldung: NBB
URL:https://www.nachbarschaftszentrum.info/event/smartphonetablet-verstehen-und-anwenden/2025-09-30/
CATEGORIES:Bildung und Wissen
END:VEVENT
BEGIN:VEVENT
DTSTART;TZID=Europe/Berlin:20250930T151500
DTEND;TZID=Europe/Berlin:20250930T164500
DTSTAMP:20260421T133819
CREATED:20250709T160746Z
LAST-MODIFIED:20250709T160746Z
UID:10029419-1759245300-1759250700@www.nachbarschaftszentrum.info
SUMMARY:Stricken und Häkeln für Jung und Alt
DESCRIPTION:Möchten Sie in unserem Treff stricken und häkeln lernen? Für sich\, Ihre Familie oder Freunde und Bekannte? Dann sind Sie willkommen! Bitte bringen Sie Wolle (Reste) und Nadeln mit! \nChristiane Frede \ndienstags\,          15:15 – 16:45 Uhr \nKosten:         keine \nAnmeldung: Nachbarschaftszentrum (NBB)
URL:https://www.nachbarschaftszentrum.info/event/stricken-und-haekeln-fuer-jung-und-alt-2/2025-09-30/
CATEGORIES:Miteinander und Mitwirken
END:VEVENT
BEGIN:VEVENT
DTSTART;TZID=Europe/Berlin:20250930T170000
DTEND;TZID=Europe/Berlin:20250930T181500
DTSTAMP:20260421T133819
CREATED:20250604T091857Z
LAST-MODIFIED:20250604T092025Z
UID:10028312-1759251600-1759256100@www.nachbarschaftszentrum.info
SUMMARY:Malen mit Aquarellfarben - für Anfänger:innen
DESCRIPTION:Lust auf Farbe? Lust darauf\, zu entdecken wie vielfältig und farbenfroh Aquarellfarbe sein kann? In diesem Kurs lernen Sie in kompakten und gut strukturierten Einheiten die grundlegenden Techniken wie Nass in Nass\, Lavieren und Lasieren kennen. Dazu gibt es hilfreiche Tipps zum Farben mischen und eine ausführliche Materialkunde zu Farbe\, Pinsel und Papier. \nAnmeldung: Anja Renner 0178 / 611 69 93\, anjarennerdesign@web.de\nKosten: 98 € inklusive Materialen
URL:https://www.nachbarschaftszentrum.info/event/malen-mit-aquarellfarben-fuer-anfaengerinnen/2025-09-30/
CATEGORIES:Kunst und Kultur
END:VEVENT
BEGIN:VEVENT
DTSTART;TZID=Europe/Berlin:20250930T183000
DTEND;TZID=Europe/Berlin:20250930T203000
DTSTAMP:20260421T133819
CREATED:20250604T092424Z
LAST-MODIFIED:20250604T092424Z
UID:10028322-1759257000-1759264200@www.nachbarschaftszentrum.info
SUMMARY:Malen mit Aquarellfarben
DESCRIPTION:Wir werden in diesem Kurs vorhandene Grundkenntnisse auffrischen und vertiefen. Dabei werden wir auch Aquarellstifte und verschiedene Hilfsmaterialien wie z.B. Rubbelkrepp nutzen\, um zu einer möglichst eigenständigen Bildgestaltung zu gelangen.  \nAnmeldung: Anja Renner 0178 / 611 69 93\, anjarennerdesign@web.de\nKosten: 136 € inklusive Materialen
URL:https://www.nachbarschaftszentrum.info/event/malen-mit-aquarellfarben-5/2025-09-30/
CATEGORIES:Kunst und Kultur
END:VEVENT
END:VCALENDAR