BEGIN:VCALENDAR
VERSION:2.0
PRODID:-//NBB | Nachbarschaftszentrum Brüser Berg - ECPv6.15.20//NONSGML v1.0//EN
CALSCALE:GREGORIAN
METHOD:PUBLISH
X-ORIGINAL-URL:https://www.nachbarschaftszentrum.info
X-WR-CALDESC:Veranstaltungen für NBB | Nachbarschaftszentrum Brüser Berg
REFRESH-INTERVAL;VALUE=DURATION:PT1H
X-Robots-Tag:noindex
X-PUBLISHED-TTL:PT1H
BEGIN:VTIMEZONE
TZID:Europe/Berlin
BEGIN:DAYLIGHT
TZOFFSETFROM:+0100
TZOFFSETTO:+0200
TZNAME:CEST
DTSTART:20240331T010000
END:DAYLIGHT
BEGIN:STANDARD
TZOFFSETFROM:+0200
TZOFFSETTO:+0100
TZNAME:CET
DTSTART:20241027T010000
END:STANDARD
BEGIN:DAYLIGHT
TZOFFSETFROM:+0100
TZOFFSETTO:+0200
TZNAME:CEST
DTSTART:20250330T010000
END:DAYLIGHT
BEGIN:STANDARD
TZOFFSETFROM:+0200
TZOFFSETTO:+0100
TZNAME:CET
DTSTART:20251026T010000
END:STANDARD
BEGIN:DAYLIGHT
TZOFFSETFROM:+0100
TZOFFSETTO:+0200
TZNAME:CEST
DTSTART:20260329T010000
END:DAYLIGHT
BEGIN:STANDARD
TZOFFSETFROM:+0200
TZOFFSETTO:+0100
TZNAME:CET
DTSTART:20261025T010000
END:STANDARD
END:VTIMEZONE
BEGIN:VEVENT
DTSTART;TZID=Europe/Berlin:20250917T100000
DTEND;TZID=Europe/Berlin:20250917T113000
DTSTAMP:20260422T102828
CREATED:20250905T105303Z
LAST-MODIFIED:20250905T105424Z
UID:10030339-1758103200-1758108600@www.nachbarschaftszentrum.info
SUMMARY:Crash-Kurs: Smartphone verstehen und anwenden
DESCRIPTION:Sie haben Fragen zum Umgang mit Ihrem Handy oder Tablet? Oder Sie möchten mehr wissen über Nutzungsmöglichkeiten der Digitalisierung? Wie zum Beispiel Medikamente online bestellen\, Fahrpläne abrufen\, Vertragsangebote vergleichen oder wie man Streamingdienste nutzt?\nEgal ob Anfänger:in oder mit Vorkenntnissen\, hier sind Sie richtig. Der Kurs findet auf Deutsch statt\, aber die Referentin spricht auch Kurdisch.\nEvîn Sîdo \nAnmeldung: Nachbarschaftszentrum
URL:https://www.nachbarschaftszentrum.info/event/crash-kurs-smartphone-verstehen-und-anwenden/2025-09-17/
CATEGORIES:Bildung und Wissen
END:VEVENT
BEGIN:VEVENT
DTSTART;TZID=Europe/Berlin:20250917T124500
DTEND;TZID=Europe/Berlin:20250917T133000
DTSTAMP:20260422T102828
CREATED:20240621T141803Z
LAST-MODIFIED:20240621T141950Z
UID:10000342-1758113100-1758115800@www.nachbarschaftszentrum.info
SUMMARY:Mittagstisch - Unser ehrenamtliches Team kocht für Sie
DESCRIPTION:In netter Nachbarschaft leckeres Essen genießen – freuen Sie sich einmal wöchentlich auf wechselnde kulinarische High-lights. Unser ehrenamtliches Kochteam kocht mit Freude für Sie. Kommen Sie vorbei und lassen Sie sich kulinarisch ver-wöhnen! Die Menüpläne hängen im NBB aus.\nKosten: siehe Menüplan\nAnmeldung: bis jeweils montags vorher im NBB erforderlich!
URL:https://www.nachbarschaftszentrum.info/event/mittagstisch-unser-ehrenamtliches-team-kocht-fuer-sie-4/2025-09-17/
CATEGORIES:Gemeinsam genießen
END:VEVENT
BEGIN:VEVENT
DTSTART;TZID=Europe/Berlin:20250917T150000
DTEND;TZID=Europe/Berlin:20250917T180000
DTSTAMP:20260422T102828
CREATED:20241211T073510Z
LAST-MODIFIED:20241211T130914Z
UID:10001328-1758121200-1758132000@www.nachbarschaftszentrum.info
SUMMARY:Offener Spielenachmittag
DESCRIPTION:Wir laden alle ein\, die gerne spielen\, einfach mal vorbeizuschauen und mitzuspielen. Wir entscheiden bei jedem Treffen neu\, welche Spiele wir an dem Abend spielen möchten. \nMarie–Luise Ratje und Ruth Mohr \nmittwochs\,     15:00 – 18:00 Uhr \nTermine:       jeden 1. und 3. Mittwoch im Monat \nAnmeldung: bis jeweils dienstags vorher im NBB erforderlich!
URL:https://www.nachbarschaftszentrum.info/event/offener-spielenachmittag-2-2/2025-09-17/
CATEGORIES:Miteinander und Mitwirken
END:VEVENT
BEGIN:VEVENT
DTSTART;TZID=Europe/Berlin:20250917T190000
DTEND;TZID=Europe/Berlin:20250917T210000
DTSTAMP:20260422T102828
CREATED:20250606T100856Z
LAST-MODIFIED:20250909T120438Z
UID:10028476-1758135600-1758142800@www.nachbarschaftszentrum.info
SUMMARY:Filmvorführen: Der Krieg in mir [Verschoben auf den 09. Oktober]
DESCRIPTION:Welche Spuren hat die Kriegsgeneration in uns hinterlassen und wie prägen sie uns noch heute?\nNeue Forschungsergebnisse zeigen\, dass extreme Stresserfahrungen genetisch weitervererbt werden können. \nDer Filmemacher Sebastian Heinzel untersucht die Auswirkungen des zweiten Weltkriegs\nauf seine Familie und folgt den Spuren des Großvaters.
URL:https://www.nachbarschaftszentrum.info/event/filmvorfuehren-der-krieg-in-mir/
LOCATION:NBB
CATEGORIES:Kunst und Kultur
END:VEVENT
END:VCALENDAR