BEGIN:VCALENDAR
VERSION:2.0
PRODID:-//NBB | Nachbarschaftszentrum Brüser Berg - ECPv6.15.20//NONSGML v1.0//EN
CALSCALE:GREGORIAN
METHOD:PUBLISH
X-ORIGINAL-URL:https://www.nachbarschaftszentrum.info
X-WR-CALDESC:Veranstaltungen für NBB | Nachbarschaftszentrum Brüser Berg
REFRESH-INTERVAL;VALUE=DURATION:PT1H
X-Robots-Tag:noindex
X-PUBLISHED-TTL:PT1H
BEGIN:VTIMEZONE
TZID:Europe/Berlin
BEGIN:DAYLIGHT
TZOFFSETFROM:+0100
TZOFFSETTO:+0200
TZNAME:CEST
DTSTART:20240331T010000
END:DAYLIGHT
BEGIN:STANDARD
TZOFFSETFROM:+0200
TZOFFSETTO:+0100
TZNAME:CET
DTSTART:20241027T010000
END:STANDARD
BEGIN:DAYLIGHT
TZOFFSETFROM:+0100
TZOFFSETTO:+0200
TZNAME:CEST
DTSTART:20250330T010000
END:DAYLIGHT
BEGIN:STANDARD
TZOFFSETFROM:+0200
TZOFFSETTO:+0100
TZNAME:CET
DTSTART:20251026T010000
END:STANDARD
BEGIN:DAYLIGHT
TZOFFSETFROM:+0100
TZOFFSETTO:+0200
TZNAME:CEST
DTSTART:20260329T010000
END:DAYLIGHT
BEGIN:STANDARD
TZOFFSETFROM:+0200
TZOFFSETTO:+0100
TZNAME:CET
DTSTART:20261025T010000
END:STANDARD
END:VTIMEZONE
BEGIN:VEVENT
DTSTART;TZID=Europe/Berlin:20250910T124500
DTEND;TZID=Europe/Berlin:20250910T133000
DTSTAMP:20260422T210622
CREATED:20240621T141803Z
LAST-MODIFIED:20240621T141950Z
UID:10000341-1757508300-1757511000@www.nachbarschaftszentrum.info
SUMMARY:Mittagstisch - Unser ehrenamtliches Team kocht für Sie
DESCRIPTION:In netter Nachbarschaft leckeres Essen genießen – freuen Sie sich einmal wöchentlich auf wechselnde kulinarische High-lights. Unser ehrenamtliches Kochteam kocht mit Freude für Sie. Kommen Sie vorbei und lassen Sie sich kulinarisch ver-wöhnen! Die Menüpläne hängen im NBB aus.\nKosten: siehe Menüplan\nAnmeldung: bis jeweils montags vorher im NBB erforderlich!
URL:https://www.nachbarschaftszentrum.info/event/mittagstisch-unser-ehrenamtliches-team-kocht-fuer-sie-4/2025-09-10/
CATEGORIES:Gemeinsam genießen
END:VEVENT
BEGIN:VEVENT
DTSTART;TZID=Europe/Berlin:20250910T153000
DTEND;TZID=Europe/Berlin:20250910T163000
DTSTAMP:20260422T210622
CREATED:20250605T133510Z
LAST-MODIFIED:20250910T122345Z
UID:10028473-1757518200-1757521800@www.nachbarschaftszentrum.info
SUMMARY:Treff im NBB
DESCRIPTION:Der Treff im NBB gibt Gelegenheit für Gespräche\, für den Austausch von Gedanken\, Ideen und Informationen\, für ein Zusammensein bei Kaffee und Kuchen.
URL:https://www.nachbarschaftszentrum.info/event/treff-im-nbb-5/2025-09-10/
LOCATION:NBB
CATEGORIES:Gemeinsam genießen
END:VEVENT
BEGIN:VEVENT
DTSTART;TZID=Europe/Berlin:20250910T180000
DTEND;TZID=Europe/Berlin:20250910T200000
DTSTAMP:20260422T210622
CREATED:20250605T133100Z
LAST-MODIFIED:20250605T133100Z
UID:10028472-1757527200-1757534400@www.nachbarschaftszentrum.info
SUMMARY:Nicht weit von hier – Spuren des NS in Duisdorf und der Nachbarschaft
DESCRIPTION:Nationalsozialistische Diskriminierung und Verfolgung spielten sich nicht nur an weit entfernten Orten ab. Auch in der eigenen Nachbarschaft lassen sich Spuren finden. Doch wie erging es Menschen in Duisdorf und den benachbarten Stadtteilen in der NS-Zeit? Wer waren die Verfolgten und wie wird heute an sie erinnert? Und welchen Herausforderungen ist das Gedenken an diese Menschen heute ausgesetzt? Jonas Blum von der Gedenkstätte und NS-Dokumentationszentrum Bonn geht in seinem Vortrag auf diese Fragen ein und teilt Erkenntnisse aus der Arbeit der Institution.
URL:https://www.nachbarschaftszentrum.info/event/nicht-weit-von-hier-spuren-des-ns-in-duisdorf-und-der-nachbarschaft/
LOCATION:NBB
CATEGORIES:Bildung und Wissen
END:VEVENT
END:VCALENDAR