BEGIN:VCALENDAR
VERSION:2.0
PRODID:-//NBB | Nachbarschaftszentrum Brüser Berg - ECPv6.15.20//NONSGML v1.0//EN
CALSCALE:GREGORIAN
METHOD:PUBLISH
X-WR-CALNAME:NBB | Nachbarschaftszentrum Brüser Berg
X-ORIGINAL-URL:https://www.nachbarschaftszentrum.info
X-WR-CALDESC:Veranstaltungen für NBB | Nachbarschaftszentrum Brüser Berg
REFRESH-INTERVAL;VALUE=DURATION:PT1H
X-Robots-Tag:noindex
X-PUBLISHED-TTL:PT1H
BEGIN:VTIMEZONE
TZID:Europe/Berlin
BEGIN:DAYLIGHT
TZOFFSETFROM:+0100
TZOFFSETTO:+0200
TZNAME:CEST
DTSTART:20240331T010000
END:DAYLIGHT
BEGIN:STANDARD
TZOFFSETFROM:+0200
TZOFFSETTO:+0100
TZNAME:CET
DTSTART:20241027T010000
END:STANDARD
BEGIN:DAYLIGHT
TZOFFSETFROM:+0100
TZOFFSETTO:+0200
TZNAME:CEST
DTSTART:20250330T010000
END:DAYLIGHT
BEGIN:STANDARD
TZOFFSETFROM:+0200
TZOFFSETTO:+0100
TZNAME:CET
DTSTART:20251026T010000
END:STANDARD
BEGIN:DAYLIGHT
TZOFFSETFROM:+0100
TZOFFSETTO:+0200
TZNAME:CEST
DTSTART:20260329T010000
END:DAYLIGHT
BEGIN:STANDARD
TZOFFSETFROM:+0200
TZOFFSETTO:+0100
TZNAME:CET
DTSTART:20261025T010000
END:STANDARD
END:VTIMEZONE
BEGIN:VEVENT
DTSTART;TZID=Europe/Berlin:20250813T080000
DTEND;TZID=Europe/Berlin:20250813T170000
DTSTAMP:20260423T153118
CREATED:20250605T101825Z
LAST-MODIFIED:20260323T144146Z
UID:10032154-1755072000-1755104400@www.nachbarschaftszentrum.info
SUMMARY:Finanzen für Frauen – „Geld anlegen mit Gold?“
DESCRIPTION:Gerade in unruhigen Zeiten ist Gold eine beliebte Form der Geldanlage. Aber ist eine Anlage in Gold wirklich sinnvoll? In der einstündigen Veranstaltung erklärt unsere Referentin\, warum Geldanlage für Frauen wichtig ist und welche Rolle Gold dabei spielen kann.
URL:https://www.nachbarschaftszentrum.info/event/finanzen-fuer-frauen-geld-anlegen-mit-gold-3/2025-08-13/1/
LOCATION:NBB
CATEGORIES:Bildung und Wissen
END:VEVENT
BEGIN:VEVENT
DTSTART;TZID=Europe/Berlin:20250813T124500
DTEND;TZID=Europe/Berlin:20250813T133000
DTSTAMP:20260423T153118
CREATED:20240621T141803Z
LAST-MODIFIED:20240621T141950Z
UID:10000337-1755089100-1755091800@www.nachbarschaftszentrum.info
SUMMARY:Mittagstisch - Unser ehrenamtliches Team kocht für Sie
DESCRIPTION:In netter Nachbarschaft leckeres Essen genießen – freuen Sie sich einmal wöchentlich auf wechselnde kulinarische High-lights. Unser ehrenamtliches Kochteam kocht mit Freude für Sie. Kommen Sie vorbei und lassen Sie sich kulinarisch ver-wöhnen! Die Menüpläne hängen im NBB aus.\nKosten: siehe Menüplan\nAnmeldung: bis jeweils montags vorher im NBB erforderlich!
URL:https://www.nachbarschaftszentrum.info/event/mittagstisch-unser-ehrenamtliches-team-kocht-fuer-sie-4/2025-08-13/
CATEGORIES:Gemeinsam genießen
END:VEVENT
BEGIN:VEVENT
DTSTART;TZID=Europe/Berlin:20250813T143000
DTEND;TZID=Europe/Berlin:20250813T163000
DTSTAMP:20260423T153118
CREATED:20250605T101644Z
LAST-MODIFIED:20250605T101644Z
UID:10028461-1755095400-1755102600@www.nachbarschaftszentrum.info
SUMMARY:Erzählcafé im NBB
DESCRIPTION:„Wir wurde ich was ich bin?“\, mit der Künstlerin Caroline Lauscher.
URL:https://www.nachbarschaftszentrum.info/event/erzaehlcafe-im-nbb-2/
LOCATION:NBB
CATEGORIES:Kunst und Kultur
END:VEVENT
BEGIN:VEVENT
DTSTART;TZID=Europe/Berlin:20250813T190000
DTEND;TZID=Europe/Berlin:20250813T200000
DTSTAMP:20260423T153118
CREATED:20250605T101825Z
LAST-MODIFIED:20260323T144146Z
UID:10028462-1755111600-1755115200@www.nachbarschaftszentrum.info
SUMMARY:Finanzen für Frauen – „Geld anlegen mit Gold?“
DESCRIPTION:Gerade in unruhigen Zeiten ist Gold eine beliebte Form der Geldanlage. Aber ist eine Anlage in Gold wirklich sinnvoll? In der einstündigen Veranstaltung erklärt unsere Referentin\, warum Geldanlage für Frauen wichtig ist und welche Rolle Gold dabei spielen kann.
URL:https://www.nachbarschaftszentrum.info/event/finanzen-fuer-frauen-geld-anlegen-mit-gold-3/2025-08-13/2/
LOCATION:NBB
CATEGORIES:Bildung und Wissen
END:VEVENT
END:VCALENDAR