BEGIN:VCALENDAR
VERSION:2.0
PRODID:-//NBB | Nachbarschaftszentrum Brüser Berg - ECPv6.15.20//NONSGML v1.0//EN
CALSCALE:GREGORIAN
METHOD:PUBLISH
X-ORIGINAL-URL:https://www.nachbarschaftszentrum.info
X-WR-CALDESC:Veranstaltungen für NBB | Nachbarschaftszentrum Brüser Berg
REFRESH-INTERVAL;VALUE=DURATION:PT1H
X-Robots-Tag:noindex
X-PUBLISHED-TTL:PT1H
BEGIN:VTIMEZONE
TZID:Europe/Berlin
BEGIN:DAYLIGHT
TZOFFSETFROM:+0100
TZOFFSETTO:+0200
TZNAME:CEST
DTSTART:20240331T010000
END:DAYLIGHT
BEGIN:STANDARD
TZOFFSETFROM:+0200
TZOFFSETTO:+0100
TZNAME:CET
DTSTART:20241027T010000
END:STANDARD
BEGIN:DAYLIGHT
TZOFFSETFROM:+0100
TZOFFSETTO:+0200
TZNAME:CEST
DTSTART:20250330T010000
END:DAYLIGHT
BEGIN:STANDARD
TZOFFSETFROM:+0200
TZOFFSETTO:+0100
TZNAME:CET
DTSTART:20251026T010000
END:STANDARD
BEGIN:DAYLIGHT
TZOFFSETFROM:+0100
TZOFFSETTO:+0200
TZNAME:CEST
DTSTART:20260329T010000
END:DAYLIGHT
BEGIN:STANDARD
TZOFFSETFROM:+0200
TZOFFSETTO:+0100
TZNAME:CET
DTSTART:20261025T010000
END:STANDARD
END:VTIMEZONE
BEGIN:VEVENT
DTSTART;TZID=Europe/Berlin:20250805T133000
DTEND;TZID=Europe/Berlin:20250805T150000
DTSTAMP:20260423T145628
CREATED:20250604T092653Z
LAST-MODIFIED:20250604T132554Z
UID:10028332-1754400600-1754406000@www.nachbarschaftszentrum.info
SUMMARY:Smartphone & Tablet verstehen und anwenden
DESCRIPTION:Sie haben Fragen zum Umgang mit Ihrem Handy oder Tablet? Oder Sie möchten mehr wissen über Nutzungsmöglichkeiten der Digitalisierung? Egal ob Anfänger:in oder mit Vorkenntnissen\, hier sind Sie richtig.  \nDer Kurs ist in folgende drei Blöcke aufgeteilt:\n1.	Grundlagen: Bedienung\, Telefonieren & Kontakte\n2.	Nutzung\n3.	Spezielle Funktionen & Sonderthemen\nUm Ihr eigenes Gerät besser verstehen und an den Kursübungen teilnehmen zu können\, ist das Mitbringen eines fertig eingerichteten Gerätes erforderlich. \nAnmeldung: NBB
URL:https://www.nachbarschaftszentrum.info/event/smartphonetablet-verstehen-und-anwenden/2025-08-05/
CATEGORIES:Bildung und Wissen
END:VEVENT
BEGIN:VEVENT
DTSTART;TZID=Europe/Berlin:20250805T151500
DTEND;TZID=Europe/Berlin:20250805T164500
DTSTAMP:20260423T145628
CREATED:20250709T160746Z
LAST-MODIFIED:20250709T160746Z
UID:10029411-1754406900-1754412300@www.nachbarschaftszentrum.info
SUMMARY:Stricken und Häkeln für Jung und Alt
DESCRIPTION:Möchten Sie in unserem Treff stricken und häkeln lernen? Für sich\, Ihre Familie oder Freunde und Bekannte? Dann sind Sie willkommen! Bitte bringen Sie Wolle (Reste) und Nadeln mit! \nChristiane Frede \ndienstags\,          15:15 – 16:45 Uhr \nKosten:         keine \nAnmeldung: Nachbarschaftszentrum (NBB)
URL:https://www.nachbarschaftszentrum.info/event/stricken-und-haekeln-fuer-jung-und-alt-2/2025-08-05/
CATEGORIES:Miteinander und Mitwirken
END:VEVENT
END:VCALENDAR