BEGIN:VCALENDAR
VERSION:2.0
PRODID:-//NBB | Nachbarschaftszentrum Brüser Berg - ECPv6.15.20//NONSGML v1.0//EN
CALSCALE:GREGORIAN
METHOD:PUBLISH
X-ORIGINAL-URL:https://www.nachbarschaftszentrum.info
X-WR-CALDESC:Veranstaltungen für NBB | Nachbarschaftszentrum Brüser Berg
REFRESH-INTERVAL;VALUE=DURATION:PT1H
X-Robots-Tag:noindex
X-PUBLISHED-TTL:PT1H
BEGIN:VTIMEZONE
TZID:Europe/Berlin
BEGIN:DAYLIGHT
TZOFFSETFROM:+0100
TZOFFSETTO:+0200
TZNAME:CEST
DTSTART:20240331T010000
END:DAYLIGHT
BEGIN:STANDARD
TZOFFSETFROM:+0200
TZOFFSETTO:+0100
TZNAME:CET
DTSTART:20241027T010000
END:STANDARD
BEGIN:DAYLIGHT
TZOFFSETFROM:+0100
TZOFFSETTO:+0200
TZNAME:CEST
DTSTART:20250330T010000
END:DAYLIGHT
BEGIN:STANDARD
TZOFFSETFROM:+0200
TZOFFSETTO:+0100
TZNAME:CET
DTSTART:20251026T010000
END:STANDARD
BEGIN:DAYLIGHT
TZOFFSETFROM:+0100
TZOFFSETTO:+0200
TZNAME:CEST
DTSTART:20260329T010000
END:DAYLIGHT
BEGIN:STANDARD
TZOFFSETFROM:+0200
TZOFFSETTO:+0100
TZNAME:CET
DTSTART:20261025T010000
END:STANDARD
END:VTIMEZONE
BEGIN:VEVENT
DTSTART;TZID=Europe/Berlin:20250627T103000
DTEND;TZID=Europe/Berlin:20250627T120000
DTSTAMP:20260423T101901
CREATED:20250428T113645Z
LAST-MODIFIED:20250428T113646Z
UID:10002827-1751020200-1751025600@www.nachbarschaftszentrum.info
SUMMARY:Englischkurs A2
DESCRIPTION:Der Kurs wendet sich an Interessierte\, die über Englisch mit Vorkenntnissen verfügen und diese Sprache auffrischen oder vertiefen möchten. Anhand von Texten einer kleinen Lektüre wird der Wortschatz erweitert und die Grammatik wiederholt. Sie erhalten Tipps und Techniken zum Gedächtnistraining\, da-mit Ihr Entschluss\, aktiv zu sein\, erfolgreich verläuft. Die Freude am gemeinschaftlichen Erlernen einer Fremdsprache soll dabei mit im Vordergrund stehen.\nKarla Hoppe  \nKosten:	je nach Teilnehmer:innenzahl\,\n		(min. 5 – max. 9\, ab 85\,00 €)\n	10 Unterrichts-Doppelstunden\n\nAnmeldung:	Karla Hoppe\, Tel.: 0228 / 25 63 18\n	E-Mail: karla@hoppe-bonn.de
URL:https://www.nachbarschaftszentrum.info/event/englischkurs-a2-2/2025-06-27/
CATEGORIES:Bildung und Wissen
END:VEVENT
BEGIN:VEVENT
DTSTART;TZID=Europe/Berlin:20250627T110000
DTEND;TZID=Europe/Berlin:20250627T121500
DTSTAMP:20260423T101901
CREATED:20250312T132553Z
LAST-MODIFIED:20251215T091617Z
UID:10003023-1751022000-1751026500@www.nachbarschaftszentrum.info
SUMMARY:Qigong Yangsheng: Die 15 Ausdrucksformen
DESCRIPTION:Qigong Yangsheng basiert auf jahrhundertealten Methoden aus China. Mit sanften\, fließenden Bewegungen im Stehen oder Sitzen kann Qigong Yangheng zur Entspannung und Stressbewältigung\, generell zur Gesunderhaltung beitragen. Dieser Kurs ist für Erwachsene mit und ohne Vorkenntnisse – unabhängig vom Alter – geeignet. Eine Schnupperstunde ist möglich für 10 €. \nAgnes Bayard\, Übungsleiterin für Qigong Yangsheng \nKosten:        100 €                                                  10 Termine \nAnmeldung: 0228/ 62 57 37\, agnesbayard1@gmail.com
URL:https://www.nachbarschaftszentrum.info/event/qigong-yangsheng-die-15-ausdrucksformen-7/2025-06-27/
CATEGORIES:Bewegung und Entspannung
END:VEVENT
BEGIN:VEVENT
DTSTART;TZID=Europe/Berlin:20250627T130000
DTEND;TZID=Europe/Berlin:20250627T150000
DTSTAMP:20260423T101901
CREATED:20250618T121128Z
LAST-MODIFIED:20250618T121137Z
UID:10028510-1751029200-1751036400@www.nachbarschaftszentrum.info
SUMMARY:„Digitaler Alltag – einfach erklärt“
DESCRIPTION:Miniworkshop zum sicherem Umgang mit Smartphones anlässlich des Tags der Digitalisierung \nDie digitale Welt gehört längst zum Alltag – ob beim Bezahlen\, Reisen oder im Gesundheitsbereich. Doch viele Fragen bleiben offen: Wie funktioniert sicheres Online-Banking? Welche Apps sind wirklich hilfreich? Und wie schütze ich meine Daten? \nWir beginnen mit einem Impulsvortrag zum Thema „Digital – aber sicher“. Ein ehemaliger Datenschutzbeauftragter gibt alltagstaugliche Tipps rund ums Smartphone\, nützliche Apps und einen sicheren Umgang mit persönlichen Daten.\nDas gelernte Wissen soll direkt umgesetzt werden. Gemeinsam mit unseren ehrenamtlichen Unterstützer:innen können Apps direkt installiert und erkundet werden. \nKommen Sie vorbei und bringen Sie Ihr Smartphone mit – und Ihre Fragen gleich dazu.\nWir freuen uns auf einen lebendigen Austausch\, denn gemeinsam lernt es sich am besten!
URL:https://www.nachbarschaftszentrum.info/event/digitaler-alltag-einfach-erklaert/
CATEGORIES:Bildung und Wissen
END:VEVENT
BEGIN:VEVENT
DTSTART;TZID=Europe/Berlin:20250627T150000
DTEND;TZID=Europe/Berlin:20250627T163000
DTSTAMP:20260423T101901
CREATED:20240715T123054Z
LAST-MODIFIED:20241025T084039Z
UID:10001875-1751036400-1751041800@www.nachbarschaftszentrum.info
SUMMARY:Offener Treff
DESCRIPTION:Wir treffen uns freitagsnachmittags\, um einfach mal vor die Tür zu kommen. In gemütlicher Runde tauschen wir uns aus und setzen uns mit verschiedensten Themen auseinader. Die Gruppe ist offen für neue Gesichter sowie interessante Inhalte! \nChristiane Frede \nKosten:         keine \nAnmeldung: Nachbarschaftszentrum (NBB)
URL:https://www.nachbarschaftszentrum.info/event/offener-treff-4/2025-06-27/
CATEGORIES:Miteinander und Mitwirken
END:VEVENT
END:VCALENDAR