BEGIN:VCALENDAR
VERSION:2.0
PRODID:-//NBB | Nachbarschaftszentrum Brüser Berg - ECPv6.15.20//NONSGML v1.0//EN
CALSCALE:GREGORIAN
METHOD:PUBLISH
X-WR-CALNAME:NBB | Nachbarschaftszentrum Brüser Berg
X-ORIGINAL-URL:https://www.nachbarschaftszentrum.info
X-WR-CALDESC:Veranstaltungen für NBB | Nachbarschaftszentrum Brüser Berg
REFRESH-INTERVAL;VALUE=DURATION:PT1H
X-Robots-Tag:noindex
X-PUBLISHED-TTL:PT1H
BEGIN:VTIMEZONE
TZID:Europe/Berlin
BEGIN:DAYLIGHT
TZOFFSETFROM:+0100
TZOFFSETTO:+0200
TZNAME:CEST
DTSTART:20240331T010000
END:DAYLIGHT
BEGIN:STANDARD
TZOFFSETFROM:+0200
TZOFFSETTO:+0100
TZNAME:CET
DTSTART:20241027T010000
END:STANDARD
BEGIN:DAYLIGHT
TZOFFSETFROM:+0100
TZOFFSETTO:+0200
TZNAME:CEST
DTSTART:20250330T010000
END:DAYLIGHT
BEGIN:STANDARD
TZOFFSETFROM:+0200
TZOFFSETTO:+0100
TZNAME:CET
DTSTART:20251026T010000
END:STANDARD
BEGIN:DAYLIGHT
TZOFFSETFROM:+0100
TZOFFSETTO:+0200
TZNAME:CEST
DTSTART:20260329T010000
END:DAYLIGHT
BEGIN:STANDARD
TZOFFSETFROM:+0200
TZOFFSETTO:+0100
TZNAME:CET
DTSTART:20261025T010000
END:STANDARD
END:VTIMEZONE
BEGIN:VEVENT
DTSTART;TZID=Europe/Berlin:20250617T133000
DTEND;TZID=Europe/Berlin:20250617T153000
DTSTAMP:20260421T151523
CREATED:20240612T135105Z
LAST-MODIFIED:20250604T135001Z
UID:10002208-1750167000-1750174200@www.nachbarschaftszentrum.info
SUMMARY:Digitale Sprechstunde – Umgang mit Handy\, Tablet und Co.
DESCRIPTION:Sie haben Fragen zum Umgang mit Ihrem Handy oder Tablet? Oder Sie möchten mehr wissen über Nutzungsmöglichkeiten der Digitalisierung? Wie zum Beispiel Medikamente online bestellen\, Fahrpläne abrufen\, Vertragsangebote vergleichen oder wie man Streamingdienste nutzt? Egal ob Anfänger:in oder mit Vorkenntnissen\, hier sind Sie richtig.\nDie Sprechstunde behandelt ein festes Thema\, alle zwei Monate gibt es eine allgemeine Sprechstunde nur für Ihre Fragen. Die Themenübersicht finden Sie auf unserem Flyer.\nSaskia Klee und Thomas Heimsath \nAnmeldung: Nachbarschaftszentrum (NBB)
URL:https://www.nachbarschaftszentrum.info/event/digitale-sprechstunde-umgang-mit-handy-tablet-und-co/2025-06-17/
CATEGORIES:Bildung und Wissen
ATTACH;FMTTYPE=image/png:https://www.nachbarschaftszentrum.info/wp-content/uploads/digSprechstunde_themen.png
END:VEVENT
BEGIN:VEVENT
DTSTART;TZID=Europe/Berlin:20250617T140000
DTEND;TZID=Europe/Berlin:20250617T150000
DTSTAMP:20260421T151523
CREATED:20250311T104241Z
LAST-MODIFIED:20250311T104241Z
UID:10002881-1750168800-1750172400@www.nachbarschaftszentrum.info
SUMMARY:Treff im NBB
DESCRIPTION:Der Treff im NBB gibt Gelegenheit für Gespräche\, für den Austausch von Gedanken\, Ideen und Informationen\, für ein Zusammensein bei Kaffee und Kuchen. \nAnmeldung: Nachbarschaftszentrum (NBB) \n 
URL:https://www.nachbarschaftszentrum.info/event/treff-im-nbb-2/2025-06-17/
CATEGORIES:Miteinander und Mitwirken
END:VEVENT
BEGIN:VEVENT
DTSTART;TZID=Europe/Berlin:20250617T170000
DTEND;TZID=Europe/Berlin:20250617T190000
DTSTAMP:20260421T151523
CREATED:20250311T155125Z
LAST-MODIFIED:20250611T102430Z
UID:10003011-1750179600-1750186800@www.nachbarschaftszentrum.info
SUMMARY:Bürger:innensprechstunde des Bezirksbürgermeisters  Dr. Leonhardt
DESCRIPTION:Bezirksbürgermeister Dr. Leonhardt bietet für die Bürgerinnen und Bürger des Stadtbezirks Hardtberg eine Bürgersprechstunde im Nachbarschaftszentrum Brüser Berg an. \nAnmeldung: 0228 / 77 4730 (Rathaus Hardtberg) \n 
URL:https://www.nachbarschaftszentrum.info/event/buergerinnensprechstunde-des-bezirksbuergermeisters-dr-leonhardt-2/2025-06-17/
CATEGORIES:Beratung und Information
END:VEVENT
BEGIN:VEVENT
DTSTART;TZID=Europe/Berlin:20250617T191500
DTEND;TZID=Europe/Berlin:20250617T203000
DTSTAMP:20260421T151523
CREATED:20250311T145627Z
LAST-MODIFIED:20250311T145627Z
UID:10002936-1750187700-1750192200@www.nachbarschaftszentrum.info
SUMMARY:Spaß mit Gitarre – Schnupperkurs Fortgeschrittene
DESCRIPTION:Ein Kurs für Hobby-Gitarrist:innen und Wiedereinsteiger ab 16 Jahren. Wer sich an der Gitarre weiterentwickeln möchte ist hier richtig. Wir lernen erweiterte Akkorde\, sinnvolle Kadenzen\, das Begleiten und wer mag das Solieren. Klassische oder Westerngitarre ist egal. Eine Fortsetzung ist geplant. \nOlaf Absalon \nKosten:        49 – 55€ (abhängig von der Teilnehmer:innenzahl) \nAnmeldung: Nachbarschaftszentrum (NBB)
URL:https://www.nachbarschaftszentrum.info/event/spass-mit-gitarre-schnupperkurs-fortgeschrittene/2025-06-17/
CATEGORIES:Kunst und Kultur
END:VEVENT
END:VCALENDAR