BEGIN:VCALENDAR
VERSION:2.0
PRODID:-//NBB | Nachbarschaftszentrum Brüser Berg - ECPv6.15.20//NONSGML v1.0//EN
CALSCALE:GREGORIAN
METHOD:PUBLISH
X-ORIGINAL-URL:https://www.nachbarschaftszentrum.info
X-WR-CALDESC:Veranstaltungen für NBB | Nachbarschaftszentrum Brüser Berg
REFRESH-INTERVAL;VALUE=DURATION:PT1H
X-Robots-Tag:noindex
X-PUBLISHED-TTL:PT1H
BEGIN:VTIMEZONE
TZID:Europe/Berlin
BEGIN:DAYLIGHT
TZOFFSETFROM:+0100
TZOFFSETTO:+0200
TZNAME:CEST
DTSTART:20240331T010000
END:DAYLIGHT
BEGIN:STANDARD
TZOFFSETFROM:+0200
TZOFFSETTO:+0100
TZNAME:CET
DTSTART:20241027T010000
END:STANDARD
BEGIN:DAYLIGHT
TZOFFSETFROM:+0100
TZOFFSETTO:+0200
TZNAME:CEST
DTSTART:20250330T010000
END:DAYLIGHT
BEGIN:STANDARD
TZOFFSETFROM:+0200
TZOFFSETTO:+0100
TZNAME:CET
DTSTART:20251026T010000
END:STANDARD
BEGIN:DAYLIGHT
TZOFFSETFROM:+0100
TZOFFSETTO:+0200
TZNAME:CEST
DTSTART:20260329T010000
END:DAYLIGHT
BEGIN:STANDARD
TZOFFSETFROM:+0200
TZOFFSETTO:+0100
TZNAME:CET
DTSTART:20261025T010000
END:STANDARD
END:VTIMEZONE
BEGIN:VEVENT
DTSTART;TZID=Europe/Berlin:20250610T170000
DTEND;TZID=Europe/Berlin:20250610T190000
DTSTAMP:20260421T121037
CREATED:20250417T143232Z
LAST-MODIFIED:20250910T115430Z
UID:10003080-1749574800-1749582000@www.nachbarschaftszentrum.info
SUMMARY:Rudelsingen mit Hits der 60er bis 90er Jahre
DESCRIPTION:Wir möchten Klassiker aus Rock – und Popmusik gemeinsam singen. Die Musik spielen wir ab und der Text läuft auf der Leinwand mit. Keine Chor oder Singerfahrung erforderlich!\nLiederwünsche gerne vorab an NBB@dw-bonn.de \nRuth Mohr und Eva Knips
URL:https://www.nachbarschaftszentrum.info/event/rudelsingen-mit-hits-der-60er-bis-90er-jahre-2/2025-06-10/
CATEGORIES:Kunst und Kultur
END:VEVENT
BEGIN:VEVENT
DTSTART;TZID=Europe/Berlin:20250610T191500
DTEND;TZID=Europe/Berlin:20250610T203000
DTSTAMP:20260421T121037
CREATED:20250311T145208Z
LAST-MODIFIED:20250311T145208Z
UID:10002932-1749582900-1749587400@www.nachbarschaftszentrum.info
SUMMARY:Spaß mit Gitarre – Schnupperkurs Anfänger:innen
DESCRIPTION:Gitarrenkurs für absolute Anfänger:innen ab 16 Jahren. In einer kleinen Gruppe werden wir uns Schritt für Schritt mit dem Instrument vertraut machen. Bitte eine Gitarre mitbringen. Mit Nylon oder Stahlsaiten  ist egal. Eine Fortsetzung ist geplant. \nOlaf Absalon \nKosten:        49 – 55€ (abhängig von der Teilnehmer:innenzahl) \nAnmeldung: Nachbarschaftszentrum (NBB)
URL:https://www.nachbarschaftszentrum.info/event/spass-mit-gitarre-schnupperkurs-anfaengerinnen/2025-06-10/
CATEGORIES:Kunst und Kultur
END:VEVENT
END:VCALENDAR