BEGIN:VCALENDAR
VERSION:2.0
PRODID:-//NBB | Nachbarschaftszentrum Brüser Berg - ECPv6.15.20//NONSGML v1.0//EN
CALSCALE:GREGORIAN
METHOD:PUBLISH
X-WR-CALNAME:NBB | Nachbarschaftszentrum Brüser Berg
X-ORIGINAL-URL:https://www.nachbarschaftszentrum.info
X-WR-CALDESC:Veranstaltungen für NBB | Nachbarschaftszentrum Brüser Berg
REFRESH-INTERVAL;VALUE=DURATION:PT1H
X-Robots-Tag:noindex
X-PUBLISHED-TTL:PT1H
BEGIN:VTIMEZONE
TZID:Europe/Berlin
BEGIN:DAYLIGHT
TZOFFSETFROM:+0100
TZOFFSETTO:+0200
TZNAME:CEST
DTSTART:20240331T010000
END:DAYLIGHT
BEGIN:STANDARD
TZOFFSETFROM:+0200
TZOFFSETTO:+0100
TZNAME:CET
DTSTART:20241027T010000
END:STANDARD
BEGIN:DAYLIGHT
TZOFFSETFROM:+0100
TZOFFSETTO:+0200
TZNAME:CEST
DTSTART:20250330T010000
END:DAYLIGHT
BEGIN:STANDARD
TZOFFSETFROM:+0200
TZOFFSETTO:+0100
TZNAME:CET
DTSTART:20251026T010000
END:STANDARD
BEGIN:DAYLIGHT
TZOFFSETFROM:+0100
TZOFFSETTO:+0200
TZNAME:CEST
DTSTART:20260329T010000
END:DAYLIGHT
BEGIN:STANDARD
TZOFFSETFROM:+0200
TZOFFSETTO:+0100
TZNAME:CET
DTSTART:20261025T010000
END:STANDARD
END:VTIMEZONE
BEGIN:VEVENT
DTSTART;TZID=Europe/Berlin:20250520T110000
DTEND;TZID=Europe/Berlin:20250520T140000
DTSTAMP:20260419T141658
CREATED:20250311T151430Z
LAST-MODIFIED:20250311T151430Z
UID:10002940-1747738800-1747749600@www.nachbarschaftszentrum.info
SUMMARY:Veranstaltungen Initiative Stadtteilkultur
DESCRIPTION:Workshop: Keramik gestalten \nNach einer kurzen Einführung in die Technik des Arbeitens mit Ton\, sollen in diesem Workshop eigene Objekte geschaffen werden. Nach dem Trocknen und Brennen können sie noch bemalt oder glasiert werden. Die Folgetermine werden beim ersten Workshoptag vereinbart. \nInitiative Stadtteilkultur\, Anne Hensgen und Mira Kerdic \nKosten:      10€ + Material \nAnmeldung:        Nachbarschaftszentrum (NBB) \nOrt:   Atelier in der Borsigallee 12\, Brüser Berg
URL:https://www.nachbarschaftszentrum.info/event/veranstaltungen-initiative-stadtteilkultur-3/
CATEGORIES:Kunst und Kultur
END:VEVENT
BEGIN:VEVENT
DTSTART;TZID=Europe/Berlin:20250520T133000
DTEND;TZID=Europe/Berlin:20250520T153000
DTSTAMP:20260419T141658
CREATED:20240612T135105Z
LAST-MODIFIED:20250604T135001Z
UID:10002206-1747747800-1747755000@www.nachbarschaftszentrum.info
SUMMARY:Digitale Sprechstunde – Umgang mit Handy\, Tablet und Co.
DESCRIPTION:Sie haben Fragen zum Umgang mit Ihrem Handy oder Tablet? Oder Sie möchten mehr wissen über Nutzungsmöglichkeiten der Digitalisierung? Wie zum Beispiel Medikamente online bestellen\, Fahrpläne abrufen\, Vertragsangebote vergleichen oder wie man Streamingdienste nutzt? Egal ob Anfänger:in oder mit Vorkenntnissen\, hier sind Sie richtig.\nDie Sprechstunde behandelt ein festes Thema\, alle zwei Monate gibt es eine allgemeine Sprechstunde nur für Ihre Fragen. Die Themenübersicht finden Sie auf unserem Flyer.\nSaskia Klee und Thomas Heimsath \nAnmeldung: Nachbarschaftszentrum (NBB)
URL:https://www.nachbarschaftszentrum.info/event/digitale-sprechstunde-umgang-mit-handy-tablet-und-co/2025-05-20/
CATEGORIES:Bildung und Wissen
ATTACH;FMTTYPE=image/png:https://www.nachbarschaftszentrum.info/wp-content/uploads/digSprechstunde_themen.png
END:VEVENT
BEGIN:VEVENT
DTSTART;TZID=Europe/Berlin:20250520T140000
DTEND;TZID=Europe/Berlin:20250520T150000
DTSTAMP:20260419T141658
CREATED:20250311T104241Z
LAST-MODIFIED:20250311T104241Z
UID:10002880-1747749600-1747753200@www.nachbarschaftszentrum.info
SUMMARY:Treff im NBB
DESCRIPTION:Der Treff im NBB gibt Gelegenheit für Gespräche\, für den Austausch von Gedanken\, Ideen und Informationen\, für ein Zusammensein bei Kaffee und Kuchen. \nAnmeldung: Nachbarschaftszentrum (NBB) \n 
URL:https://www.nachbarschaftszentrum.info/event/treff-im-nbb-2/2025-05-20/
CATEGORIES:Miteinander und Mitwirken
END:VEVENT
BEGIN:VEVENT
DTSTART;TZID=Europe/Berlin:20250520T183000
DTEND;TZID=Europe/Berlin:20250520T203000
DTSTAMP:20260419T141658
CREATED:20241211T143723Z
LAST-MODIFIED:20241211T143723Z
UID:10002178-1747765800-1747773000@www.nachbarschaftszentrum.info
SUMMARY:Malen mit Aquarellfarben
DESCRIPTION:Wir werden in diesem Kurs vorhandene Grundkenntnisse auffrischen und vertiefen. Dabei werden wir auch Aquarellstiften und verschiedene Hilfsmaterialien wie z.B. Rubbelkrepp nutzen\, um zu einer möglichst eigenständigen Bildgestaltung zu gelangen.\nAnja Renner\, Künstlerin \nKosten:	84 €; 		6 Termine\nAnmeldung:	Anja Renner\, Tel.: 0178 / 611 69 93\n	E-Mail: anjarennerdesign@web.de
URL:https://www.nachbarschaftszentrum.info/event/malen-mit-aquarellfarben-4/2025-05-20/
CATEGORIES:Kunst und Kultur
END:VEVENT
BEGIN:VEVENT
DTSTART;TZID=Europe/Berlin:20250520T191500
DTEND;TZID=Europe/Berlin:20250520T203000
DTSTAMP:20260419T141658
CREATED:20250311T145627Z
LAST-MODIFIED:20250311T145627Z
UID:10002934-1747768500-1747773000@www.nachbarschaftszentrum.info
SUMMARY:Spaß mit Gitarre – Schnupperkurs Fortgeschrittene
DESCRIPTION:Ein Kurs für Hobby-Gitarrist:innen und Wiedereinsteiger ab 16 Jahren. Wer sich an der Gitarre weiterentwickeln möchte ist hier richtig. Wir lernen erweiterte Akkorde\, sinnvolle Kadenzen\, das Begleiten und wer mag das Solieren. Klassische oder Westerngitarre ist egal. Eine Fortsetzung ist geplant. \nOlaf Absalon \nKosten:        49 – 55€ (abhängig von der Teilnehmer:innenzahl) \nAnmeldung: Nachbarschaftszentrum (NBB)
URL:https://www.nachbarschaftszentrum.info/event/spass-mit-gitarre-schnupperkurs-fortgeschrittene/2025-05-20/
CATEGORIES:Kunst und Kultur
END:VEVENT
END:VCALENDAR