BEGIN:VCALENDAR
VERSION:2.0
PRODID:-//NBB | Nachbarschaftszentrum Brüser Berg - ECPv6.15.20//NONSGML v1.0//EN
CALSCALE:GREGORIAN
METHOD:PUBLISH
X-WR-CALNAME:NBB | Nachbarschaftszentrum Brüser Berg
X-ORIGINAL-URL:https://www.nachbarschaftszentrum.info
X-WR-CALDESC:Veranstaltungen für NBB | Nachbarschaftszentrum Brüser Berg
REFRESH-INTERVAL;VALUE=DURATION:PT1H
X-Robots-Tag:noindex
X-PUBLISHED-TTL:PT1H
BEGIN:VTIMEZONE
TZID:Europe/Berlin
BEGIN:DAYLIGHT
TZOFFSETFROM:+0100
TZOFFSETTO:+0200
TZNAME:CEST
DTSTART:20240331T010000
END:DAYLIGHT
BEGIN:STANDARD
TZOFFSETFROM:+0200
TZOFFSETTO:+0100
TZNAME:CET
DTSTART:20241027T010000
END:STANDARD
BEGIN:DAYLIGHT
TZOFFSETFROM:+0100
TZOFFSETTO:+0200
TZNAME:CEST
DTSTART:20250330T010000
END:DAYLIGHT
BEGIN:STANDARD
TZOFFSETFROM:+0200
TZOFFSETTO:+0100
TZNAME:CET
DTSTART:20251026T010000
END:STANDARD
BEGIN:DAYLIGHT
TZOFFSETFROM:+0100
TZOFFSETTO:+0200
TZNAME:CEST
DTSTART:20260329T010000
END:DAYLIGHT
BEGIN:STANDARD
TZOFFSETFROM:+0200
TZOFFSETTO:+0100
TZNAME:CET
DTSTART:20261025T010000
END:STANDARD
END:VTIMEZONE
BEGIN:VEVENT
DTSTART;TZID=Europe/Berlin:20250512T130000
DTEND;TZID=Europe/Berlin:20250512T150000
DTSTAMP:20260419T141737
CREATED:20240312T112807Z
LAST-MODIFIED:20250604T135447Z
UID:10000735-1747054800-1747062000@www.nachbarschaftszentrum.info
SUMMARY:Beratung zur Schwerbehinderung – Blindheit und  Sehbehinderung“
DESCRIPTION:Mitarbeitende des Blinden- und Sehbehindertenvereins Bonn/Rhein-Sieg e.V. beraten und unterstützen Menschen\, die von Blindheit oder Sehbehinderung betroffen oder bedroht sind\, sowie deren Angehörige. Wir informieren über Unterstützungsmöglichkeiten und Hilfsmittel und helfen bei Antragstellung für den Schwerbehindertenausweis\, Pflegegrad\, Blindengeld u.a. . Ein Dolmetscher/Integrationshelfer für Kurdisch\, Türkisch und Arabisch ist Teil des Beraterteams. Einzelberatung\, bzw. mit Begleitperson. \nMitarbeitende des Blinden- und Sehbehindertenverei Bonn/Rhein-Sieg e.V.
URL:https://www.nachbarschaftszentrum.info/event/beratung-zur-schwerbehinderung-blindheit-und-sehbehinderung-4/2025-05-12/
CATEGORIES:Beratung und Information
END:VEVENT
BEGIN:VEVENT
DTSTART;TZID=Europe/Berlin:20250512T143000
DTEND;TZID=Europe/Berlin:20250512T173000
DTSTAMP:20260419T141737
CREATED:20241211T073509Z
LAST-MODIFIED:20241211T073509Z
UID:10001196-1747060200-1747071000@www.nachbarschaftszentrum.info
SUMMARY:Bridge
DESCRIPTION:Anfänger:innen und Fortgeschrittene willkommen. \nTermine:       Klaus Heuschötter \ndonnerstags\,      14:30 – 18:00 Uhr \nRuth Mohr \nmontags\,            14:30 – 17:30 Uhr \nKosten:         2€
URL:https://www.nachbarschaftszentrum.info/event/bridge-3/2025-05-12/
CATEGORIES:Miteinander und Mitwirken
END:VEVENT
BEGIN:VEVENT
DTSTART;TZID=Europe/Berlin:20250512T180000
DTEND;TZID=Europe/Berlin:20250512T200000
DTSTAMP:20260419T141737
CREATED:20250310T100348Z
LAST-MODIFIED:20250910T135407Z
UID:10002868-1747072800-1747080000@www.nachbarschaftszentrum.info
SUMMARY:Wozu Philosophie? – Eine Einführung
DESCRIPTION:Der Kurs bietet eine Einführung in die Philosophie und behandelt von den Teilnehmerinnen und Teilnehmern ausgewählte Themengebiete (zur Zeit Fragen der Erkenntnistheorie). Es ist die Fortsetzung einer laufenden Veranstaltung\, neue Interes-senten sind willkommen.Matthias Schulze \nKosten: keine\nAnmeldung: Nachbarschaftszentrum (NBB)
URL:https://www.nachbarschaftszentrum.info/event/wozu-philosophie-eine-einfuehrung/2025-05-12/
CATEGORIES:Bildung und Wissen
END:VEVENT
END:VCALENDAR