BEGIN:VCALENDAR
VERSION:2.0
PRODID:-//NBB | Nachbarschaftszentrum Brüser Berg - ECPv6.15.20//NONSGML v1.0//EN
CALSCALE:GREGORIAN
METHOD:PUBLISH
X-ORIGINAL-URL:https://www.nachbarschaftszentrum.info
X-WR-CALDESC:Veranstaltungen für NBB | Nachbarschaftszentrum Brüser Berg
REFRESH-INTERVAL;VALUE=DURATION:PT1H
X-Robots-Tag:noindex
X-PUBLISHED-TTL:PT1H
BEGIN:VTIMEZONE
TZID:Europe/Berlin
BEGIN:DAYLIGHT
TZOFFSETFROM:+0100
TZOFFSETTO:+0200
TZNAME:CEST
DTSTART:20240331T010000
END:DAYLIGHT
BEGIN:STANDARD
TZOFFSETFROM:+0200
TZOFFSETTO:+0100
TZNAME:CET
DTSTART:20241027T010000
END:STANDARD
BEGIN:DAYLIGHT
TZOFFSETFROM:+0100
TZOFFSETTO:+0200
TZNAME:CEST
DTSTART:20250330T010000
END:DAYLIGHT
BEGIN:STANDARD
TZOFFSETFROM:+0200
TZOFFSETTO:+0100
TZNAME:CET
DTSTART:20251026T010000
END:STANDARD
BEGIN:DAYLIGHT
TZOFFSETFROM:+0100
TZOFFSETTO:+0200
TZNAME:CEST
DTSTART:20260329T010000
END:DAYLIGHT
BEGIN:STANDARD
TZOFFSETFROM:+0200
TZOFFSETTO:+0100
TZNAME:CET
DTSTART:20261025T010000
END:STANDARD
END:VTIMEZONE
BEGIN:VEVENT
DTSTART;TZID=Europe/Berlin:20250506T100000
DTEND;TZID=Europe/Berlin:20250506T120000
DTSTAMP:20260419T141839
CREATED:20250306T152325Z
LAST-MODIFIED:20260408T084519Z
UID:10002865-1746525600-1746532800@www.nachbarschaftszentrum.info
SUMMARY:Vortrag: Betreuungsrecht
DESCRIPTION:Es werden Einblicke in die Materie der rechtlichen Betreuung gegeben\, Möglichkeiten und Grenzen aufgezeigt. Außerdem wird erläutert\, was Sie im Vorfeld einer rechtlichen Betreuung durch eine Betreuungsverfügung regeln können. Es besteht die Möglichkeit Ihre Fragen zum Thema rechtliche Betreuung zu stellen. \n  \nKosten:        keine \nAnmeldung: Nachbarschaftszentrum (NBB)
URL:https://www.nachbarschaftszentrum.info/event/vortrag-betreuungsrecht/2025-05-06/
CATEGORIES:Bildung und Wissen
END:VEVENT
BEGIN:VEVENT
DTSTART;TZID=Europe/Berlin:20250506T110000
DTEND;TZID=Europe/Berlin:20250506T140000
DTSTAMP:20260419T141839
CREATED:20250311T151028Z
LAST-MODIFIED:20250311T151028Z
UID:10002939-1746529200-1746540000@www.nachbarschaftszentrum.info
SUMMARY:Veranstaltungen Initiative Stadtteilkultur
DESCRIPTION:Pouring Technik mit Acrylfarben auf Leinwand \nBei der Pouring Technik malt man ohne Pinsel mit verdünnten Acrylfarben. Die Ergebnisse sind häufig überraschend schön\, auch wenn hier der Zufall eine große Rolle spielt. Wer hat\, kann gerne eigene Leinwände und Farbe mitbringen. \nInitiative Stadtteilkultur\, Anne Hensgen und Claus Waters \nKosten:      10€ + Material\nAnmeldung:        Nachbarschaftszentrum (NBB) \nOrt:             Atelier in der Borsigallee 12\, Brüser Berg
URL:https://www.nachbarschaftszentrum.info/event/veranstaltungen-initiative-stadtteilkultur-2/
CATEGORIES:Kunst und Kultur
END:VEVENT
BEGIN:VEVENT
DTSTART;TZID=Europe/Berlin:20250506T133000
DTEND;TZID=Europe/Berlin:20250506T153000
DTSTAMP:20260419T141839
CREATED:20240612T135105Z
LAST-MODIFIED:20250604T135001Z
UID:10002205-1746538200-1746545400@www.nachbarschaftszentrum.info
SUMMARY:Digitale Sprechstunde – Umgang mit Handy\, Tablet und Co.
DESCRIPTION:Sie haben Fragen zum Umgang mit Ihrem Handy oder Tablet? Oder Sie möchten mehr wissen über Nutzungsmöglichkeiten der Digitalisierung? Wie zum Beispiel Medikamente online bestellen\, Fahrpläne abrufen\, Vertragsangebote vergleichen oder wie man Streamingdienste nutzt? Egal ob Anfänger:in oder mit Vorkenntnissen\, hier sind Sie richtig.\nDie Sprechstunde behandelt ein festes Thema\, alle zwei Monate gibt es eine allgemeine Sprechstunde nur für Ihre Fragen. Die Themenübersicht finden Sie auf unserem Flyer.\nSaskia Klee und Thomas Heimsath \nAnmeldung: Nachbarschaftszentrum (NBB)
URL:https://www.nachbarschaftszentrum.info/event/digitale-sprechstunde-umgang-mit-handy-tablet-und-co/2025-05-06/
CATEGORIES:Bildung und Wissen
ATTACH;FMTTYPE=image/png:https://www.nachbarschaftszentrum.info/wp-content/uploads/digSprechstunde_themen.png
END:VEVENT
BEGIN:VEVENT
DTSTART;TZID=Europe/Berlin:20250506T183000
DTEND;TZID=Europe/Berlin:20250506T203000
DTSTAMP:20260419T141839
CREATED:20241211T143723Z
LAST-MODIFIED:20241211T143723Z
UID:10002176-1746556200-1746563400@www.nachbarschaftszentrum.info
SUMMARY:Malen mit Aquarellfarben
DESCRIPTION:Wir werden in diesem Kurs vorhandene Grundkenntnisse auffrischen und vertiefen. Dabei werden wir auch Aquarellstiften und verschiedene Hilfsmaterialien wie z.B. Rubbelkrepp nutzen\, um zu einer möglichst eigenständigen Bildgestaltung zu gelangen.\nAnja Renner\, Künstlerin \nKosten:	84 €; 		6 Termine\nAnmeldung:	Anja Renner\, Tel.: 0178 / 611 69 93\n	E-Mail: anjarennerdesign@web.de
URL:https://www.nachbarschaftszentrum.info/event/malen-mit-aquarellfarben-4/2025-05-06/
CATEGORIES:Kunst und Kultur
END:VEVENT
BEGIN:VEVENT
DTSTART;TZID=Europe/Berlin:20250506T191500
DTEND;TZID=Europe/Berlin:20250506T203000
DTSTAMP:20260419T141839
CREATED:20250311T145627Z
LAST-MODIFIED:20250311T145627Z
UID:10002933-1746558900-1746563400@www.nachbarschaftszentrum.info
SUMMARY:Spaß mit Gitarre – Schnupperkurs Fortgeschrittene
DESCRIPTION:Ein Kurs für Hobby-Gitarrist:innen und Wiedereinsteiger ab 16 Jahren. Wer sich an der Gitarre weiterentwickeln möchte ist hier richtig. Wir lernen erweiterte Akkorde\, sinnvolle Kadenzen\, das Begleiten und wer mag das Solieren. Klassische oder Westerngitarre ist egal. Eine Fortsetzung ist geplant. \nOlaf Absalon \nKosten:        49 – 55€ (abhängig von der Teilnehmer:innenzahl) \nAnmeldung: Nachbarschaftszentrum (NBB)
URL:https://www.nachbarschaftszentrum.info/event/spass-mit-gitarre-schnupperkurs-fortgeschrittene/2025-05-06/
CATEGORIES:Kunst und Kultur
END:VEVENT
END:VCALENDAR