BEGIN:VCALENDAR
VERSION:2.0
PRODID:-//NBB | Nachbarschaftszentrum Brüser Berg - ECPv6.15.20//NONSGML v1.0//EN
CALSCALE:GREGORIAN
METHOD:PUBLISH
X-ORIGINAL-URL:https://www.nachbarschaftszentrum.info
X-WR-CALDESC:Veranstaltungen für NBB | Nachbarschaftszentrum Brüser Berg
REFRESH-INTERVAL;VALUE=DURATION:PT1H
X-Robots-Tag:noindex
X-PUBLISHED-TTL:PT1H
BEGIN:VTIMEZONE
TZID:Europe/Berlin
BEGIN:DAYLIGHT
TZOFFSETFROM:+0100
TZOFFSETTO:+0200
TZNAME:CEST
DTSTART:20240331T010000
END:DAYLIGHT
BEGIN:STANDARD
TZOFFSETFROM:+0200
TZOFFSETTO:+0100
TZNAME:CET
DTSTART:20241027T010000
END:STANDARD
BEGIN:DAYLIGHT
TZOFFSETFROM:+0100
TZOFFSETTO:+0200
TZNAME:CEST
DTSTART:20250330T010000
END:DAYLIGHT
BEGIN:STANDARD
TZOFFSETFROM:+0200
TZOFFSETTO:+0100
TZNAME:CET
DTSTART:20251026T010000
END:STANDARD
BEGIN:DAYLIGHT
TZOFFSETFROM:+0100
TZOFFSETTO:+0200
TZNAME:CEST
DTSTART:20260329T010000
END:DAYLIGHT
BEGIN:STANDARD
TZOFFSETFROM:+0200
TZOFFSETTO:+0100
TZNAME:CET
DTSTART:20261025T010000
END:STANDARD
END:VTIMEZONE
BEGIN:VEVENT
DTSTART;TZID=Europe/Berlin:20250428T080000
DTEND;TZID=Europe/Berlin:20250428T170000
DTSTAMP:20260423T114727
CREATED:20250428T113645Z
LAST-MODIFIED:20250428T113646Z
UID:10003081-1745827200-1745859600@www.nachbarschaftszentrum.info
SUMMARY:Englischkurs A2
DESCRIPTION:Der Kurs wendet sich an Interessierte\, die über Englisch mit Vorkenntnissen verfügen und diese Sprache auffrischen oder vertiefen möchten. Anhand von Texten einer kleinen Lektüre wird der Wortschatz erweitert und die Grammatik wiederholt. Sie erhalten Tipps und Techniken zum Gedächtnistraining\, da-mit Ihr Entschluss\, aktiv zu sein\, erfolgreich verläuft. Die Freude am gemeinschaftlichen Erlernen einer Fremdsprache soll dabei mit im Vordergrund stehen.\nKarla Hoppe  \nKosten:	je nach Teilnehmer:innenzahl\,\n		(min. 5 – max. 9\, ab 85\,00 €)\n	10 Unterrichts-Doppelstunden\n\nAnmeldung:	Karla Hoppe\, Tel.: 0228 / 25 63 18\n	E-Mail: karla@hoppe-bonn.de
URL:https://www.nachbarschaftszentrum.info/event/englischkurs-a2-2/2025-04-28/
CATEGORIES:Bildung und Wissen
END:VEVENT
BEGIN:VEVENT
DTSTART;TZID=Europe/Berlin:20250428T110000
DTEND;TZID=Europe/Berlin:20250428T130000
DTSTAMP:20260423T114728
CREATED:20241211T141458Z
LAST-MODIFIED:20241211T141458Z
UID:10002120-1745838000-1745845200@www.nachbarschaftszentrum.info
SUMMARY:Acrylmalerei
DESCRIPTION:Malen in der Gemeinschaft macht Spaß und inspiriert. Wir lernen Farben zu mischen\, in dünnen Schichten übereinander zu legen und eigene Kreationen zu entwickeln.\nDorothee Fenske\, Künstlerin \nKosten:	256 € (Inklusive Material)\nAnmeldung:	Dorothee Fenske\, Tel.: 0176 / 349 655 85
URL:https://www.nachbarschaftszentrum.info/event/acrylmalerei-3/2025-04-28/
CATEGORIES:Kunst und Kultur
END:VEVENT
BEGIN:VEVENT
DTSTART;TZID=Europe/Berlin:20250428T143000
DTEND;TZID=Europe/Berlin:20250428T173000
DTSTAMP:20260423T114728
CREATED:20241211T073509Z
LAST-MODIFIED:20241211T073509Z
UID:10001194-1745850600-1745861400@www.nachbarschaftszentrum.info
SUMMARY:Bridge
DESCRIPTION:Anfänger:innen und Fortgeschrittene willkommen. \nTermine:       Klaus Heuschötter \ndonnerstags\,      14:30 – 18:00 Uhr \nRuth Mohr \nmontags\,            14:30 – 17:30 Uhr \nKosten:         2€
URL:https://www.nachbarschaftszentrum.info/event/bridge-3/2025-04-28/
CATEGORIES:Miteinander und Mitwirken
END:VEVENT
BEGIN:VEVENT
DTSTART;TZID=Europe/Berlin:20250428T170000
DTEND;TZID=Europe/Berlin:20250428T190000
DTSTAMP:20260423T114728
CREATED:20250311T141348Z
LAST-MODIFIED:20250311T141348Z
UID:10002917-1745859600-1745866800@www.nachbarschaftszentrum.info
SUMMARY:Zahnputzperlen aus Fimo basteln
DESCRIPTION:Da das Zähneputzen für Kinder während einer Chemotherapie eine besondere Herausforderung ist\, hat sich der ehrenamtliche Verein Zahnputzfuchs die Zahnputzperle ausgedacht. Diese dient als Anreiz\, regelmäßig die Zähne zu putzen und wird als Belohnung übergeben. Die Zahnputzperle ist eine handmodellierte Perle in Form eines Zahnes und wird aus Fimo\, eine ofenhärtende Modelliermasse ähnlich wie Knete\, hergestellt. \nDa sich der Zahnputzfuchs immer über Unterstützung bei der Herstellung der Zahnputzperlen freut\, werden wir gemeinsam im Nachbarschaftszentrum Zähne aus Fimo modellieren. \nDie modellierten und im Ofen ausgehärteten Zähne werden direkt dem Förderkreis Bonn e.V. übergeben. \nVorerfahrung ist nicht notwendig. Jede helfende Hand ist willkommen! \nVerena Di Pasquale \nAnmeldung:   WhatsApp: 0176/31771453 oder \nE-Mail: tortendesign@verenadipasquale.de \n  \n 
URL:https://www.nachbarschaftszentrum.info/event/zahnputzperlen-aus-fimo-basteln/2025-04-28/
CATEGORIES:Miteinander und Mitwirken
END:VEVENT
END:VCALENDAR