BEGIN:VCALENDAR
VERSION:2.0
PRODID:-//NBB | Nachbarschaftszentrum Brüser Berg - ECPv6.15.20//NONSGML v1.0//EN
CALSCALE:GREGORIAN
METHOD:PUBLISH
X-WR-CALNAME:NBB | Nachbarschaftszentrum Brüser Berg
X-ORIGINAL-URL:https://www.nachbarschaftszentrum.info
X-WR-CALDESC:Veranstaltungen für NBB | Nachbarschaftszentrum Brüser Berg
REFRESH-INTERVAL;VALUE=DURATION:PT1H
X-Robots-Tag:noindex
X-PUBLISHED-TTL:PT1H
BEGIN:VTIMEZONE
TZID:Europe/Berlin
BEGIN:DAYLIGHT
TZOFFSETFROM:+0100
TZOFFSETTO:+0200
TZNAME:CEST
DTSTART:20240331T010000
END:DAYLIGHT
BEGIN:STANDARD
TZOFFSETFROM:+0200
TZOFFSETTO:+0100
TZNAME:CET
DTSTART:20241027T010000
END:STANDARD
BEGIN:DAYLIGHT
TZOFFSETFROM:+0100
TZOFFSETTO:+0200
TZNAME:CEST
DTSTART:20250330T010000
END:DAYLIGHT
BEGIN:STANDARD
TZOFFSETFROM:+0200
TZOFFSETTO:+0100
TZNAME:CET
DTSTART:20251026T010000
END:STANDARD
BEGIN:DAYLIGHT
TZOFFSETFROM:+0100
TZOFFSETTO:+0200
TZNAME:CEST
DTSTART:20260329T010000
END:DAYLIGHT
BEGIN:STANDARD
TZOFFSETFROM:+0200
TZOFFSETTO:+0100
TZNAME:CET
DTSTART:20261025T010000
END:STANDARD
END:VTIMEZONE
BEGIN:VEVENT
DTSTART;TZID=Europe/Berlin:20250410T100000
DTEND;TZID=Europe/Berlin:20250410T113000
DTSTAMP:20260421T104532
CREATED:20240312T105949Z
LAST-MODIFIED:20250610T100841Z
UID:10000631-1744279200-1744284600@www.nachbarschaftszentrum.info
SUMMARY:Sprechstunde - Digitalisierung
DESCRIPTION:In der Digitalsprechstunde am Donnerstag bekommen Interessierte organisatorische und technische Hilfestellung rund um die digitalen Medien und den zugehörigen Geräten wie Smartphone\, Tablet\, Laptop und PC. Smartphone\, Eigene Geräte können gerne mitgebracht werden. Drei Laptops stehen zur freien zur Verfügung bereit.\nErfahrene Anleiter werden Ihre Fragen beantworten und bei der Problemlösung helfen.\nEgon Troles und Detlef Leipelt \nAnmeldung: Nachbarschaftszentrum (NBB)
URL:https://www.nachbarschaftszentrum.info/event/pc-hilfestellung-fuer-interessierte-4/2025-04-10/
CATEGORIES:Bildung und Wissen
END:VEVENT
BEGIN:VEVENT
DTSTART;TZID=Europe/Berlin:20250410T143000
DTEND;TZID=Europe/Berlin:20250410T180000
DTSTAMP:20260421T104532
CREATED:20240312T114251Z
LAST-MODIFIED:20241021T115633Z
UID:10001051-1744295400-1744308000@www.nachbarschaftszentrum.info
SUMMARY:Bridge
DESCRIPTION:Anfänger:innen und Fortgeschrittene willkommen. \nTermine:       Klaus Heuschötter \ndonnerstags\,      14:30 – 18:00 Uhr \nRuth Mohr \nmontags\,            14:30 – 17:30 Uhr \nKosten:         2€
URL:https://www.nachbarschaftszentrum.info/event/bridge-3/2025-04-10/
CATEGORIES:Miteinander und Mitwirken
END:VEVENT
BEGIN:VEVENT
DTSTART;TZID=Europe/Berlin:20250410T190000
DTEND;TZID=Europe/Berlin:20250410T200000
DTSTAMP:20260421T104532
CREATED:20240312T114058Z
LAST-MODIFIED:20240312T114058Z
UID:10000910-1744311600-1744315200@www.nachbarschaftszentrum.info
SUMMARY:Doppelkopf
DESCRIPTION:Doppelkopf nach den Regeln des Deutschen Doppelkopfverbandes. Nur für Spieler:innen mit Spielerfahrung. KEINE Anfänger:innenschulung! \nKonrad Koch \ndonnerstags\,  19:00 – 22:00 Uhr \nTermine:       jeden Donnerstag \nKosten:         keine \nAnmeldung: E-Mail: konradkoch@gmx.de
URL:https://www.nachbarschaftszentrum.info/event/doppelkopf-4/2025-04-10/
CATEGORIES:Miteinander und Mitwirken
END:VEVENT
BEGIN:VEVENT
DTSTART;TZID=Europe/Berlin:20250410T190000
DTEND;TZID=Europe/Berlin:20250410T200000
DTSTAMP:20260421T104532
CREATED:20250305T143057Z
LAST-MODIFIED:20250305T143057Z
UID:10002840-1744311600-1744315200@www.nachbarschaftszentrum.info
SUMMARY:Vortrag: Bewerbung für einen neuen Job
DESCRIPTION:Worauf muss ich achten\, wenn ich mich für einen neuen Job bewerbe? Wie gehe ich vor\, wenn ich meine Unterlagen vorbereite? Worauf achtet die Personalabteilung? Diese und andere Fragen beantwortet Ihnen unser Referent Joachim Mohr\, der mehr als 20 Jahre Erfahrung im Personalwesen hat.\nJoachim Mohr\, Jurist
URL:https://www.nachbarschaftszentrum.info/event/vortrag-bewerbung-fuer-einen-neuen-job/
CATEGORIES:Bildung und Wissen
END:VEVENT
END:VCALENDAR