BEGIN:VCALENDAR
VERSION:2.0
PRODID:-//NBB | Nachbarschaftszentrum Brüser Berg - ECPv6.15.20//NONSGML v1.0//EN
CALSCALE:GREGORIAN
METHOD:PUBLISH
X-ORIGINAL-URL:https://www.nachbarschaftszentrum.info
X-WR-CALDESC:Veranstaltungen für NBB | Nachbarschaftszentrum Brüser Berg
REFRESH-INTERVAL;VALUE=DURATION:PT1H
X-Robots-Tag:noindex
X-PUBLISHED-TTL:PT1H
BEGIN:VTIMEZONE
TZID:Europe/Berlin
BEGIN:DAYLIGHT
TZOFFSETFROM:+0100
TZOFFSETTO:+0200
TZNAME:CEST
DTSTART:20240331T010000
END:DAYLIGHT
BEGIN:STANDARD
TZOFFSETFROM:+0200
TZOFFSETTO:+0100
TZNAME:CET
DTSTART:20241027T010000
END:STANDARD
BEGIN:DAYLIGHT
TZOFFSETFROM:+0100
TZOFFSETTO:+0200
TZNAME:CEST
DTSTART:20250330T010000
END:DAYLIGHT
BEGIN:STANDARD
TZOFFSETFROM:+0200
TZOFFSETTO:+0100
TZNAME:CET
DTSTART:20251026T010000
END:STANDARD
BEGIN:DAYLIGHT
TZOFFSETFROM:+0100
TZOFFSETTO:+0200
TZNAME:CEST
DTSTART:20260329T010000
END:DAYLIGHT
BEGIN:STANDARD
TZOFFSETFROM:+0200
TZOFFSETTO:+0100
TZNAME:CET
DTSTART:20261025T010000
END:STANDARD
END:VTIMEZONE
BEGIN:VEVENT
DTSTART;TZID=Europe/Berlin:20250324T110000
DTEND;TZID=Europe/Berlin:20250324T130000
DTSTAMP:20260421T145830
CREATED:20241211T141458Z
LAST-MODIFIED:20241211T141458Z
UID:10002115-1742814000-1742821200@www.nachbarschaftszentrum.info
SUMMARY:Acrylmalerei
DESCRIPTION:Malen in der Gemeinschaft macht Spaß und inspiriert. Wir lernen Farben zu mischen\, in dünnen Schichten übereinander zu legen und eigene Kreationen zu entwickeln.\nDorothee Fenske\, Künstlerin \nKosten:	256 € (Inklusive Material)\nAnmeldung:	Dorothee Fenske\, Tel.: 0176 / 349 655 85
URL:https://www.nachbarschaftszentrum.info/event/acrylmalerei-3/2025-03-24/
CATEGORIES:Kunst und Kultur
END:VEVENT
BEGIN:VEVENT
DTSTART;TZID=Europe/Berlin:20250324T143000
DTEND;TZID=Europe/Berlin:20250324T173000
DTSTAMP:20260421T145830
CREATED:20241211T073509Z
LAST-MODIFIED:20241211T073509Z
UID:10001189-1742826600-1742837400@www.nachbarschaftszentrum.info
SUMMARY:Bridge
DESCRIPTION:Anfänger:innen und Fortgeschrittene willkommen. \nTermine:       Klaus Heuschötter \ndonnerstags\,      14:30 – 18:00 Uhr \nRuth Mohr \nmontags\,            14:30 – 17:30 Uhr \nKosten:         2€
URL:https://www.nachbarschaftszentrum.info/event/bridge-3/2025-03-24/
CATEGORIES:Miteinander und Mitwirken
END:VEVENT
BEGIN:VEVENT
DTSTART;TZID=Europe/Berlin:20250324T154500
DTEND;TZID=Europe/Berlin:20250324T164500
DTSTAMP:20260421T145830
CREATED:20241211T140845Z
LAST-MODIFIED:20241211T140845Z
UID:10002103-1742831100-1742834700@www.nachbarschaftszentrum.info
SUMMARY:Let's talk English
DESCRIPTION:English conversation: If you are interested in the English language let’s meet and talk about everything we/you are interested in (for example: literature\, hobbies\, cultural events\, actual news and whatever we/you want).\nKarin Oheim
URL:https://www.nachbarschaftszentrum.info/event/lets-talk-english/2025-03-24/
CATEGORIES:Bildung und Wissen
END:VEVENT
BEGIN:VEVENT
DTSTART;TZID=Europe/Berlin:20250324T170000
DTEND;TZID=Europe/Berlin:20250324T190000
DTSTAMP:20260421T145830
CREATED:20250219T144431Z
LAST-MODIFIED:20250219T144431Z
UID:10002816-1742835600-1742842800@www.nachbarschaftszentrum.info
SUMMARY:Zahnputzperlen aus Fimo modellieren - Helfende Hände gesucht
DESCRIPTION:Was ist eine Zahnputzperle?\nDa das Zähneputzen für Kinder während einer Chemotherapie eine besondere Herausforderung ist\, hat sich der ehrenamtliche Verein Zahnputzfuchs die Zahnputzperle ausgedacht. Diese dient als Anreiz\, regelmäßig die Zähne zu putzen und wird als Belohnung übergeben.\nDie Zahnputzperle ist eine handmodellierte Perle in Form eines Zahnes und wird aus Fimo\, eine ofenhärtende Modelliermasse ähnlich wie Knete\, hergestellt.\nDa sich der Zahnputzfuchs immer über Unterstützung bei der Herstellung der Zahnputzperlen freut\, werden wir gemeinsam im Nachbarschaftszentrum am Montag\, den 24.03.2025 von 17-19 Uhr Zähne aus Fimo modellieren.\nDie modellierten und im Ofen ausgehärteten Zähne werden direkt dem Förderkreis Bonn e.V. übergeben.  \nVorerfahrung ist nicht notwendig. Jede helfende Hand ist willkommen!  \nAnmeldung:\nVerena Di Pasquale Tortendesign\nWhatsApp: 0176/31771453  oder\nE-Mail:  tortendesign@verenadipasquale.de
URL:https://www.nachbarschaftszentrum.info/event/zahnputzperlen-aus-fimo-modellieren-helfende-haende-gesucht-2/
CATEGORIES:Miteinander und Mitwirken
END:VEVENT
BEGIN:VEVENT
DTSTART;TZID=Europe/Berlin:20250324T183000
DTEND;TZID=Europe/Berlin:20250324T194500
DTSTAMP:20260421T145830
CREATED:20241211T141855Z
LAST-MODIFIED:20241211T142424Z
UID:10002133-1742841000-1742845500@www.nachbarschaftszentrum.info
SUMMARY:Qigong Yangsheng: Die 15 Ausdrucksformen
DESCRIPTION:Qigong Yangsheng basiert auf jahrhundertealten Methoden aus China. Mit sanften\, fließenden Bewegungen im Stehen oder Sitzen kann Qigong Yangheng zur Entspannung und Stressbewältigung\, generell zur Gesunderhaltung beitragen. Dieser Kurs ist für Erwachsene mit und ohne Vorkenntnisse – unabhängig vom Alter – geeignet. Eine Schnupperstunde ist möglich für 10 €.\nAgnes Bayard\, Übungsleiterin für Qigong Yangsheng \nKosten: 100 € 10 Termine\nAnmeldung: 0228/ 62 57 37\, agnes-bayard1@gmail.com
URL:https://www.nachbarschaftszentrum.info/event/qigong-yangsheng-die-15-ausdrucksformen/2025-03-24/
CATEGORIES:Bewegung und Entspannung
END:VEVENT
END:VCALENDAR