BEGIN:VCALENDAR
VERSION:2.0
PRODID:-//NBB | Nachbarschaftszentrum Brüser Berg - ECPv6.15.20//NONSGML v1.0//EN
CALSCALE:GREGORIAN
METHOD:PUBLISH
X-ORIGINAL-URL:https://www.nachbarschaftszentrum.info
X-WR-CALDESC:Veranstaltungen für NBB | Nachbarschaftszentrum Brüser Berg
REFRESH-INTERVAL;VALUE=DURATION:PT1H
X-Robots-Tag:noindex
X-PUBLISHED-TTL:PT1H
BEGIN:VTIMEZONE
TZID:Europe/Berlin
BEGIN:DAYLIGHT
TZOFFSETFROM:+0100
TZOFFSETTO:+0200
TZNAME:CEST
DTSTART:20240331T010000
END:DAYLIGHT
BEGIN:STANDARD
TZOFFSETFROM:+0200
TZOFFSETTO:+0100
TZNAME:CET
DTSTART:20241027T010000
END:STANDARD
BEGIN:DAYLIGHT
TZOFFSETFROM:+0100
TZOFFSETTO:+0200
TZNAME:CEST
DTSTART:20250330T010000
END:DAYLIGHT
BEGIN:STANDARD
TZOFFSETFROM:+0200
TZOFFSETTO:+0100
TZNAME:CET
DTSTART:20251026T010000
END:STANDARD
BEGIN:DAYLIGHT
TZOFFSETFROM:+0100
TZOFFSETTO:+0200
TZNAME:CEST
DTSTART:20260329T010000
END:DAYLIGHT
BEGIN:STANDARD
TZOFFSETFROM:+0200
TZOFFSETTO:+0100
TZNAME:CET
DTSTART:20261025T010000
END:STANDARD
END:VTIMEZONE
BEGIN:VEVENT
DTSTART;TZID=Europe/Berlin:20250218T143000
DTEND;TZID=Europe/Berlin:20250218T160000
DTSTAMP:20260421T134021
CREATED:20241211T131803Z
LAST-MODIFIED:20241211T152812Z
UID:10002495-1739889000-1739894400@www.nachbarschaftszentrum.info
SUMMARY:Treff im NBB
DESCRIPTION:Der Treff im NBB gibt Gelegenheit für Gespräche\, für den Austausch von Gedanken\, Ideen und Informationen\, für ein Zusammensein bei Kaffee und Kuchen.\ndienstags\, 	14:00 – 15:00 Uhr
URL:https://www.nachbarschaftszentrum.info/event/treff-im-nbb/2025-02-18/
CATEGORIES:Miteinander und Mitwirken
END:VEVENT
BEGIN:VEVENT
DTSTART;TZID=Europe/Berlin:20250218T170000
DTEND;TZID=Europe/Berlin:20250218T190000
DTSTAMP:20260421T134021
CREATED:20250121T113702Z
LAST-MODIFIED:20250121T113702Z
UID:10002811-1739898000-1739905200@www.nachbarschaftszentrum.info
SUMMARY:Zahnputzperlen aus Fimo modellieren - Helfende Hände gesucht
DESCRIPTION:Was ist eine Zahnputzperle?\nDa das Zähneputzen für Kinder während einer Chemotherapie eine besondere Herausforderung ist\, hat sich der ehrenamtliche Verein Zahnputzfuchs die Zahnputzperle ausgedacht. Diese dient als Anreiz\, regelmäßig die Zähne zu putzen und wird als Belohnung übergeben.\nDie Zahnputzperle ist eine handmodellierte Perle in Form eines Zahnes und wird aus Fimo\, eine ofenhärtende Modelliermasse ähnlich wie Knete\, hergestellt.\nDa sich der Zahnputzfuchs immer über Unterstützung bei der Herstellung der Zahnputzperlen freut\, werden wir gemeinsam im Nachbarschaftszentrum am Dienstag\, den 18.02.2025 von 17-19 Uhr Zähne aus Fimo modellieren.\nDie modellierten und im Ofen ausgehärteten Zähne werden direkt dem Förderkreis Bonn e.V. übergeben.  \nVorerfahrung ist nicht notwendig. Jede helfende Hand ist willkommen!  \nAnmeldung:\nVerena Di Pasquale Tortendesign\nWhatsApp: 0176/31771453  oder\nE-Mail:  tortendesign@verenadipasquale.de
URL:https://www.nachbarschaftszentrum.info/event/zahnputzperlen-aus-fimo-modellieren-helfende-haende-gesucht/
CATEGORIES:Miteinander und Mitwirken
ATTACH;FMTTYPE=image/png:https://www.nachbarschaftszentrum.info/wp-content/uploads/Fimo.png
END:VEVENT
END:VCALENDAR