BEGIN:VCALENDAR
VERSION:2.0
PRODID:-//NBB | Nachbarschaftszentrum Brüser Berg - ECPv6.15.20//NONSGML v1.0//EN
CALSCALE:GREGORIAN
METHOD:PUBLISH
X-WR-CALNAME:NBB | Nachbarschaftszentrum Brüser Berg
X-ORIGINAL-URL:https://www.nachbarschaftszentrum.info
X-WR-CALDESC:Veranstaltungen für NBB | Nachbarschaftszentrum Brüser Berg
REFRESH-INTERVAL;VALUE=DURATION:PT1H
X-Robots-Tag:noindex
X-PUBLISHED-TTL:PT1H
BEGIN:VTIMEZONE
TZID:Europe/Berlin
BEGIN:DAYLIGHT
TZOFFSETFROM:+0100
TZOFFSETTO:+0200
TZNAME:CEST
DTSTART:20230326T010000
END:DAYLIGHT
BEGIN:STANDARD
TZOFFSETFROM:+0200
TZOFFSETTO:+0100
TZNAME:CET
DTSTART:20231029T010000
END:STANDARD
BEGIN:DAYLIGHT
TZOFFSETFROM:+0100
TZOFFSETTO:+0200
TZNAME:CEST
DTSTART:20240331T010000
END:DAYLIGHT
BEGIN:STANDARD
TZOFFSETFROM:+0200
TZOFFSETTO:+0100
TZNAME:CET
DTSTART:20241027T010000
END:STANDARD
BEGIN:DAYLIGHT
TZOFFSETFROM:+0100
TZOFFSETTO:+0200
TZNAME:CEST
DTSTART:20250330T010000
END:DAYLIGHT
BEGIN:STANDARD
TZOFFSETFROM:+0200
TZOFFSETTO:+0100
TZNAME:CET
DTSTART:20251026T010000
END:STANDARD
END:VTIMEZONE
BEGIN:VEVENT
DTSTART;TZID=Europe/Berlin:20240822T100000
DTEND;TZID=Europe/Berlin:20240822T113000
DTSTAMP:20260421T175217
CREATED:20240312T105949Z
LAST-MODIFIED:20250610T100841Z
UID:10000598-1724320800-1724326200@www.nachbarschaftszentrum.info
SUMMARY:Sprechstunde - Digitalisierung
DESCRIPTION:In der Digitalsprechstunde am Donnerstag bekommen Interessierte organisatorische und technische Hilfestellung rund um die digitalen Medien und den zugehörigen Geräten wie Smartphone\, Tablet\, Laptop und PC. Smartphone\, Eigene Geräte können gerne mitgebracht werden. Drei Laptops stehen zur freien zur Verfügung bereit.\nErfahrene Anleiter werden Ihre Fragen beantworten und bei der Problemlösung helfen.\nEgon Troles und Detlef Leipelt \nAnmeldung: Nachbarschaftszentrum (NBB)
URL:https://www.nachbarschaftszentrum.info/event/pc-hilfestellung-fuer-interessierte-4/2024-08-22/
CATEGORIES:Bildung und Wissen
END:VEVENT
BEGIN:VEVENT
DTSTART;TZID=Europe/Berlin:20240822T143000
DTEND;TZID=Europe/Berlin:20240822T180000
DTSTAMP:20260421T175217
CREATED:20240312T114251Z
LAST-MODIFIED:20241021T115633Z
UID:10001018-1724337000-1724349600@www.nachbarschaftszentrum.info
SUMMARY:Bridge
DESCRIPTION:Anfänger:innen und Fortgeschrittene willkommen. \nTermine:       Klaus Heuschötter \ndonnerstags\,      14:30 – 18:00 Uhr \nRuth Mohr \nmontags\,            14:30 – 17:30 Uhr \nKosten:         2€
URL:https://www.nachbarschaftszentrum.info/event/bridge-3/2024-08-22/
CATEGORIES:Miteinander und Mitwirken
END:VEVENT
BEGIN:VEVENT
DTSTART;TZID=Europe/Berlin:20240822T150000
DTEND;TZID=Europe/Berlin:20240822T163000
DTSTAMP:20260421T175217
CREATED:20240702T132212Z
LAST-MODIFIED:20240702T132212Z
UID:10001914-1724338800-1724344200@www.nachbarschaftszentrum.info
SUMMARY:Was Sie wahrscheinlich noch nie gehört haben – Eine musikalische Reise in Wort und Ton
DESCRIPTION:Lothar A. Heinrich stellt „Merkwürdiges“ und/oder „Rares“ aus der europäischen und außereuropäischen Musik vor. Von Bayern bis Sansibar\, von Ulan Bator bis  Texas und Surinam. Die musikalische Reise wird vom Referenten mit spannenden Informationen begleitet.\nDr. Lothar Heinrich \nAnmeldung:	Nachbarschaftszentrum (NBB)
URL:https://www.nachbarschaftszentrum.info/event/was-sie-wahrscheinlich-noch-nie-gehoert-haben-eine-musikalische-reise-in-wort-und-ton/
CATEGORIES:Kunst und Kultur
END:VEVENT
BEGIN:VEVENT
DTSTART;TZID=Europe/Berlin:20240822T190000
DTEND;TZID=Europe/Berlin:20240822T200000
DTSTAMP:20260421T175217
CREATED:20240312T114058Z
LAST-MODIFIED:20240312T114058Z
UID:10000877-1724353200-1724356800@www.nachbarschaftszentrum.info
SUMMARY:Doppelkopf
DESCRIPTION:Doppelkopf nach den Regeln des Deutschen Doppelkopfverbandes. Nur für Spieler:innen mit Spielerfahrung. KEINE Anfänger:innenschulung! \nKonrad Koch \ndonnerstags\,  19:00 – 22:00 Uhr \nTermine:       jeden Donnerstag \nKosten:         keine \nAnmeldung: E-Mail: konradkoch@gmx.de
URL:https://www.nachbarschaftszentrum.info/event/doppelkopf-4/2024-08-22/
CATEGORIES:Miteinander und Mitwirken
END:VEVENT
END:VCALENDAR