BEGIN:VCALENDAR
VERSION:2.0
PRODID:-//NBB | Nachbarschaftszentrum Brüser Berg - ECPv6.15.20//NONSGML v1.0//EN
CALSCALE:GREGORIAN
METHOD:PUBLISH
X-WR-CALNAME:NBB | Nachbarschaftszentrum Brüser Berg
X-ORIGINAL-URL:https://www.nachbarschaftszentrum.info
X-WR-CALDESC:Veranstaltungen für NBB | Nachbarschaftszentrum Brüser Berg
REFRESH-INTERVAL;VALUE=DURATION:PT1H
X-Robots-Tag:noindex
X-PUBLISHED-TTL:PT1H
BEGIN:VTIMEZONE
TZID:Europe/Berlin
BEGIN:DAYLIGHT
TZOFFSETFROM:+0100
TZOFFSETTO:+0200
TZNAME:CEST
DTSTART:20230326T010000
END:DAYLIGHT
BEGIN:STANDARD
TZOFFSETFROM:+0200
TZOFFSETTO:+0100
TZNAME:CET
DTSTART:20231029T010000
END:STANDARD
BEGIN:DAYLIGHT
TZOFFSETFROM:+0100
TZOFFSETTO:+0200
TZNAME:CEST
DTSTART:20240331T010000
END:DAYLIGHT
BEGIN:STANDARD
TZOFFSETFROM:+0200
TZOFFSETTO:+0100
TZNAME:CET
DTSTART:20241027T010000
END:STANDARD
BEGIN:DAYLIGHT
TZOFFSETFROM:+0100
TZOFFSETTO:+0200
TZNAME:CEST
DTSTART:20250330T010000
END:DAYLIGHT
BEGIN:STANDARD
TZOFFSETFROM:+0200
TZOFFSETTO:+0100
TZNAME:CET
DTSTART:20251026T010000
END:STANDARD
END:VTIMEZONE
BEGIN:VEVENT
DTSTART;TZID=Europe/Berlin:20240401T180000
DTEND;TZID=Europe/Berlin:20240401T210000
DTSTAMP:20260422T004700
CREATED:20240312T113740Z
LAST-MODIFIED:20240702T130627Z
UID:10000792-1711994400-1712005200@www.nachbarschaftszentrum.info
SUMMARY:Skat – endlich mal wieder miteinander Skat spielen
DESCRIPTION:Anfänger:innen mit und ohne Vorkenntnisse und Fortgeschrittene sind herzlich willkommen! Die Regeln werden gerne erklärt! \nJanos Mayer und Klaus Wege \nmontags\,        18:00 – 21:00 Uhr \nTermine:       jeden 1. und 3. Montag im Monat \nKosten:         keine \nAnmeldung: Nachbarschaftszentrum (NBB)
URL:https://www.nachbarschaftszentrum.info/event/skat-endlich-mal-wieder-miteinander-skat-spielen-5/2024-04-01/
CATEGORIES:Miteinander und Mitwirken
END:VEVENT
END:VCALENDAR